BEGIN:VCALENDAR
VERSION:2.0
PRODID:-//vivat - ECPv4.9.14//NONSGML v1.0//EN
CALSCALE:GREGORIAN
METHOD:PUBLISH
X-WR-CALNAME:vivat
X-ORIGINAL-URL:https://vivatselvmordsforebygging.net
X-WR-CALDESC:Events for vivat
BEGIN:VTIMEZONE
TZID:Europe/Oslo
BEGIN:DAYLIGHT
TZOFFSETFROM:+0100
TZOFFSETTO:+0200
TZNAME:CEST
DTSTART:20200329T010000
END:DAYLIGHT
BEGIN:STANDARD
TZOFFSETFROM:+0200
TZOFFSETTO:+0100
TZNAME:CET
DTSTART:20201025T010000
END:STANDARD
END:VTIMEZONE
BEGIN:VEVENT
DTSTART;VALUE=DATE:20200303
DTEND;VALUE=DATE:20200305
DTSTAMP:20260424T153527
CREATED:20191211T145020Z
LAST-MODIFIED:20191211T145020Z
UID:5392-1583193600-1583366399@vivatselvmordsforebygging.net
SUMMARY:Oslo\, Førstehjelp ved selvmordsfare
DESCRIPTION:Ullern bydel arrangerer kurset Førstehjelp ved selvmordsfare. Kurset er for ansatte i bydelen\, og lukket for andre deltakere. \nKontaktperson er Maria Breistrand\, epost: maria.breistrand@nav.no \n
URL:https://vivatselvmordsforebygging.net/event/oslo-forstehjelp-ved-selvmordsfare-60/
LOCATION:Oslo\, Norge
CATEGORIES:Kurs,Førstehjelp ved selvmordsfare,Øst
GEO:60.472024;8.468946
END:VEVENT
BEGIN:VEVENT
DTSTART;VALUE=DATE:20200304
DTEND;VALUE=DATE:20200306
DTSTAMP:20260424T153527
CREATED:20200123T115219Z
LAST-MODIFIED:20200124T094749Z
UID:5597-1583280000-1583452799@vivatselvmordsforebygging.net
SUMMARY:Elverum\, Førstehjelp ved selvmordsfare
DESCRIPTION:Høgskolen i Innlandet\, Elverum kommune og Forsvaret samarbeider om å arrangere kurset Førstehjelp ved selvmordsfare. Kurset er lukket. \nKontaktperson er Unni Hågensen\, epost: unni.hagensen@elverum.kommune.no \n
URL:https://vivatselvmordsforebygging.net/event/elverum-forstehjelp-ved-selvmordsfare-4/
LOCATION:Elverum
CATEGORIES:Kurs,Førstehjelp ved selvmordsfare,Øst
END:VEVENT
BEGIN:VEVENT
DTSTART;TZID=Europe/Oslo:20200304T120000
DTEND;TZID=Europe/Oslo:20200304T153000
DTSTAMP:20260424T153527
CREATED:20200302T080649Z
LAST-MODIFIED:20200302T080649Z
UID:5790-1583323200-1583335800@vivatselvmordsforebygging.net
SUMMARY:Lofoten\, Oppmerksom på selvmordstanker
DESCRIPTION:Kurset Oppmerksom på selvmordstanker arrangeres i Lofoten. \nKontaktperson er Elin Pettersen\, epost: elin.anita.pettersen@nordlandssykehuset.no \nInvitasjon OPS Lofoten \n
URL:https://vivatselvmordsforebygging.net/event/lofoten-oppmerksom-pa-selvmordstanker/
LOCATION:Lofoten\, Norge
CATEGORIES:Kurs,Oppmerksom på selvmordstanker,Nord
END:VEVENT
END:VCALENDAR