BEGIN:VCALENDAR
VERSION:2.0
PRODID:-//vivat - ECPv4.9.14//NONSGML v1.0//EN
CALSCALE:GREGORIAN
METHOD:PUBLISH
X-WR-CALNAME:vivat
X-ORIGINAL-URL:https://vivatselvmordsforebygging.net
X-WR-CALDESC:Events for vivat
BEGIN:VTIMEZONE
TZID:Europe/Oslo
BEGIN:DAYLIGHT
TZOFFSETFROM:+0100
TZOFFSETTO:+0200
TZNAME:CEST
DTSTART:20200329T010000
END:DAYLIGHT
BEGIN:STANDARD
TZOFFSETFROM:+0200
TZOFFSETTO:+0100
TZNAME:CET
DTSTART:20201025T010000
END:STANDARD
END:VTIMEZONE
BEGIN:VEVENT
DTSTART;VALUE=DATE:20200309
DTEND;VALUE=DATE:20200311
DTSTAMP:20260424T155117
CREATED:20200211T082610Z
LAST-MODIFIED:20200211T082707Z
UID:5671-1583712000-1583884799@vivatselvmordsforebygging.net
SUMMARY:Bergen\, Førstehjelp ved selvmordsfare
DESCRIPTION:Psykisk Helse Fyllingsdalen arrangerer kurset Førstehjelp ved selvmordsfare. Kurset er lukket\, for Bergen kommune. \nPåmelding via etat for psykisk helse- og rustjenester. \nKontaktperson er Janne-Grethe Stigedal\, epost: janne-grethe.stigedal@bergen.kommune.no \n
URL:https://vivatselvmordsforebygging.net/event/bergen-forstehjelp-ved-selvmordsfare-62/
LOCATION:Bergen\, Hordaland\, 5000\, Norge
CATEGORIES:Kurs,Førstehjelp ved selvmordsfare,Vest
GEO:59.4199474;5.2725679
END:VEVENT
BEGIN:VEVENT
DTSTART;VALUE=DATE:20200310
DTEND;VALUE=DATE:20200312
DTSTAMP:20260424T155117
CREATED:20191211T145126Z
LAST-MODIFIED:20191211T145126Z
UID:5394-1583798400-1583971199@vivatselvmordsforebygging.net
SUMMARY:Oslo\, Førstehjelp ved selvmordsfare
DESCRIPTION:Ullern bydel arrangerer kurset Førstehjelp ved selvmordsfare. Kurset er for ansatte i bydelen\, og lukket for andre deltakere. \nKontaktperson er Maria Breistrand\, epost: maria.breistrand@nav.no \n
URL:https://vivatselvmordsforebygging.net/event/oslo-forstehjelp-ved-selvmordsfare-61/
LOCATION:Oslo\, Hordaland\, Norge
CATEGORIES:Kurs,Førstehjelp ved selvmordsfare,Øst
GEO:60.472024;8.468946
END:VEVENT
BEGIN:VEVENT
DTSTART;VALUE=DATE:20200310
DTEND;VALUE=DATE:20200311
DTSTAMP:20260424T155117
CREATED:20200214T115457Z
LAST-MODIFIED:20200214T115457Z
UID:5702-1583798400-1583884799@vivatselvmordsforebygging.net
SUMMARY:Trondheim\, Oppmerksom på selvmordstanker
DESCRIPTION:Nidarvoll hjemmetjeneste arrangerer kurset Oppmerksom på selvmordstanker. Kurset er lukket. \nKontaktperson er avdelingsleder Liv Anne Berge. \n
URL:https://vivatselvmordsforebygging.net/event/trondheim-oppmerksom-pa-selvmordstanker-16/
LOCATION:Trondheim\, Hordaland\, Norge
CATEGORIES:Kurs,Oppmerksom på selvmordstanker,Midt
END:VEVENT
END:VCALENDAR