BEGIN:VCALENDAR
VERSION:2.0
PRODID:-//vivat - ECPv4.9.14//NONSGML v1.0//EN
CALSCALE:GREGORIAN
METHOD:PUBLISH
X-WR-CALNAME:vivat
X-ORIGINAL-URL:https://vivatselvmordsforebygging.net
X-WR-CALDESC:Events for vivat
BEGIN:VTIMEZONE
TZID:Europe/Oslo
BEGIN:DAYLIGHT
TZOFFSETFROM:+0100
TZOFFSETTO:+0200
TZNAME:CEST
DTSTART:20200329T010000
END:DAYLIGHT
BEGIN:STANDARD
TZOFFSETFROM:+0200
TZOFFSETTO:+0100
TZNAME:CET
DTSTART:20201025T010000
END:STANDARD
END:VTIMEZONE
BEGIN:VEVENT
DTSTART;VALUE=DATE:20200415
DTEND;VALUE=DATE:20200417
DTSTAMP:20260424T141804
CREATED:20200110T125718Z
LAST-MODIFIED:20200316T135449Z
UID:5492-1586908800-1587081599@vivatselvmordsforebygging.net
SUMMARY:Avlyst: Kristiansand\, Førstehjelp ved selvmordsfare
DESCRIPTION:RVTS Sør arrangerer kurset Førstehjelp ved selvmordsfare. Kurset er åpent for alle å melde seg på. \nKontaktperson er Øyvind Dåsvatn\, epost: Oyvind.dasvatn@rvtssor.no \n
URL:https://vivatselvmordsforebygging.net/event/kristiansand-forstehjelp-ved-selvmordsfare-25/2020-04-15/
LOCATION:Kristiansand\, Kristiansand\, Vest-Agder\, 4600\, Norge
CATEGORIES:Kurs,Førstehjelp ved selvmordsfare,Sør
GEO:58.1611426;8.0307271
END:VEVENT
BEGIN:VEVENT
DTSTART;TZID=Europe/Oslo:20200416T090000
DTEND;TZID=Europe/Oslo:20200416T143000
DTSTAMP:20260424T141804
CREATED:20200107T114428Z
LAST-MODIFIED:20200312T075543Z
UID:5460-1587027600-1587047400@vivatselvmordsforebygging.net
SUMMARY:Avlyst: Gjøvik\, Oppmerksom på selvmordstanker
DESCRIPTION:Gjøvik kommune arrangerer kurset Oppmerksom på selvmordstanker. Kurset er primært for ansatte i helse og omsorg i Gjøvikregionens 5 kommuner. \nPåmelding! \nKontaktperson er Mari Aasen\, epost: mari.aasen@gjovik.kommune.no \n
URL:https://vivatselvmordsforebygging.net/event/gjovik-oppmerksom-pa-selvmordstanker/2020-04-16/
LOCATION:Gjøvik\, Vest-Agder\, 2819\, Norge
CATEGORIES:Kurs,Førstehjelp ved selvmordsfare,Øst
GEO:60.8070191;10.6709122
END:VEVENT
END:VCALENDAR