BEGIN:VCALENDAR
VERSION:2.0
PRODID:-//vivat - ECPv4.9.14//NONSGML v1.0//EN
CALSCALE:GREGORIAN
METHOD:PUBLISH
X-WR-CALNAME:vivat
X-ORIGINAL-URL:https://vivatselvmordsforebygging.net
X-WR-CALDESC:Events for vivat
BEGIN:VTIMEZONE
TZID:Europe/Oslo
BEGIN:DAYLIGHT
TZOFFSETFROM:+0100
TZOFFSETTO:+0200
TZNAME:CEST
DTSTART:20200329T010000
END:DAYLIGHT
BEGIN:STANDARD
TZOFFSETFROM:+0200
TZOFFSETTO:+0100
TZNAME:CET
DTSTART:20201025T010000
END:STANDARD
END:VTIMEZONE
BEGIN:VEVENT
DTSTART;VALUE=DATE:20201103
DTEND;VALUE=DATE:20201105
DTSTAMP:20260424T032313
CREATED:20201007T092320Z
LAST-MODIFIED:20201103T082150Z
UID:7290-1604361600-1604534399@vivatselvmordsforebygging.net
SUMMARY:Tromsø\, Førstehjelp ved selvmordsfare - AVLYST
DESCRIPTION:Dette kurset er avlyst \nKirkens SOS Nord-Hålogaland arrangerer kurs for sine frivillige. \nKurset er innvilget dispensasjon\, og er lukket for andre deltakere. \nEgenvurdering: Ved oppmøte forventes det at kursdeltaker ikke har luftveissymptomer eller  mistanke om at han/hun kan være smittet av koronaviruset. \nKontaktperson er Gry Heggås Jensen\, e-post: gry.jensen@kirkens-sos.no \n
URL:https://vivatselvmordsforebygging.net/event/tromso-forstehjelp-ved-selvmordsfare-46/
LOCATION:Tromsø\, Fiolveien 15\, Tromsø\, Troms\, 9016\, Norge
CATEGORIES:Kurs,Førstehjelp ved selvmordsfare,Nord
GEO:69.6857553;18.9930926
X-APPLE-STRUCTURED-LOCATION;VALUE=URI;X-ADDRESS=Tromsø Fiolveien 15 Tromsø Troms 9016 Norge;X-APPLE-RADIUS=500;X-TITLE=Fiolveien 15:geo:18.9930926,69.6857553
END:VEVENT
BEGIN:VEVENT
DTSTART;VALUE=DATE:20201104
DTEND;VALUE=DATE:20201105
DTSTAMP:20260424T032313
CREATED:20200928T105225Z
LAST-MODIFIED:20201030T115532Z
UID:7123-1604448000-1604534399@vivatselvmordsforebygging.net
SUMMARY:Gjøvik\, Oppmerksom på selvmordstanker - AVLYST
DESCRIPTION:Dette kurset er avlyst! \nRegionalt kompetansesamarbeid i Gjøvikregionen arrangerer kurset Oppmerksom på selvmordstanker. \nKurset er for ansatte i helse og omsorg i Gjøvikregionen\, og lukket for andre deltakere. \nDet er innvilget dispensasjon. \nEgenvurdering: Ved oppmøte forventes det at kursdeltaker ikke har luftveissymptomer eller  mistanke om at han/hun kan være smittet av koronaviruset. \nKontaktperson er Mari Aasen\, e-post: mari.aasen@gjovik.kommune.no \n  \n
URL:https://vivatselvmordsforebygging.net/event/gjovik-oppmerksom-pa-selvmordstanker-2/
LOCATION:Gjøvik\, Troms\, 2819\, Norge
CATEGORIES:Kurs,Oppmerksom på selvmordstanker,Øst
GEO:60.8070191;10.6709122
END:VEVENT
END:VCALENDAR