BEGIN:VCALENDAR
VERSION:2.0
PRODID:-//vivat - ECPv4.9.14//NONSGML v1.0//EN
CALSCALE:GREGORIAN
METHOD:PUBLISH
X-WR-CALNAME:vivat
X-ORIGINAL-URL:https://vivatselvmordsforebygging.net
X-WR-CALDESC:Events for vivat
BEGIN:VTIMEZONE
TZID:Europe/Oslo
BEGIN:DAYLIGHT
TZOFFSETFROM:+0100
TZOFFSETTO:+0200
TZNAME:CEST
DTSTART:20200329T010000
END:DAYLIGHT
BEGIN:STANDARD
TZOFFSETFROM:+0200
TZOFFSETTO:+0100
TZNAME:CET
DTSTART:20201025T010000
END:STANDARD
END:VTIMEZONE
BEGIN:VEVENT
DTSTART;VALUE=DATE:20201123
DTEND;VALUE=DATE:20201125
DTSTAMP:20260424T032328
CREATED:20201009T115541Z
LAST-MODIFIED:20201106T140456Z
UID:7314-1606089600-1606262399@vivatselvmordsforebygging.net
SUMMARY:Oslo\, Førstehjelp ved selvmordsfare AVLYST
DESCRIPTION:Dette kurset er avlyst grunnet den pågående koronasituasjonen. \nVID Vitenskapelige høgskole arrangerer kurset Førstehjelp ved selvmordsfare. \nKurset er for studenter\, og er lukket for andre deltakere. \nKontaktperson er Elisabeth Nilsen Aas\, e-post: elisabeth.nilsen.aas@vid.no \nEgenvurdering: Ved oppmøte forventes det at kursdeltaker ikke har luftveissymptomer eller  mistanke om at han/hun kan være smittet av koronaviruset. \nKurset er innvilget dispensasjon. \n
URL:https://vivatselvmordsforebygging.net/event/oslo-forstehjelp-ved-selvmordsfare-76/
LOCATION:Oslo\, Norge
CATEGORIES:Kurs,Førstehjelp ved selvmordsfare,Øst
GEO:60.472024;8.468946
END:VEVENT
BEGIN:VEVENT
DTSTART;VALUE=DATE:20201123
DTEND;VALUE=DATE:20201125
DTSTAMP:20260424T032328
CREATED:20201013T081345Z
LAST-MODIFIED:20201118T111254Z
UID:7322-1606089600-1606262399@vivatselvmordsforebygging.net
SUMMARY:Trondheim\, Førstehjelp ved selvmordsfare - AVLYST
DESCRIPTION:Dette kurset er avlyst grunnet den pågående koronasituasjonen. \nRVTS Midt arrangerer kurset Førstehjelp ved selvmordsfare. \nKurset er åpent for alle å melde seg på. Påmeldingslink \nPris: 500 kroner (inkluderer kaffe og te\, lunsj kan kjøpes i kantine) \nKontaktperson er Rune Nilsen\, epost: runeonilsen@gmail.com \nEgenvurdering: Ved oppmøte forventes det at kursdeltaker ikke har luftveissymptomer eller  mistanke om at han/hun kan være smittet av koronaviruset. \nKurset er innvilget dispensasjon. \n  \n
URL:https://vivatselvmordsforebygging.net/event/trondheim-forstehjelp-ved-selvmordsfare-47/
LOCATION:RVTS Midt\, Prinsens gate 1A (Statens hus)\, Trondheim\, Trondheim\, 7013\, Norge
CATEGORIES:Kurs,Førstehjelp ved selvmordsfare,Midt,Åpent/delvis åpent kurs
GEO:63.4237111;10.3896038
X-APPLE-STRUCTURED-LOCATION;VALUE=URI;X-ADDRESS=RVTS Midt Prinsens gate 1A (Statens hus) Trondheim Trondheim 7013 Norge;X-APPLE-RADIUS=500;X-TITLE=Prinsens gate 1A (Statens hus):geo:10.3896038,63.4237111
END:VEVENT
BEGIN:VEVENT
DTSTART;VALUE=DATE:20201123
DTEND;VALUE=DATE:20201125
DTSTAMP:20260424T032328
CREATED:20201103T133402Z
LAST-MODIFIED:20201113T105056Z
UID:7347-1606089600-1606262399@vivatselvmordsforebygging.net
SUMMARY:Bodø\, Førstehjelp ved selvmordsfare AVLYST
DESCRIPTION:Dette kurset er avlyst grunnet den pågående koronasituasjonen. \nKurset Førstehjelp ved selvmordsfare arrangeres av Bodø Kommune\, Psykisk helse- og rustjenesten. \nKurset er lukket. \nKontaktperson er Torunn Blokhus\, epost: torunn.blokhus@sbnett.no \nEgenvurdering: Ved oppmøte forventes det at kursdeltaker ikke har luftveissymptomer eller  mistanke om at han/hun kan være smittet av koronaviruset. \n  \n
URL:https://vivatselvmordsforebygging.net/event/bodo-forstehjelp-ved-selvmordsfare-14/
LOCATION:Bodø\, Nordland\, 8000\, Norge
CATEGORIES:Kurs,Førstehjelp ved selvmordsfare,Nord,Lukket kurs
GEO:59.9768021;10.3213481
END:VEVENT
END:VCALENDAR