BEGIN:VCALENDAR
VERSION:2.0
PRODID:-//vivat - ECPv4.9.14//NONSGML v1.0//EN
CALSCALE:GREGORIAN
METHOD:PUBLISH
X-WR-CALNAME:vivat
X-ORIGINAL-URL:https://vivatselvmordsforebygging.net
X-WR-CALDESC:Events for vivat
BEGIN:VTIMEZONE
TZID:Europe/Oslo
BEGIN:DAYLIGHT
TZOFFSETFROM:+0100
TZOFFSETTO:+0200
TZNAME:CEST
DTSTART:20210328T010000
END:DAYLIGHT
BEGIN:STANDARD
TZOFFSETFROM:+0200
TZOFFSETTO:+0100
TZNAME:CET
DTSTART:20211031T010000
END:STANDARD
END:VTIMEZONE
BEGIN:VEVENT
DTSTART;VALUE=DATE:20210607
DTEND;VALUE=DATE:20210609
DTSTAMP:20260423T173612
CREATED:20210528T101624Z
LAST-MODIFIED:20210528T101624Z
UID:7657-1623024000-1623196799@vivatselvmordsforebygging.net
SUMMARY:Tromsø\, Førstehjelp ved selvmordsfare
DESCRIPTION:Tromsø kommune arrangerer kurset Førstehjelp ved selvmordsfare. \nKurset er for ansatte i kommunen\, og lukket for andre deltakere. \nKontaktperson er Arja Mubanga-Bjørn\, epost: Arja.Bjorn@tromso.kommune.no \nDeltakelse på kurs forutsetter at deltakerne ikke har luftveissymptomer eller er i hjemmeisolering eller karantene. \n
URL:https://vivatselvmordsforebygging.net/event/tromso-forstehjelp-ved-selvmordsfare-54/
LOCATION:Tromsø\, Norge
CATEGORIES:Kurs,Førstehjelp ved selvmordsfare,Nord,Lukket kurs
GEO:60.472024;8.468946
END:VEVENT
BEGIN:VEVENT
DTSTART;VALUE=DATE:20210608
DTEND;VALUE=DATE:20210609
DTSTAMP:20260423T173612
CREATED:20210531T084420Z
LAST-MODIFIED:20210531T085219Z
UID:7702-1623110400-1623196799@vivatselvmordsforebygging.net
SUMMARY:Online pilotering: RESPONS - å svare på selvmordstanker
DESCRIPTION:Vivat selvmordsforebygging piloterer onlinekurset Respons – å svare på selvmordstanker. \nKurset gir en introduksjon til hvordan du kan gi innledende hjelp ved bekymring for selvmordstanker. Kurset benytter varierte læringsmetoder og er interaktivt. \nVarighet: 2\,5 timer. \nKurset piloteres på Mental Helse frivillige. \nKurset er lukket. \nKontaktperson er Lena Wøhni\, epost:lena.wohni@unn.no \n
URL:https://vivatselvmordsforebygging.net/event/online-pilotering-respons-a-svare-pa-selvmordtsanker/
LOCATION:Online\, Norge
CATEGORIES:Kurs,Lukket kurs,Respons - å svare på selvmordstanker,Pilot
GEO:60.472024;8.468946
END:VEVENT
END:VCALENDAR