BEGIN:VCALENDAR
VERSION:2.0
PRODID:-//vivat - ECPv4.9.14//NONSGML v1.0//EN
CALSCALE:GREGORIAN
METHOD:PUBLISH
X-WR-CALNAME:vivat
X-ORIGINAL-URL:https://vivatselvmordsforebygging.net
X-WR-CALDESC:Events for vivat
BEGIN:VTIMEZONE
TZID:Europe/Oslo
BEGIN:DAYLIGHT
TZOFFSETFROM:+0100
TZOFFSETTO:+0200
TZNAME:CEST
DTSTART:20210328T010000
END:DAYLIGHT
BEGIN:STANDARD
TZOFFSETFROM:+0200
TZOFFSETTO:+0100
TZNAME:CET
DTSTART:20211031T010000
END:STANDARD
END:VTIMEZONE
BEGIN:VEVENT
DTSTART;VALUE=DATE:20210617
DTEND;VALUE=DATE:20210618
DTSTAMP:20260423T174205
CREATED:20210531T084742Z
LAST-MODIFIED:20210531T085450Z
UID:7706-1623888000-1623974399@vivatselvmordsforebygging.net
SUMMARY:Online pilotering: RESPONS - å svare på selvmordstanker
DESCRIPTION:Vivat selvmordsforebygging piloterer onlinekurset Respons – å svare på selvmordstanker. \nKurset gir en introduksjon til hvordan du kan gi innledende hjelp ved bekymring for selvmordstanker. Kurset benytter varierte læringsmetoder og er interaktivt. \nVarighet: 2\,5 timer. \nKurset piloteres hos Ullensaker kommune. \nKurset er lukket. \nKontaktperson er Lena Wøhni\, epost:lena.wohni@unn.no \n
URL:https://vivatselvmordsforebygging.net/event/online-pilotering-respons-a-svare-pa-selvmordstanker-3/
LOCATION:Online\, Norge
CATEGORIES:Kurs,Lukket kurs,Respons - å svare på selvmordstanker,Pilot
GEO:60.472024;8.468946
END:VEVENT
BEGIN:VEVENT
DTSTART;VALUE=DATE:20210617
DTEND;VALUE=DATE:20210619
DTSTAMP:20260423T174205
CREATED:20210610T125248Z
LAST-MODIFIED:20210610T125248Z
UID:7731-1623888000-1624060799@vivatselvmordsforebygging.net
SUMMARY:Oslo\, Førstehjelp ved selvmordsfare
DESCRIPTION:Kurset Førstehjelp ved selvmordsfare arrangeres i Oslo. \nKurset er for Landsforeningen for barnevernsbarn\, og er lukket for andre deltakere. \nKontaktperson er Siw Rylander\, epost: rylander.siw@gmail.com \nDeltakelse på kurs forutsetter at deltakerne ikke har luftveissymptomer eller er i hjemmeisolering eller karantene. \n  \n  \n
URL:https://vivatselvmordsforebygging.net/event/oslo-forstehjelp-ved-selvmordsfare-75/
LOCATION:Oslo\, Norge
CATEGORIES:Kurs,Førstehjelp ved selvmordsfare,Øst,Lukket kurs
GEO:60.472024;8.468946
END:VEVENT
BEGIN:VEVENT
DTSTART;VALUE=DATE:20210617
DTEND;VALUE=DATE:20210618
DTSTAMP:20260423T174205
CREATED:20210614T074009Z
LAST-MODIFIED:20210614T074009Z
UID:7736-1623888000-1623974399@vivatselvmordsforebygging.net
SUMMARY:Sessvollmoen\, Oppmerksom på selvmordstanker
DESCRIPTION:Forsvaret arrangerer kurset Oppmerksom på selvmordstanker\, på Sessvollmoen leir. \nKurset er for ansatte\, og lukket for andre deltakere. \nKontaktperson er Lars Erichsen\, epost: laerichsen@mil.no \nDeltakelse på kurs forutsetter at deltakerne ikke har luftveissymptomer eller er i hjemmeisolering eller karantene. \n  \n
URL:https://vivatselvmordsforebygging.net/event/sessvollmoen-oppmerksom-pa-selvmordstanker-3/
LOCATION:Sessvollmoen\, 2058\, Norge
CATEGORIES:Kurs,Oppmerksom på selvmordstanker,Øst,Lukket kurs
GEO:35.0204237;-97.9727427
END:VEVENT
END:VCALENDAR