BEGIN:VCALENDAR
VERSION:2.0
PRODID:-//vivat - ECPv4.9.14//NONSGML v1.0//EN
CALSCALE:GREGORIAN
METHOD:PUBLISH
X-WR-CALNAME:vivat
X-ORIGINAL-URL:https://vivatselvmordsforebygging.net
X-WR-CALDESC:Events for vivat
BEGIN:VTIMEZONE
TZID:Europe/Oslo
BEGIN:DAYLIGHT
TZOFFSETFROM:+0100
TZOFFSETTO:+0200
TZNAME:CEST
DTSTART:20210328T010000
END:DAYLIGHT
BEGIN:STANDARD
TZOFFSETFROM:+0200
TZOFFSETTO:+0100
TZNAME:CET
DTSTART:20211031T010000
END:STANDARD
END:VTIMEZONE
BEGIN:VEVENT
DTSTART;VALUE=DATE:20210914
DTEND;VALUE=DATE:20210916
DTSTAMP:20260423T150641
CREATED:20210816T110551Z
LAST-MODIFIED:20210816T110551Z
UID:7912-1631577600-1631750399@vivatselvmordsforebygging.net
SUMMARY:Mosjøen\, Førstehjelp ved selvmordsfare
DESCRIPTION:Studiesenteret RKK Vefsn arrangerer kurset Førstehjelp ved selvmordsfare. \nKurset er lukket. \nKontaktperson er Torunn Blokhus\, epost: torunn.blokhus@sbnett.no \nDeltakelse på kurs forutsetter at deltakerne ikke har luftveissymptomer eller er i hjemmeisolering eller karantene. \n
URL:https://vivatselvmordsforebygging.net/event/mosjoen-forstehjelp-ved-selvmordsfare-2/
LOCATION:Mosjøen
CATEGORIES:Kurs,Førstehjelp ved selvmordsfare,Nord,Lukket kurs
END:VEVENT
BEGIN:VEVENT
DTSTART;VALUE=DATE:20210914
DTEND;VALUE=DATE:20210916
DTSTAMP:20260423T150641
CREATED:20210816T114017Z
LAST-MODIFIED:20210816T114017Z
UID:7916-1631577600-1631750399@vivatselvmordsforebygging.net
SUMMARY:Bergen\, Førstehjelp ved selvmordsfare
DESCRIPTION:Bergen kommune\, Oppfølgingstjenesten sentrum arrangerer kurset Førstehjelp ved selvmordsfare. \nKurset er lukket for andre deltakere. \nKontaktperson er Renathe Kjenes-Nyborg\, epost: Renate.Kjenes-Nyborg@bergen.kommune.no \nDeltakelse på kurs forutsetter at deltakerne ikke har luftveissymptomer eller er i hjemmeisolering eller karantene. \n
URL:https://vivatselvmordsforebygging.net/event/bergen-forstehjelp-ved-selvmordsfare-73/
LOCATION:Bergen\, Hordaland\, 5000\, Norge
CATEGORIES:Kurs,Førstehjelp ved selvmordsfare,Vest,Lukket kurs
GEO:59.4199474;5.2725679
END:VEVENT
BEGIN:VEVENT
DTSTART;VALUE=DATE:20210914
DTEND;VALUE=DATE:20210916
DTSTAMP:20260423T150641
CREATED:20210827T080136Z
LAST-MODIFIED:20210827T080136Z
UID:8032-1631577600-1631750399@vivatselvmordsforebygging.net
SUMMARY:Årnes\, Førstehjelp ved selvmordsfare
DESCRIPTION:Stiftelsen Milepælen arrangerer kurset Førstehjelp ved selvmordsfare. \nKurset er lukket. \nKontaktperson er Kjell Ivar Lund\, epost: kjell.ivar.lund@milepaelen.no \nDeltakelse på kurs forutsetter at deltakerne ikke har luftveissymptomer eller er i hjemmeisolering eller karantene. \n
URL:https://vivatselvmordsforebygging.net/event/arnes-forstehjelp-ved-selvmordsfare-2/
LOCATION:Årnes\, Norge
CATEGORIES:Kurs,Førstehjelp ved selvmordsfare,Øst,Lukket kurs
GEO:60.472024;8.468946
END:VEVENT
BEGIN:VEVENT
DTSTART;VALUE=DATE:20210915
DTEND;VALUE=DATE:20210917
DTSTAMP:20260423T150641
CREATED:20210819T112808Z
LAST-MODIFIED:20210826T080616Z
UID:7964-1631664000-1631836799@vivatselvmordsforebygging.net
SUMMARY:Kristiansand\, Førstehjelp ved selvmordsfare
DESCRIPTION:RVTS Sør arrangerer kurset Førstehjelp ved selvmordsfare for ansatte i alarmtelefonen for barn og unge\, Kristiansand kommune. \nKurset er lukket. \nKontaktperson er Øyvind Dåsvatn\, epost: oyvind.dasvatn@rvtssor.no \nDeltakelse på kurs forutsetter at deltakerne ikke har luftveissymptomer eller er i hjemmeisolering eller karantene. \n  \n
URL:https://vivatselvmordsforebygging.net/event/kristiansand-forstehjelp-ved-selvmordsfare-30/
LOCATION:Kristiansand\, Kristiansand\, Vest-Agder\, 4600\, Norge
CATEGORIES:Kurs,Førstehjelp ved selvmordsfare,Sør,Lukket kurs
GEO:58.1611426;8.0307271
END:VEVENT
BEGIN:VEVENT
DTSTART;VALUE=DATE:20210915
DTEND;VALUE=DATE:20210916
DTSTAMP:20260423T150641
CREATED:20210831T115632Z
LAST-MODIFIED:20210831T115632Z
UID:8043-1631664000-1631750399@vivatselvmordsforebygging.net
SUMMARY:Stavanger\, Oppmerksom på selvmordstanker
DESCRIPTION:Sjøforsvaret arrangerer kurset Oppmerksom på selvmordstanker. \nKurset er for personell\, og lukket for andre deltakere. \nKontaktperson er Asle Tveit\, epost: prest@kystvakten.no \nDeltakelse på kurs forutsetter at deltakerne ikke har luftveissymptomer eller er i hjemmeisolering eller karantene. \n
URL:https://vivatselvmordsforebygging.net/event/stavanger-oppmerksom-pa-selvmordstanker-5/
LOCATION:Stavanger\, Rogaland\, 4000\, Norge
CATEGORIES:Kurs,Oppmerksom på selvmordstanker,Vest,Lukket kurs
GEO:58.9562814;5.7377252
END:VEVENT
END:VCALENDAR