BEGIN:VCALENDAR
VERSION:2.0
PRODID:-//vivat - ECPv4.9.14//NONSGML v1.0//EN
CALSCALE:GREGORIAN
METHOD:PUBLISH
X-WR-CALNAME:vivat
X-ORIGINAL-URL:https://vivatselvmordsforebygging.net
X-WR-CALDESC:Events for vivat
BEGIN:VTIMEZONE
TZID:Europe/Oslo
BEGIN:DAYLIGHT
TZOFFSETFROM:+0100
TZOFFSETTO:+0200
TZNAME:CEST
DTSTART:20210328T010000
END:DAYLIGHT
BEGIN:STANDARD
TZOFFSETFROM:+0200
TZOFFSETTO:+0100
TZNAME:CET
DTSTART:20211031T010000
END:STANDARD
END:VTIMEZONE
BEGIN:VEVENT
DTSTART;VALUE=DATE:20210920
DTEND;VALUE=DATE:20210925
DTSTAMP:20260423T134309
CREATED:20210528T133128Z
LAST-MODIFIED:20210628T112219Z
UID:7683-1632096000-1632527999@vivatselvmordsforebygging.net
SUMMARY:Kurslederkurs Førstehjelp ved selvmordsfare
DESCRIPTION:Vivat arrangerer kurslederkurs i Førstehjelp ved selvmordsfare. \nSøknadsfristen for dette kurset er gått ut. \nKurslederkurs Førstehjelp ved selvmordsfare Informasjon og søknadsskjema \n
URL:https://vivatselvmordsforebygging.net/event/kurslederkurs-forstehjelp-ved-selvmordsfare/
LOCATION:Hell\, Trøndelag\, Norge
CATEGORIES:Kurs,Førstehjelp ved selvmordsfare,Kurslederkurs
END:VEVENT
BEGIN:VEVENT
DTSTART;VALUE=DATE:20210922
DTEND;VALUE=DATE:20210924
DTSTAMP:20260423T134309
CREATED:20210629T130634Z
LAST-MODIFIED:20210629T130634Z
UID:7834-1632268800-1632441599@vivatselvmordsforebygging.net
SUMMARY:Oslo\, Førstehjelp ved selvmordsfare
DESCRIPTION:Mental Helse Hjelpetelefon arrangerer kurset Førstehjelp ved selvmordsfare. \nKurset er for ansatte\, og lukket for andre deltakere. \nKontaktperson er Aslaug Timland Dale\, epost: aslaug.timland.dale@mentalhelse.no \nDeltakelse på kurs forutsetter at deltakerne ikke har luftveissymptomer eller er i hjemmeisolering eller karantene. \n
URL:https://vivatselvmordsforebygging.net/event/oslo-forstehjelp-ved-selvmordsfare-78/
LOCATION:Oslo\, Trøndelag\, Norge
CATEGORIES:Kurs,Førstehjelp ved selvmordsfare,Øst,Lukket kurs
GEO:60.472024;8.468946
END:VEVENT
BEGIN:VEVENT
DTSTART;VALUE=DATE:20210922
DTEND;VALUE=DATE:20210924
DTSTAMP:20260423T134309
CREATED:20210818T134832Z
LAST-MODIFIED:20210902T084114Z
UID:7956-1632268800-1632441599@vivatselvmordsforebygging.net
SUMMARY:Lillestrøm\, Førstehjelp ved selvmordsfare
DESCRIPTION:Kriminalomsorgens Høgskole og utdanningssenter (KRUS) arrangerer kurset Førstehjelp ved selvmordsfare. \nKurset er for aspiranter ved studiet. \nDet kjøres 3 parallelle kurs. \nKursene er lukket. \nKontaktperson er Vidar Skogvoll\, epost: vidar.skogvoll@krus.no \nDeltakelse på kurs forutsetter at deltakerne ikke har luftveissymptomer eller er i hjemmeisolering eller karantene. \n  \n
URL:https://vivatselvmordsforebygging.net/event/lillestrom-forstehjelp-ved-selvmordsfare-4/
LOCATION:Lillestrøm\, Trøndelag
CATEGORIES:Kurs,Førstehjelp ved selvmordsfare,Øst,Lukket kurs
END:VEVENT
BEGIN:VEVENT
DTSTART;VALUE=DATE:20210923
DTEND;VALUE=DATE:20210924
DTSTAMP:20260423T134309
CREATED:20210623T114836Z
LAST-MODIFIED:20210623T114836Z
UID:7793-1632355200-1632441599@vivatselvmordsforebygging.net
SUMMARY:Saltdal\, Oppmerksom på selvmordstanker
DESCRIPTION:Kurset Oppmerksom på selvmordstanker arrangeres i Saltdal\, på Rognan videregående skole. \nDette kurset arrangeres i forbindelse med Nordland fylkeskommune sitt arbeid med Nullvisjon mot selvmord. \nKurset er for ansatte ved skolen\, og lukket for andre deltakere. \nDeltakelse på kurs forutsetter at deltakerne ikke har luftveissymptomer eller er i hjemmeisolering eller karantene. \n
URL:https://vivatselvmordsforebygging.net/event/saltdal-oppmerksom-pa-selvmordstanker/
LOCATION:Saltdal\, Trøndelag\, Norge
CATEGORIES:Kurs,Oppmerksom på selvmordstanker,Nord,Lukket kurs
GEO:60.472024;8.468946
END:VEVENT
BEGIN:VEVENT
DTSTART;VALUE=DATE:20210923
DTEND;VALUE=DATE:20210924
DTSTAMP:20260423T134309
CREATED:20210623T115304Z
LAST-MODIFIED:20210623T115304Z
UID:7796-1632355200-1632441599@vivatselvmordsforebygging.net
SUMMARY:Meløy\, Oppmerksom på selvmordstanker
DESCRIPTION:Kurset Oppmerksom på selvmordstanker arrangeres i Meløy\, på Meløy videregående skole\, avd. Inndyr. \nDette kurset arrangeres i forbindelse med Nordland fylkeskommune sitt arbeid med Nullvisjon mot selvmord. \nKurset er for ansatte ved skolen\, og lukket for andre deltakere. \nDeltakelse på kurs forutsetter at deltakerne ikke har luftveissymptomer eller er i hjemmeisolering eller karantene. \n
URL:https://vivatselvmordsforebygging.net/event/meloy-oppmerksom-pa-selvmordstanker/
LOCATION:Inndyr\, Trøndelag\, Norge
CATEGORIES:Kurs,Oppmerksom på selvmordstanker,Nord,Lukket kurs
GEO:60.472024;8.468946
END:VEVENT
BEGIN:VEVENT
DTSTART;VALUE=DATE:20210923
DTEND;VALUE=DATE:20210924
DTSTAMP:20260423T134309
CREATED:20210823T101053Z
LAST-MODIFIED:20210823T101053Z
UID:7966-1632355200-1632441599@vivatselvmordsforebygging.net
SUMMARY:Lakselv\, Oppmerksom på selvmordstanker
DESCRIPTION:Kurset Oppmerksom på selvmordstanker arrangeres ved Lakselv videregående skole. \nKurset arrangeres i regi av prosjektsamarbeidet “OPS! i videregående”. Kurset er lukket. \nKontaktperson er Anneli Naukarinnen\, epost: annelinau@gmail.com \nDeltakelse på kurs forutsetter at deltakerne ikke har luftveissymptomer eller er i hjemmeisolering eller karantene. \n
URL:https://vivatselvmordsforebygging.net/event/lakselv-oppmerksom-pa-selvmordstanker-4/
LOCATION:Lakselv\, Trøndelag\, Norge
CATEGORIES:Kurs,Oppmerksom på selvmordstanker,Nord,Lukket kurs
GEO:60.472024;8.468946
END:VEVENT
BEGIN:VEVENT
DTSTART;VALUE=DATE:20210923
DTEND;VALUE=DATE:20210924
DTSTAMP:20260423T134309
CREATED:20210914T131310Z
LAST-MODIFIED:20210914T131310Z
UID:8100-1632355200-1632441599@vivatselvmordsforebygging.net
SUMMARY:Bergen\, Oppmerksom på selvmordstanker
DESCRIPTION:Marinen arrangerer kurset Oppmerksom på selvmordstanker. \nKurset er lukket for andre deltakere. \nKontaktperson er f. Theodor Svane\, epost: tsvane@mil.no \nDeltakelse på kurs forutsetter at deltakerne ikke har luftveissymptomer eller er i hjemmeisolering eller karantene. \n
URL:https://vivatselvmordsforebygging.net/event/bergen-oppmerksom-pa-selvmordstanker-21/
LOCATION:Bergen\, Hordaland\, 5000\, Norge
CATEGORIES:Kurs,Oppmerksom på selvmordstanker,Vest,Lukket kurs
GEO:59.4199474;5.2725679
END:VEVENT
END:VCALENDAR