BEGIN:VCALENDAR
VERSION:2.0
PRODID:-//vivat - ECPv4.9.14//NONSGML v1.0//EN
CALSCALE:GREGORIAN
METHOD:PUBLISH
X-WR-CALNAME:vivat
X-ORIGINAL-URL:https://vivatselvmordsforebygging.net
X-WR-CALDESC:Events for vivat
BEGIN:VTIMEZONE
TZID:Europe/Oslo
BEGIN:DAYLIGHT
TZOFFSETFROM:+0100
TZOFFSETTO:+0200
TZNAME:CEST
DTSTART:20210328T010000
END:DAYLIGHT
BEGIN:STANDARD
TZOFFSETFROM:+0200
TZOFFSETTO:+0100
TZNAME:CET
DTSTART:20211031T010000
END:STANDARD
END:VTIMEZONE
BEGIN:VEVENT
DTSTART;VALUE=DATE:20210929
DTEND;VALUE=DATE:20211001
DTSTAMP:20260423T122548
CREATED:20210819T112438Z
LAST-MODIFIED:20210826T080756Z
UID:7960-1632873600-1633046399@vivatselvmordsforebygging.net
SUMMARY:Kristiansand\, Førstehjelp ved selvmordsfare
DESCRIPTION:RVTS Sør arrangerer kurset Førstehjelp ved selvmordsfare for “ROM Råd og muligheter Agder”. \nKurset er en del av kvalifiseringsprogram for erfaringskontakter\, og er lukket for andre deltakere. \nKontaktperson er Øyvind Dåsvatn\, epost: oyvind.dasvatn@rvtssor.no \nDeltakelse på kurs forutsetter at deltakerne ikke har luftveissymptomer eller er i hjemmeisolering eller karantene. \n
URL:https://vivatselvmordsforebygging.net/event/kristiansand-forstehjelp-ved-selvmordsfare-29/
LOCATION:Kristiansand\, Kristiansand\, Vest-Agder\, 4600\, Norge
CATEGORIES:Kurs,Førstehjelp ved selvmordsfare,Sør,Lukket kurs
GEO:58.1611426;8.0307271
END:VEVENT
BEGIN:VEVENT
DTSTART;VALUE=DATE:20210929
DTEND;VALUE=DATE:20210930
DTSTAMP:20260423T122548
CREATED:20210826T073636Z
LAST-MODIFIED:20210826T073636Z
UID:7996-1632873600-1632959999@vivatselvmordsforebygging.net
SUMMARY:Sortland\, Oppmerksom på selvmordstanker
DESCRIPTION:Kystvakten arrangerer kurset Oppmerksom på selvmordstanker. \nKurset for personell i Kystvakten\, og lukket for andre deltakere. \nKontaktperson er Asle Tveit\, epost: prest@kystvakten.no \nDeltakelse på kurs forutsetter at deltakerne ikke har luftveissymptomer eller er i hjemmeisolering eller karantene. \n
URL:https://vivatselvmordsforebygging.net/event/sortland-oppmerksom-pa-selvmordstanker-14/
LOCATION:Sortland\, Vest-Agder\, Norge
CATEGORIES:Kurs,Oppmerksom på selvmordstanker,Nord,Lukket kurs
END:VEVENT
BEGIN:VEVENT
DTSTART;VALUE=DATE:20210929
DTEND;VALUE=DATE:20210930
DTSTAMP:20260423T122548
CREATED:20210910T135350Z
LAST-MODIFIED:20210910T135350Z
UID:8078-1632873600-1632959999@vivatselvmordsforebygging.net
SUMMARY:Oslo\, Oppmerksom på selvmordstanker
DESCRIPTION:Forsvaret arrangerer kurset Oppmerksom på selvmordstanker. \nKurset er lukket for andre deltakere. \nKontaktperson er Silje Randers\, epost: sranders@mil.no \nDeltakelse på kurs forutsetter at deltakerne ikke har luftveissymptomer eller er i hjemmeisolering eller karantene. \n
URL:https://vivatselvmordsforebygging.net/event/oslo-oppmerksom-pa-selvmordstanker-25/
LOCATION:Oslo\, Vest-Agder\, Norge
CATEGORIES:Kurs,Oppmerksom på selvmordstanker,Øst,Lukket kurs
END:VEVENT
BEGIN:VEVENT
DTSTART;VALUE=DATE:20210929
DTEND;VALUE=DATE:20210930
DTSTAMP:20260423T122548
CREATED:20210916T110447Z
LAST-MODIFIED:20210916T110447Z
UID:8133-1632873600-1632959999@vivatselvmordsforebygging.net
SUMMARY:Gardermoen\, Oppmerksom på selvmordstanker
DESCRIPTION:Forsvaret arrangerer kurset Oppmerksom på selvmordstanker. \nKurset er for pårørendekontakter i Forsvaret\, og lukket for andre deltakere. \nKontaktperson er Adelheid Skredlund\, epost: adskredlund@mil.no \nDeltakelse på kurs forutsetter at deltakerne ikke har luftveissymptomer eller er i hjemmeisolering eller karantene. \n
URL:https://vivatselvmordsforebygging.net/event/gardermoen-oppmerksom-pa-selvmordstanker-3/
LOCATION:Gardermoen\, Vest-Agder
CATEGORIES:Kurs,Oppmerksom på selvmordstanker,Øst
END:VEVENT
END:VCALENDAR