BEGIN:VCALENDAR
VERSION:2.0
PRODID:-//vivat - ECPv4.9.14//NONSGML v1.0//EN
CALSCALE:GREGORIAN
METHOD:PUBLISH
X-WR-CALNAME:vivat
X-ORIGINAL-URL:https://vivatselvmordsforebygging.net
X-WR-CALDESC:Events for vivat
BEGIN:VTIMEZONE
TZID:Europe/Oslo
BEGIN:DAYLIGHT
TZOFFSETFROM:+0100
TZOFFSETTO:+0200
TZNAME:CEST
DTSTART:20210328T010000
END:DAYLIGHT
BEGIN:STANDARD
TZOFFSETFROM:+0200
TZOFFSETTO:+0100
TZNAME:CET
DTSTART:20211031T010000
END:STANDARD
END:VTIMEZONE
BEGIN:VEVENT
DTSTART;VALUE=DATE:20210929
DTEND;VALUE=DATE:20211001
DTSTAMP:20260423T122646
CREATED:20210819T112438Z
LAST-MODIFIED:20210826T080756Z
UID:7960-1632873600-1633046399@vivatselvmordsforebygging.net
SUMMARY:Kristiansand\, Førstehjelp ved selvmordsfare
DESCRIPTION:RVTS Sør arrangerer kurset Førstehjelp ved selvmordsfare for “ROM Råd og muligheter Agder”. \nKurset er en del av kvalifiseringsprogram for erfaringskontakter\, og er lukket for andre deltakere. \nKontaktperson er Øyvind Dåsvatn\, epost: oyvind.dasvatn@rvtssor.no \nDeltakelse på kurs forutsetter at deltakerne ikke har luftveissymptomer eller er i hjemmeisolering eller karantene. \n
URL:https://vivatselvmordsforebygging.net/event/kristiansand-forstehjelp-ved-selvmordsfare-29/
LOCATION:Kristiansand\, Kristiansand\, Vest-Agder\, 4600\, Norge
CATEGORIES:Kurs,Førstehjelp ved selvmordsfare,Sør,Lukket kurs
GEO:58.1611426;8.0307271
END:VEVENT
BEGIN:VEVENT
DTSTART;VALUE=DATE:20210930
DTEND;VALUE=DATE:20211001
DTSTAMP:20260423T122646
CREATED:20210623T120151Z
LAST-MODIFIED:20210623T120658Z
UID:7799-1632960000-1633046399@vivatselvmordsforebygging.net
SUMMARY:Fauske\, Oppmerksom på selvmordstanker
DESCRIPTION:Kurset Oppmerksom på selvmordstanker arrangeres på Fauske\, ved Fauske videregående skole. \nDet arrangeres to kurs ved skolen. \nDisse kursene arrangeres i forbindelse med Nordland fylkeskommune sitt arbeid med Nullvisjon mot selvmord. \nKursene er for ansatte ved skolen\, og lukket for andre deltakere. \nDeltakelse på kurs forutsetter at deltakerne ikke har luftveissymptomer eller er i hjemmeisolering eller karantene. \n
URL:https://vivatselvmordsforebygging.net/event/fauske-oppmerksom-pa-selvmordstanker-2/
LOCATION:Fauske\, Vest-Agder\, Norge
CATEGORIES:Kurs,Oppmerksom på selvmordstanker,Nord,Lukket kurs
GEO:60.472024;8.468946
END:VEVENT
BEGIN:VEVENT
DTSTART;VALUE=DATE:20210930
DTEND;VALUE=DATE:20211001
DTSTAMP:20260423T122646
CREATED:20210927T115639Z
LAST-MODIFIED:20210927T115639Z
UID:8190-1632960000-1633046399@vivatselvmordsforebygging.net
SUMMARY:Lakselv\, Oppmerksom på selvmordstanker
DESCRIPTION:Lakselv videregående skole arrangerer kurset Oppmerksom på selvmordstanker. \nKurset er for lærere\, og lukket for andre deltakere. \nKontaktperson er Anneli Naukarinnen\, epost: anneli.naukkarinen@porsanger.kommune.no \nDeltakelse på kurs forutsetter at deltakerne ikke har luftveissymptomer eller er i hjemmeisolering eller karantene. \n
URL:https://vivatselvmordsforebygging.net/event/lakselv-oppmerksom-pa-selvmordstanker-5/
LOCATION:Lakselv\, Vest-Agder\, Norge
CATEGORIES:Kurs,Oppmerksom på selvmordstanker,Nord,Lukket kurs
GEO:60.472024;8.468946
END:VEVENT
END:VCALENDAR