BEGIN:VCALENDAR
VERSION:2.0
PRODID:-//vivat - ECPv4.9.14//NONSGML v1.0//EN
CALSCALE:GREGORIAN
METHOD:PUBLISH
X-WR-CALNAME:vivat
X-ORIGINAL-URL:https://vivatselvmordsforebygging.net
X-WR-CALDESC:Events for vivat
BEGIN:VTIMEZONE
TZID:Europe/Oslo
BEGIN:DAYLIGHT
TZOFFSETFROM:+0100
TZOFFSETTO:+0200
TZNAME:CEST
DTSTART:20210328T010000
END:DAYLIGHT
BEGIN:STANDARD
TZOFFSETFROM:+0200
TZOFFSETTO:+0100
TZNAME:CET
DTSTART:20211031T010000
END:STANDARD
END:VTIMEZONE
BEGIN:VEVENT
DTSTART;VALUE=DATE:20211025
DTEND;VALUE=DATE:20211027
DTSTAMP:20260423T122555
CREATED:20210927T120044Z
LAST-MODIFIED:20210927T120044Z
UID:8194-1635120000-1635292799@vivatselvmordsforebygging.net
SUMMARY:Lakselv\, Førstehjelp ved selvmordsfare
DESCRIPTION:Kurset Førstehjelp ved selvmordsfare arrangeres i Lakselv. \nKurset er åpent for alle å melde seg på. \nPåmelding til: Mariell Haugli\, epost: mariell.haugli@porsanger.kommune.no \nDeltakelse på kurs forutsetter at deltakerne ikke har luftveissymptomer eller er i hjemmeisolering eller karantene. \n
URL:https://vivatselvmordsforebygging.net/event/lakselv-forstehjelp-ved-selvmordsfare-4/
LOCATION:Lakselv\, Norge
CATEGORIES:Kurs,Førstehjelp ved selvmordsfare,Nord,Åpent/delvis åpent kurs
GEO:60.472024;8.468946
END:VEVENT
BEGIN:VEVENT
DTSTART;VALUE=DATE:20211026
DTEND;VALUE=DATE:20211028
DTSTAMP:20260423T122555
CREATED:20210818T105515Z
LAST-MODIFIED:20210903T091251Z
UID:7947-1635206400-1635379199@vivatselvmordsforebygging.net
SUMMARY:Bø\, Førstehjelp ved selvmordsfare
DESCRIPTION:Kirkens SOS Telemark arrangerer kurset Førstehjelp ved selvmordsfare. \nKurset er åpent for alle å melde seg på. \nInvitasjon og påmelding \nKontaktperson er Melle Aakenes\, epost: melle.aakenes@kirkens-sos.no \nDeltakelse på kurs forutsetter at deltakerne ikke har luftveissymptomer eller er i hjemmeisolering eller karantene. \n
URL:https://vivatselvmordsforebygging.net/event/skien-forstehjelp-ved-selvmordsfare-12/
LOCATION:Bø i Telemark\, Norge
CATEGORIES:Kurs,Førstehjelp ved selvmordsfare,Øst,Åpent/delvis åpent kurs
GEO:60.472024;8.468946
END:VEVENT
BEGIN:VEVENT
DTSTART;VALUE=DATE:20211026
DTEND;VALUE=DATE:20211028
DTSTAMP:20260423T122555
CREATED:20210825T073631Z
LAST-MODIFIED:20210825T093954Z
UID:7977-1635206400-1635379199@vivatselvmordsforebygging.net
SUMMARY:Jæren\, Førstehjelp ved selvmordsfare
DESCRIPTION:NKS Jæren distriktpsykiatriske senter arrangerer kurset Førstehjelp ved selvmordsfare. \nKurset er åpent for alle å melde seg på. \nInvitasjon \nKontaktperson er Einar Steen Jakobsen\, epost: einar.steen.jakobsen@jdps.no \nDeltakelse på kurs forutsetter at deltakerne ikke har luftveissymptomer eller er i hjemmeisolering eller karantene. \n
URL:https://vivatselvmordsforebygging.net/event/jaeren-forstehjelp-ved-selvmordsfare-5/
LOCATION:Jæren DPS\, Austbøveien 16\, Bryne\, Rogaland\, 4340\, Norge
CATEGORIES:Kurs,Førstehjelp ved selvmordsfare,Vest,Åpent/delvis åpent kurs
GEO:58.7284975;5.6445173
X-APPLE-STRUCTURED-LOCATION;VALUE=URI;X-ADDRESS=Jæren DPS Austbøveien 16 Bryne Rogaland 4340 Norge;X-APPLE-RADIUS=500;X-TITLE=Austbøveien 16:geo:5.6445173,58.7284975
END:VEVENT
BEGIN:VEVENT
DTSTART;VALUE=DATE:20211026
DTEND;VALUE=DATE:20211028
DTSTAMP:20260423T122555
CREATED:20210826T081404Z
LAST-MODIFIED:20210826T082237Z
UID:8011-1635206400-1635379199@vivatselvmordsforebygging.net
SUMMARY:Nummedal\, Førstehjelp ved selvmordsfare
DESCRIPTION:RVTS Sør arrangerer kurset Førstehjelp ved selvmordsfare. \nKurset er for læringsnettverket Viken\, og er lukket for andre deltakere. \nKontaktperson er Øyvind Dåsvatn\, epost: oyvind.dasvatn@rvtssor.no \nDeltakelse på kurs forutsetter at deltakerne ikke har luftveissymptomer eller er i hjemmeisolering eller karantene. \n
URL:https://vivatselvmordsforebygging.net/event/nummedal-forstehjelp-ved-selvmordsfare/
LOCATION:Nummedal\, Norge
CATEGORIES:Kurs,Førstehjelp ved selvmordsfare,Øst
GEO:60.472024;8.468946
END:VEVENT
BEGIN:VEVENT
DTSTART;VALUE=DATE:20211026
DTEND;VALUE=DATE:20211028
DTSTAMP:20260423T122555
CREATED:20210827T111334Z
LAST-MODIFIED:20210827T111334Z
UID:8037-1635206400-1635379199@vivatselvmordsforebygging.net
SUMMARY:Os\, Førstehjelp ved selvmordsfare
DESCRIPTION:Kurset Førstehjelp ved selvmordsfare arrangeres på Os i Bjørnafjorden. \nKurset er for NAV ansatte i kommunen\, og lukket for andre deltakere. \nKontaktperson er Randi Nordvik\, epost: post@mennesketifokus.no \nDeltakelse på kurs forutsetter at deltakerne ikke har luftveissymptomer eller er i hjemmeisolering eller karantene. \n
URL:https://vivatselvmordsforebygging.net/event/os-forstehjelp-ved-selvmordsfare/
LOCATION:Os i Bjørnafjorden\, Norge
CATEGORIES:Kurs,Førstehjelp ved selvmordsfare,Vest,Lukket kurs
GEO:60.472024;8.468946
END:VEVENT
BEGIN:VEVENT
DTSTART;VALUE=DATE:20211026
DTEND;VALUE=DATE:20211028
DTSTAMP:20260423T122555
CREATED:20210917T121516Z
LAST-MODIFIED:20210917T121516Z
UID:8142-1635206400-1635379199@vivatselvmordsforebygging.net
SUMMARY:Kristiansand\, Førstehjelp ved selvmordsfare
DESCRIPTION:Studentsamskipnaden i Agder arrangerer kurset Førstehjelp ved selvmordsfare. \nKurset er for studenter\, og lukket for andre deltakere. \nKontaktperson her Hellen Saga\, epost: hellen.saga@sia.no \nDeltakelse på kurs forutsetter at deltakerne ikke har luftveissymptomer eller er i hjemmeisolering eller karantene. \n
URL:https://vivatselvmordsforebygging.net/event/kristiansand-forstehjelp-ved-selvmordsfare-31/
LOCATION:Kristiansand\, Kristiansand\, Vest-Agder\, 4600\, Norge
CATEGORIES:Kurs,Førstehjelp ved selvmordsfare,Sør,Lukket kurs
GEO:58.1611426;8.0307271
END:VEVENT
BEGIN:VEVENT
DTSTART;VALUE=DATE:20211026
DTEND;VALUE=DATE:20211028
DTSTAMP:20260423T122555
CREATED:20211005T072212Z
LAST-MODIFIED:20211005T072212Z
UID:8230-1635206400-1635379199@vivatselvmordsforebygging.net
SUMMARY:Bergen\, Førstehjelp ved selvmordsfare
DESCRIPTION:Høgskolen på Vestlandet\, campus Kronstad arrangerer kurset Førstehjelp ved selvmordsfare. \nKurset er for ansatte\, og lukket for andre deltakere. \nKontaktperson er Tine Hammerich\, epost: tine.hammerich@online.no \nDeltakelse på kurs forutsetter at deltakerne ikke har luftveissymptomer eller er i hjemmeisolering eller karantene. \n
URL:https://vivatselvmordsforebygging.net/event/bergen-forstehjelp-ved-selvmordsfare-84/
LOCATION:Bergen\, Hordaland\, 5000\, Norge
CATEGORIES:Kurs,Førstehjelp ved selvmordsfare,Vest,Lukket kurs
GEO:59.4199474;5.2725679
END:VEVENT
BEGIN:VEVENT
DTSTART;VALUE=DATE:20211026
DTEND;VALUE=DATE:20211027
DTSTAMP:20260423T122555
CREATED:20211008T102650Z
LAST-MODIFIED:20211008T102650Z
UID:8271-1635206400-1635292799@vivatselvmordsforebygging.net
SUMMARY:Gardermoen\, Oppmerksom på selvmordstanker
DESCRIPTION:Forsvaret arrangerer kurset Oppmerksom på selvmordstanker. \nKurset er lukket. \nKontaktperson er Thomas N. Hansen\, epost: armyhvo@gmail.com \nDeltakelse på kurs forutsetter at deltakerne ikke har luftveissymptomer eller er i hjemmeisolering eller karantene. \n
URL:https://vivatselvmordsforebygging.net/event/gardermoen-oppmerksom-pa-selvmordstanker-4/
LOCATION:Gardermoen\, Norge
CATEGORIES:Kurs,Oppmerksom på selvmordstanker,Øst,Lukket kurs
GEO:60.472024;8.468946
END:VEVENT
END:VCALENDAR