BEGIN:VCALENDAR
VERSION:2.0
PRODID:-//vivat - ECPv4.9.14//NONSGML v1.0//EN
CALSCALE:GREGORIAN
METHOD:PUBLISH
X-WR-CALNAME:vivat
X-ORIGINAL-URL:https://vivatselvmordsforebygging.net
X-WR-CALDESC:Events for vivat
BEGIN:VTIMEZONE
TZID:Europe/Oslo
BEGIN:DAYLIGHT
TZOFFSETFROM:+0100
TZOFFSETTO:+0200
TZNAME:CEST
DTSTART:20210328T010000
END:DAYLIGHT
BEGIN:STANDARD
TZOFFSETFROM:+0200
TZOFFSETTO:+0100
TZNAME:CET
DTSTART:20211031T010000
END:STANDARD
END:VTIMEZONE
BEGIN:VEVENT
DTSTART;VALUE=DATE:20211101
DTEND;VALUE=DATE:20211103
DTSTAMP:20260423T110755
CREATED:20210913T112347Z
LAST-MODIFIED:20210913T112347Z
UID:8096-1635724800-1635897599@vivatselvmordsforebygging.net
SUMMARY:Ørlandet\, Førstehjelp ved selvmordsfare
DESCRIPTION:Forsvaret arrangerer kurset Førstehjelp ved selvmordsfare. \nKurset er lukket for andre deltakere. \nKontaktperson er Adelheid Skredlund\, epost: adskredlund@mil.no \nDeltakelse på kurs forutsetter at deltakerne ikke har luftveissymptomer eller er i hjemmeisolering eller karantene. \n
URL:https://vivatselvmordsforebygging.net/event/orlandet-forstehjelp-ved-selvmordsfare/
LOCATION:Ørlandet Flystasjon
CATEGORIES:Kurs,Førstehjelp ved selvmordsfare,Øst,Lukket kurs
END:VEVENT
BEGIN:VEVENT
DTSTART;VALUE=DATE:20211102
DTEND;VALUE=DATE:20211104
DTSTAMP:20260423T110755
CREATED:20210826T081606Z
LAST-MODIFIED:20210826T081606Z
UID:8014-1635811200-1635983999@vivatselvmordsforebygging.net
SUMMARY:Lier\, Førstehjelp ved selvmordsfare
DESCRIPTION:RVTS Sør arrangerer kurset Førstehjelp ved selvmordsfare. \nKurset er for læringsnettverk Viken\, og er lukket for andre deltakere. \nKontaktperson er Øyvind Dåsvatn\, epost: oyvind.dasvatn@rvtssor.no \nDeltakelse på kurs forutsetter at deltakerne ikke har luftveissymptomer eller er i hjemmeisolering eller karantene. \n
URL:https://vivatselvmordsforebygging.net/event/lier-forstehjelp-ved-selvmordsfare-2/
LOCATION:Lier
CATEGORIES:Kurs,Førstehjelp ved selvmordsfare,Øst,Lukket kurs
END:VEVENT
BEGIN:VEVENT
DTSTART;VALUE=DATE:20211102
DTEND;VALUE=DATE:20211104
DTSTAMP:20260423T110755
CREATED:20211013T075522Z
LAST-MODIFIED:20211013T075522Z
UID:8314-1635811200-1635983999@vivatselvmordsforebygging.net
SUMMARY:Lillestrøm\, Førstehjelp ved selvmordsfare
DESCRIPTION:Kriminalomsorgens høgskole og utdanningssenter (KRUS) arrangerer kurset Førstehjelp ved selvmordsfare. \nKurset er for ansatte\, og lukket for andre deltakere. \nKontaktperson er Anne Natrud\, epost: Anne.Natrud@krus.no \nDeltakelse på kurs forutsetter at deltakerne ikke har luftveissymptomer eller er i hjemmeisolering eller karantene. \n
URL:https://vivatselvmordsforebygging.net/event/lillestrom-forstehjelp-ved-selvmordsfare-5/
LOCATION:Lillestrøm
CATEGORIES:Kurs,Førstehjelp ved selvmordsfare,Øst,Lukket kurs
END:VEVENT
BEGIN:VEVENT
DTSTART;TZID=Europe/Oslo:20211102T120000
DTEND;TZID=Europe/Oslo:20211102T160000
DTSTAMP:20260423T110755
CREATED:20210922T103012Z
LAST-MODIFIED:20210922T103012Z
UID:8170-1635854400-1635868800@vivatselvmordsforebygging.net
SUMMARY:Ballangen\, Oppmerksom på selvmordstanker
DESCRIPTION:Narvik kommune\, SANKS og Vivat arrangerer kurset Oppmerksom på selvmordstanker. \nInvitasjon og påmelding \nKurset er åpent for alle å melde seg på. \nKontaktperson er Vanja Skogvoll\, epost: vanja.skogvoll@narvik.kommune.no \nDeltakelse på kurs forutsetter at deltakerne ikke har luftveissymptomer eller er i hjemmeisolering eller karantene. \n  \n
URL:https://vivatselvmordsforebygging.net/event/ballangen-oppmerksom-pa-selvmordstanker/
LOCATION:Ballangen\, Norge
CATEGORIES:Kurs,Oppmerksom på selvmordstanker,Nord,Åpent/delvis åpent kurs
GEO:60.472024;8.468946
END:VEVENT
BEGIN:VEVENT
DTSTART;TZID=Europe/Oslo:20211102T170000
DTEND;TZID=Europe/Oslo:20211102T210000
DTSTAMP:20260423T110755
CREATED:20211026T091230Z
LAST-MODIFIED:20211026T091230Z
UID:8370-1635872400-1635886800@vivatselvmordsforebygging.net
SUMMARY:Kristiansand\, Oppmerksom på selvmordstanker
DESCRIPTION:ROM Agder arrangerer kurset Oppmerksom på selvmordstanker. \nKurset er åpent for alle å melde seg på. \nPåmeldingslink \nKontaktperson er Anna Marie Løland\, tlf  902 04 021 \nDeltakelse på kurs forutsetter at deltakerne ikke har luftveissymptomer eller er i hjemmeisolering eller karantene. \n
URL:https://vivatselvmordsforebygging.net/event/kristiansand-oppmerksom-pa-selvmordstanker-3/
LOCATION:Kristiansand\, Kristiansand\, Vest-Agder\, 4600\, Norge
CATEGORIES:Kurs,Oppmerksom på selvmordstanker,Sør,Åpent/delvis åpent kurs
GEO:58.1611426;8.0307271
END:VEVENT
END:VCALENDAR