BEGIN:VCALENDAR
VERSION:2.0
PRODID:-//vivat - ECPv4.9.14//NONSGML v1.0//EN
CALSCALE:GREGORIAN
METHOD:PUBLISH
X-WR-CALNAME:vivat
X-ORIGINAL-URL:https://vivatselvmordsforebygging.net
X-WR-CALDESC:Events for vivat
BEGIN:VTIMEZONE
TZID:Europe/Oslo
BEGIN:DAYLIGHT
TZOFFSETFROM:+0100
TZOFFSETTO:+0200
TZNAME:CEST
DTSTART:20210328T010000
END:DAYLIGHT
BEGIN:STANDARD
TZOFFSETFROM:+0200
TZOFFSETTO:+0100
TZNAME:CET
DTSTART:20211031T010000
END:STANDARD
END:VTIMEZONE
BEGIN:VEVENT
DTSTART;VALUE=DATE:20211102
DTEND;VALUE=DATE:20211104
DTSTAMP:20260423T110423
CREATED:20210826T081606Z
LAST-MODIFIED:20210826T081606Z
UID:8014-1635811200-1635983999@vivatselvmordsforebygging.net
SUMMARY:Lier\, Førstehjelp ved selvmordsfare
DESCRIPTION:RVTS Sør arrangerer kurset Førstehjelp ved selvmordsfare. \nKurset er for læringsnettverk Viken\, og er lukket for andre deltakere. \nKontaktperson er Øyvind Dåsvatn\, epost: oyvind.dasvatn@rvtssor.no \nDeltakelse på kurs forutsetter at deltakerne ikke har luftveissymptomer eller er i hjemmeisolering eller karantene. \n
URL:https://vivatselvmordsforebygging.net/event/lier-forstehjelp-ved-selvmordsfare-2/
LOCATION:Lier
CATEGORIES:Kurs,Førstehjelp ved selvmordsfare,Øst,Lukket kurs
END:VEVENT
BEGIN:VEVENT
DTSTART;VALUE=DATE:20211102
DTEND;VALUE=DATE:20211104
DTSTAMP:20260423T110423
CREATED:20211013T075522Z
LAST-MODIFIED:20211013T075522Z
UID:8314-1635811200-1635983999@vivatselvmordsforebygging.net
SUMMARY:Lillestrøm\, Førstehjelp ved selvmordsfare
DESCRIPTION:Kriminalomsorgens høgskole og utdanningssenter (KRUS) arrangerer kurset Førstehjelp ved selvmordsfare. \nKurset er for ansatte\, og lukket for andre deltakere. \nKontaktperson er Anne Natrud\, epost: Anne.Natrud@krus.no \nDeltakelse på kurs forutsetter at deltakerne ikke har luftveissymptomer eller er i hjemmeisolering eller karantene. \n
URL:https://vivatselvmordsforebygging.net/event/lillestrom-forstehjelp-ved-selvmordsfare-5/
LOCATION:Lillestrøm
CATEGORIES:Kurs,Førstehjelp ved selvmordsfare,Øst,Lukket kurs
END:VEVENT
BEGIN:VEVENT
DTSTART;VALUE=DATE:20211103
DTEND;VALUE=DATE:20211105
DTSTAMP:20260423T110423
CREATED:20211005T072420Z
LAST-MODIFIED:20211005T072420Z
UID:8234-1635897600-1636070399@vivatselvmordsforebygging.net
SUMMARY:Sogndal\, Førstehjelp ved selvmordsfare
DESCRIPTION:Høgskolen på Vestlandet\, campus Sogndal arrangerer kurset Førstehjelp ved selvmordsfare. \nKurset er for ansatte\, og lukket for andre deltakere. \nKontaktperson er Hanne Siri Austgulen\, epost: Hanne.austgulen@helse-bergen.no \nDeltakelse på kurs forutsetter at deltakerne ikke har luftveissymptomer eller er i hjemmeisolering eller karantene. \n
URL:https://vivatselvmordsforebygging.net/event/sogndal-forstehjelp-ved-selvmordsfare-2/
LOCATION:Sogndal\, Sogndal\, Sogn og Fjordane\, 6856\, Norge
CATEGORIES:Kurs,Førstehjelp ved selvmordsfare,Vest,Lukket kurs
GEO:61.2298509;7.1004927
END:VEVENT
BEGIN:VEVENT
DTSTART;VALUE=DATE:20211103
DTEND;VALUE=DATE:20211104
DTSTAMP:20260423T110423
CREATED:20211102T071546Z
LAST-MODIFIED:20211102T071546Z
UID:8391-1635897600-1635983999@vivatselvmordsforebygging.net
SUMMARY:Glomfjord\, Oppmerksom på selvmordstanker
DESCRIPTION:Som en del av prosjektet “OPS! til elever i videregående skole” arrangeres Oppmerksom på selvmordstanker ved Meløy videregående sole\, avd. Glomfjord. \nKontaktperson er Elea Kristine Blomstereng Tangstad\, epost: elekar@vgs.nfk.no \nDeltakelse på kurs forutsetter at deltakerne ikke har luftveissymptomer eller er i hjemmeisolering eller karantene. \n  \n
URL:https://vivatselvmordsforebygging.net/event/glomfjord-oppmerksom-pa-selvmordstanker/
LOCATION:Glomfjord\, Norge
CATEGORIES:Kurs,Oppmerksom på selvmordstanker,Nord,Lukket kurs
GEO:60.472024;8.468946
END:VEVENT
BEGIN:VEVENT
DTSTART;VALUE=DATE:20211103
DTEND;VALUE=DATE:20211104
DTSTAMP:20260423T110423
CREATED:20211102T125537Z
LAST-MODIFIED:20211102T125537Z
UID:8400-1635897600-1635983999@vivatselvmordsforebygging.net
SUMMARY:Ramsund\, Oppmerksom på selvmordstanker
DESCRIPTION:Forsvaret arrangerer Oppmerksom på selvmordstanker. \nKurset er for personell\, og lukket for andre deltakere. \nKontaktperson er Knut Helge Kråkenes Moe\, epost: kmoe@mil.no \nDeltakelse på kurs forutsetter at deltakerne ikke har luftveissymptomer eller er i hjemmeisolering eller karantene. \n
URL:https://vivatselvmordsforebygging.net/event/ramsund-oppmerksom-pa-selvmordstanker-2/
LOCATION:Ramsund\, Norge
CATEGORIES:Kurs,Oppmerksom på selvmordstanker
GEO:60.472024;8.468946
END:VEVENT
END:VCALENDAR