BEGIN:VCALENDAR
VERSION:2.0
PRODID:-//vivat - ECPv4.9.14//NONSGML v1.0//EN
CALSCALE:GREGORIAN
METHOD:PUBLISH
X-WR-CALNAME:vivat
X-ORIGINAL-URL:https://vivatselvmordsforebygging.net
X-WR-CALDESC:Events for vivat
BEGIN:VTIMEZONE
TZID:Europe/Oslo
BEGIN:DAYLIGHT
TZOFFSETFROM:+0100
TZOFFSETTO:+0200
TZNAME:CEST
DTSTART:20210328T010000
END:DAYLIGHT
BEGIN:STANDARD
TZOFFSETFROM:+0200
TZOFFSETTO:+0100
TZNAME:CET
DTSTART:20211031T010000
END:STANDARD
END:VTIMEZONE
BEGIN:VEVENT
DTSTART;VALUE=DATE:20211103
DTEND;VALUE=DATE:20211105
DTSTAMP:20260423T110608
CREATED:20211005T072420Z
LAST-MODIFIED:20211005T072420Z
UID:8234-1635897600-1636070399@vivatselvmordsforebygging.net
SUMMARY:Sogndal\, Førstehjelp ved selvmordsfare
DESCRIPTION:Høgskolen på Vestlandet\, campus Sogndal arrangerer kurset Førstehjelp ved selvmordsfare. \nKurset er for ansatte\, og lukket for andre deltakere. \nKontaktperson er Hanne Siri Austgulen\, epost: Hanne.austgulen@helse-bergen.no \nDeltakelse på kurs forutsetter at deltakerne ikke har luftveissymptomer eller er i hjemmeisolering eller karantene. \n
URL:https://vivatselvmordsforebygging.net/event/sogndal-forstehjelp-ved-selvmordsfare-2/
LOCATION:Sogndal\, Sogndal\, Sogn og Fjordane\, 6856\, Norge
CATEGORIES:Kurs,Førstehjelp ved selvmordsfare,Vest,Lukket kurs
GEO:61.2298509;7.1004927
END:VEVENT
BEGIN:VEVENT
DTSTART;VALUE=DATE:20211104
DTEND;VALUE=DATE:20211106
DTSTAMP:20260423T110608
CREATED:20210929T133029Z
LAST-MODIFIED:20210929T133029Z
UID:8220-1635984000-1636156799@vivatselvmordsforebygging.net
SUMMARY:Bergen\, Førstehjelp ved selvmordsfare
DESCRIPTION:Bergen kommune\, etat for rus og psykisk helsehjelp\, arrangerer kurset Førstehjelp ved selvmordsfare. \nKurset er for ansatte\, og lukket for andre deltakere. \nKontaktperson er Martine Bonnier\, epost: Martine.Bonnier@bergen.kommune.no \nDeltakelse på kurs forutsetter at deltakerne ikke har luftveissymptomer eller er i hjemmeisolering eller karantene \n
URL:https://vivatselvmordsforebygging.net/event/bergen-forstehjelp-ved-selvmordsfare-82/
LOCATION:Bergen\, Hordaland\, 5000\, Norge
CATEGORIES:Kurs,Førstehjelp ved selvmordsfare,Vest,Lukket kurs
GEO:59.4199474;5.2725679
END:VEVENT
BEGIN:VEVENT
DTSTART;VALUE=DATE:20211104
DTEND;VALUE=DATE:20211105
DTSTAMP:20260423T110608
CREATED:20211102T071644Z
LAST-MODIFIED:20211102T071644Z
UID:8394-1635984000-1636070399@vivatselvmordsforebygging.net
SUMMARY:Glomfjord\, Oppmerksom på selvmordstanker
DESCRIPTION:Som en del av prosjektet “OPS! til elever i videregående skole” arrangeres Oppmerksom på selvmordstanker ved Meløy videregående sole\, avd. Glomfjord. \nKontaktperson er Elea Kristine Blomstereng Tangstad\, epost: elekar@vgs.nfk.no \nDeltakelse på kurs forutsetter at deltakerne ikke har luftveissymptomer eller er i hjemmeisolering eller karantene. \n
URL:https://vivatselvmordsforebygging.net/event/glomfjord-oppmerksom-pa-selvmordstanker-2/
LOCATION:Glomfjord\, Sogn og Fjordane\, Norge
CATEGORIES:Kurs,Oppmerksom på selvmordstanker,Nord,Lukket kurs
GEO:60.472024;8.468946
END:VEVENT
BEGIN:VEVENT
DTSTART;VALUE=DATE:20211104
DTEND;VALUE=DATE:20211105
DTSTAMP:20260423T110608
CREATED:20211102T125642Z
LAST-MODIFIED:20211102T125642Z
UID:8403-1635984000-1636070399@vivatselvmordsforebygging.net
SUMMARY:Harstad\, Oppmerksom på selvmordstanker.
DESCRIPTION:Forsvaret arrangerer Oppmerksom på selvmordstanker. \nKurset er for personell\, og lukket for andre deltakere. \nKontaktperson er Knut Helge Kråkenes Moe\, epost: kmoe@mil.no \nDeltakelse på kurs forutsetter at deltakerne ikke har luftveissymptomer eller er i hjemmeisolering eller karantene. \n
URL:https://vivatselvmordsforebygging.net/event/harstad-oppmerksom-pa-selvmordstanker-4/
LOCATION:Harstad\, Sogn og Fjordane\, Norge
CATEGORIES:Kurs,Oppmerksom på selvmordstanker,Nord,Lukket kurs
GEO:60.472024;8.468946
END:VEVENT
END:VCALENDAR