BEGIN:VCALENDAR
VERSION:2.0
PRODID:-//vivat - ECPv4.9.14//NONSGML v1.0//EN
CALSCALE:GREGORIAN
METHOD:PUBLISH
X-WR-CALNAME:vivat
X-ORIGINAL-URL:https://vivatselvmordsforebygging.net
X-WR-CALDESC:Events for vivat
BEGIN:VTIMEZONE
TZID:Europe/Oslo
BEGIN:DAYLIGHT
TZOFFSETFROM:+0100
TZOFFSETTO:+0200
TZNAME:CEST
DTSTART:20210328T010000
END:DAYLIGHT
BEGIN:STANDARD
TZOFFSETFROM:+0200
TZOFFSETTO:+0100
TZNAME:CET
DTSTART:20211031T010000
END:STANDARD
END:VTIMEZONE
BEGIN:VEVENT
DTSTART;VALUE=DATE:20211106
DTEND;VALUE=DATE:20211108
DTSTAMP:20260423T110105
CREATED:20210629T115141Z
LAST-MODIFIED:20210629T115141Z
UID:7828-1636156800-1636329599@vivatselvmordsforebygging.net
SUMMARY:Ålesund\, Førstehjelp ved selvmordsfare
DESCRIPTION:Møre og Romsdal Røde Kors arrangerer kurset Førstehjelp ved selvmordsfare. \nKurset er for aktive medlemmer og ledere\, og lukket for andre deltakere. \nKontaktperson er Bård Tokle\, epost: bard.tokle@helse-mr.no \nDeltakelse på kurs forutsetter at deltakerne ikke har luftveissymptomer eller er i hjemmeisolering eller karantene. \n
URL:https://vivatselvmordsforebygging.net/event/alesund-forstehjelp-ved-selvmordsfare-10/
LOCATION:Ålesund\, Møre og Romsdal\, 6000\, Norge
CATEGORIES:Kurs,Førstehjelp ved selvmordsfare,Midt
GEO:62.670816;8.5487784
END:VEVENT
BEGIN:VEVENT
DTSTART;VALUE=DATE:20211106
DTEND;VALUE=DATE:20211108
DTSTAMP:20260423T110105
CREATED:20210901T110242Z
LAST-MODIFIED:20210901T110242Z
UID:8055-1636156800-1636329599@vivatselvmordsforebygging.net
SUMMARY:Sandnes\, Førstehjelp ved selvmordsfare
DESCRIPTION:Kurset Førstehjelp ved selvmordsfare arrangeres for Kirkens SOS Rogaland. \nKurset er for frivillige ved Kirkens SOS Rogaland\, og er lukket for andre deltakere. \nKontaktperson er Anne Håkonsholm\, epost: vivatah@gmail.com \nDeltakelse på kurs forutsetter at deltakerne ikke har luftveissymptomer eller er i hjemmeisolering eller karantene. \n
URL:https://vivatselvmordsforebygging.net/event/sandnes-forstehjelp-ved-selvmordsfare-4/
LOCATION:Sandnes\, Møre og Romsdal
CATEGORIES:Kurs,Førstehjelp ved selvmordsfare,Vest,Lukket kurs
END:VEVENT
BEGIN:VEVENT
DTSTART;VALUE=DATE:20211106
DTEND;VALUE=DATE:20211108
DTSTAMP:20260423T110105
CREATED:20210913T091451Z
LAST-MODIFIED:20211019T091705Z
UID:8084-1636156800-1636329599@vivatselvmordsforebygging.net
SUMMARY:Oslo\, Førstehjelp ved selvmordsfare
DESCRIPTION:ELPIS arrangerer kurset Førstehjelp ved selvmordsfare. \nKurset er åpent for alle å melde seg på. \nPåmeldingslink \nKontaktperson er Nina Danielsen\, epost: ninadanielsen2@gmail.com \nDeltakelse på kurs forutsetter at deltakerne ikke har luftveissymptomer eller er i hjemmeisolering eller karantene. \n  \n
URL:https://vivatselvmordsforebygging.net/event/oslo-forstehjelp-ved-selvmordsfare-85/
LOCATION:Oslo\, Møre og Romsdal\, Norge
CATEGORIES:Kurs,Førstehjelp ved selvmordsfare,Øst,Åpent/delvis åpent kurs
END:VEVENT
BEGIN:VEVENT
DTSTART;VALUE=DATE:20211106
DTEND;VALUE=DATE:20211107
DTSTAMP:20260423T110105
CREATED:20211018T103332Z
LAST-MODIFIED:20211018T103332Z
UID:8341-1636156800-1636243199@vivatselvmordsforebygging.net
SUMMARY:Stavanger\, FriskOpp!
DESCRIPTION:Røde Kors Rogaland arrangerer kurset FriskOpp. \nKurset er lukket. \nKontaktperson er Jan Flemming Raae\, epost: jfraae@gmail.com \nDeltakelse på kurs forutsetter at deltakerne ikke har luftveissymptomer eller er i hjemmeisolering eller karantene. \n
URL:https://vivatselvmordsforebygging.net/event/stavanger-friskopp/
LOCATION:Stavanger\, Rogaland\, 4000\, Norge
CATEGORIES:Kurs,FriskOpp,Vest
GEO:58.9562814;5.7377252
END:VEVENT
BEGIN:VEVENT
DTSTART;VALUE=DATE:20211106
DTEND;VALUE=DATE:20211108
DTSTAMP:20260423T110105
CREATED:20211020T115024Z
LAST-MODIFIED:20211020T115024Z
UID:8353-1636156800-1636329599@vivatselvmordsforebygging.net
SUMMARY:Orkanger\, Førstehjelp ved selvmordsfare
DESCRIPTION:Din bedriftshelsetjeneste arrangerer Førstehjelp ved selvmordsfare. \nKurset er for ambulansetjenesten i Midt-Norge\, og lukket for andre deltakere. \nKontaktperson er Jarbel P. Brevik\, epost: jarbel@dinbht.no \nDeltakelse på kurs forutsetter at deltakerne ikke har luftveissymptomer eller er i hjemmeisolering eller karantene. \n  \n
URL:https://vivatselvmordsforebygging.net/event/orkanger-forstehjelp-ved-selvmordsfare-2/
LOCATION:Orkanger\, Møre og Romsdal
CATEGORIES:Kurs,Førstehjelp ved selvmordsfare,Midt,Lukket kurs
END:VEVENT
END:VCALENDAR