BEGIN:VCALENDAR
VERSION:2.0
PRODID:-//vivat - ECPv4.9.14//NONSGML v1.0//EN
CALSCALE:GREGORIAN
METHOD:PUBLISH
X-WR-CALNAME:vivat
X-ORIGINAL-URL:https://vivatselvmordsforebygging.net
X-WR-CALDESC:Events for vivat
BEGIN:VTIMEZONE
TZID:Europe/Oslo
BEGIN:DAYLIGHT
TZOFFSETFROM:+0100
TZOFFSETTO:+0200
TZNAME:CEST
DTSTART:20210328T010000
END:DAYLIGHT
BEGIN:STANDARD
TZOFFSETFROM:+0200
TZOFFSETTO:+0100
TZNAME:CET
DTSTART:20211031T010000
END:STANDARD
END:VTIMEZONE
BEGIN:VEVENT
DTSTART;VALUE=DATE:20211108
DTEND;VALUE=DATE:20211113
DTSTAMP:20260423T110250
CREATED:20210528T133300Z
LAST-MODIFIED:20210831T122955Z
UID:7686-1636329600-1636761599@vivatselvmordsforebygging.net
SUMMARY:Kurslederkurs Førstehjelp ved selvmordsfare
DESCRIPTION:Vivat arrangerer kurslederkurs i Førstehjelp ved selvmordsfare. \nKurslederkurs Førstehjelp ved selvmordsfare Informasjon og søknadsskjema \n
URL:https://vivatselvmordsforebygging.net/event/kurslederkurs-forstehjelp-ved-selvmordsfare-2/
LOCATION:Hell\, Trøndelag\, Norge
CATEGORIES:Kurs,Førstehjelp ved selvmordsfare,Kurslederkurs
END:VEVENT
BEGIN:VEVENT
DTSTART;VALUE=DATE:20211109
DTEND;VALUE=DATE:20211111
DTSTAMP:20260423T110250
CREATED:20210928T105416Z
LAST-MODIFIED:20210928T105416Z
UID:8198-1636416000-1636588799@vivatselvmordsforebygging.net
SUMMARY:Bergen\, Førstehjelp ved selvmordsfare
DESCRIPTION:Utekontakten i Bergen arrangerer kurset Førstehjelp ved selvmordsfare. \nKurset er lukket for andre deltakere. \nKontaktperson er Tine Hammerich\, epost: tine.hammerich@online.no \nDeltakelse på kurs forutsetter at deltakerne ikke har luftveissymptomer eller er i hjemmeisolering eller karantene. \n
URL:https://vivatselvmordsforebygging.net/event/bergen-forstehjelp-ved-selvmordsfare-78/
LOCATION:Bergen\, Hordaland\, 5000\, Norge
CATEGORIES:Kurs,Førstehjelp ved selvmordsfare,Vest,Lukket kurs
GEO:59.4199474;5.2725679
END:VEVENT
BEGIN:VEVENT
DTSTART;VALUE=DATE:20211110
DTEND;VALUE=DATE:20211111
DTSTAMP:20260423T110250
CREATED:20210915T115015Z
LAST-MODIFIED:20210915T115027Z
UID:8116-1636502400-1636588799@vivatselvmordsforebygging.net
SUMMARY:Tromsø\, Oppmerksom på selvmordstanker
DESCRIPTION:Tromsø kommune arrangerer kurset Oppmerksom på selvmordstanker. \nKurset er for ansatte i kommunen\, og lukket for andre deltakere. \nKontaktperson er Arja Mubanga-Bjørn\, epost: Arja.Bjorn@tromso.kommune.no \nDeltakelse på kurs forutsetter at deltakerne ikke har luftveissymptomer eller er i hjemmeisolering eller karantene. \n
URL:https://vivatselvmordsforebygging.net/event/tromso-oppmerksom-pa-selvmordstanker-16/
LOCATION:Tromsø\, Trøndelag\, Norge
CATEGORIES:Kurs,Oppmerksom på selvmordstanker,Nord,Lukket kurs
GEO:60.472024;8.468946
END:VEVENT
BEGIN:VEVENT
DTSTART;VALUE=DATE:20211110
DTEND;VALUE=DATE:20211112
DTSTAMP:20260423T110250
CREATED:20211006T081021Z
LAST-MODIFIED:20211006T081021Z
UID:8252-1636502400-1636675199@vivatselvmordsforebygging.net
SUMMARY:Førde\, Førstehjelp ved selvmordsfare
DESCRIPTION:Høgskolen på Vestlandet\, Capmus Førde arrangerer kurset Førstehjelp ved selvmordsfare. \nKurset er for ansatte\, og lukket for andre deltakere. \nKontaktperson er Rolf-Eivind Monsen\, epost: rolfeivindm@gmail.com \nDeltakelse på kurs forutsetter at deltakerne ikke har luftveissymptomer eller er i hjemmeisolering eller karantene. \n
URL:https://vivatselvmordsforebygging.net/event/forde-forstehjelp-ved-selvmordsfare/
LOCATION:Førde\, Trøndelag
CATEGORIES:Kurs,Førstehjelp ved selvmordsfare,Vest,Åpent/delvis åpent kurs
END:VEVENT
BEGIN:VEVENT
DTSTART;VALUE=DATE:20211110
DTEND;VALUE=DATE:20211111
DTSTAMP:20260423T110250
CREATED:20211008T081318Z
LAST-MODIFIED:20211008T081318Z
UID:8269-1636502400-1636588799@vivatselvmordsforebygging.net
SUMMARY:Trondheim\, Oppmerksom på selvmordstanker
DESCRIPTION:Luftkrigskolen arrangerer kurset Oppmerksom på selvmordstanker. \nKurset er for elever ved skolen\, og lukket for andre deltakere. \nKontaktperson er Christina Stokkeland\, epost: chstokkeland@mil.no \nDeltakelse på kurs forutsetter at deltakerne ikke har luftveissymptomer eller er i hjemmeisolering eller karantene. \n
URL:https://vivatselvmordsforebygging.net/event/trondheim-oppmerksom-pa-selvmordstanker-27/
LOCATION:Trondheim\, Trøndelag\, Norge
CATEGORIES:Kurs,Oppmerksom på selvmordstanker,Midt,Lukket kurs
END:VEVENT
BEGIN:VEVENT
DTSTART;VALUE=DATE:20211110
DTEND;VALUE=DATE:20211112
DTSTAMP:20260423T110250
CREATED:20211008T112057Z
LAST-MODIFIED:20211008T112057Z
UID:8283-1636502400-1636675199@vivatselvmordsforebygging.net
SUMMARY:Bardufoss\, Førstehjelp ved selvmordsfare
DESCRIPTION:Forsvaret arrangerer kurset Førstehjelp ved selvmordsfare. \nKurset er lukket. \nKontaktperson er Lars Erichsen\, epost: laerichsen@mil.no \nDeltakelse på kurs forutsetter at deltakerne ikke har luftveissymptomer eller er i hjemmeisolering eller karantene. \n
URL:https://vivatselvmordsforebygging.net/event/bardufoss-forstehjelp-ved-selvmordsfare-3/
LOCATION:Bardufoss\, Trøndelag
CATEGORIES:Kurs,Førstehjelp ved selvmordsfare,Nord,Lukket kurs
END:VEVENT
BEGIN:VEVENT
DTSTART;VALUE=DATE:20211110
DTEND;VALUE=DATE:20211111
DTSTAMP:20260423T110250
CREATED:20211011T104741Z
LAST-MODIFIED:20211014T111721Z
UID:8286-1636502400-1636588799@vivatselvmordsforebygging.net
SUMMARY:Sarpsborg\, Oppmerksom på selvmordstanker
DESCRIPTION:I forbindelse med Folkehelsekampanjen Øst arrangerer  Håp i mørket kurset Oppmerksom på selvmordstanker. \nKurset er lukket. \nKontaktperson er Paul Stronegger\, epost: pa-str@online.no \nDeltakelse på kurs forutsetter at deltakerne ikke har luftveissymptomer eller er i hjemmeisolering eller karantene. \n
URL:https://vivatselvmordsforebygging.net/event/sarpsborg-oppmerksom-pa-selvmordstanker/
LOCATION:Sarpsborg\, Trøndelag
CATEGORIES:Kurs,Oppmerksom på selvmordstanker,Øst,Lukket kurs
END:VEVENT
BEGIN:VEVENT
DTSTART;VALUE=DATE:20211110
DTEND;VALUE=DATE:20211112
DTSTAMP:20260423T110250
CREATED:20211020T115132Z
LAST-MODIFIED:20211020T115132Z
UID:8356-1636502400-1636675199@vivatselvmordsforebygging.net
SUMMARY:Trondheim\, Førstehjelp ved selvmordsfare
DESCRIPTION:Din bedriftshelsetjeneste arrangerer Førstehjelp ved selvmordsfare. \nKurset er for ambulansetjenesten i Midt-Norge\, og lukket for andre deltakere. \nKontaktperson er Jarbel P. Brevik\, epost: jarbel@dinbht.no \nDeltakelse på kurs forutsetter at deltakerne ikke har luftveissymptomer eller er i hjemmeisolering eller karantene. \n
URL:https://vivatselvmordsforebygging.net/event/trondheim-forstehjelp-ved-selvmordsfare-53/
LOCATION:Trondheim\, Trøndelag\, Norge
CATEGORIES:Kurs,Førstehjelp ved selvmordsfare,Midt,Lukket kurs
END:VEVENT
BEGIN:VEVENT
DTSTART;TZID=Europe/Oslo:20211110T170000
DTEND;TZID=Europe/Oslo:20211110T210000
DTSTAMP:20260423T110250
CREATED:20211011T105023Z
LAST-MODIFIED:20211019T105624Z
UID:8289-1636563600-1636578000@vivatselvmordsforebygging.net
SUMMARY:Oslo\, Oppmerksom på selvmordstanker
DESCRIPTION:Elpis arrangerer kurset Oppmerksom på selvmordstanker. \nKurset er åpent for alle å melde seg på. \nPåmeldingslink \nKontaktperson er Nina Danielsen\, epost: ninadanielsen2@gmail.com \nDeltakelse på kurs forutsetter at deltakerne ikke har luftveissymptomer eller er i hjemmeisolering eller karantene. \n
URL:https://vivatselvmordsforebygging.net/event/oslo-oppmerksom-pa-selvmordstanker-26/
LOCATION:Oslo\, Trøndelag\, Norge
CATEGORIES:Kurs,Oppmerksom på selvmordstanker,Øst,Åpent/delvis åpent kurs
END:VEVENT
END:VCALENDAR