BEGIN:VCALENDAR
VERSION:2.0
PRODID:-//vivat - ECPv4.9.14//NONSGML v1.0//EN
CALSCALE:GREGORIAN
METHOD:PUBLISH
X-WR-CALNAME:vivat
X-ORIGINAL-URL:https://vivatselvmordsforebygging.net
X-WR-CALDESC:Events for vivat
BEGIN:VTIMEZONE
TZID:Europe/Oslo
BEGIN:DAYLIGHT
TZOFFSETFROM:+0100
TZOFFSETTO:+0200
TZNAME:CEST
DTSTART:20210328T010000
END:DAYLIGHT
BEGIN:STANDARD
TZOFFSETFROM:+0200
TZOFFSETTO:+0100
TZNAME:CET
DTSTART:20211031T010000
END:STANDARD
END:VTIMEZONE
BEGIN:VEVENT
DTSTART;VALUE=DATE:20211108
DTEND;VALUE=DATE:20211113
DTSTAMP:20260423T110427
CREATED:20210528T133300Z
LAST-MODIFIED:20210831T122955Z
UID:7686-1636329600-1636761599@vivatselvmordsforebygging.net
SUMMARY:Kurslederkurs Førstehjelp ved selvmordsfare
DESCRIPTION:Vivat arrangerer kurslederkurs i Førstehjelp ved selvmordsfare. \nKurslederkurs Førstehjelp ved selvmordsfare Informasjon og søknadsskjema \n
URL:https://vivatselvmordsforebygging.net/event/kurslederkurs-forstehjelp-ved-selvmordsfare-2/
LOCATION:Hell\, Trøndelag\, Norge
CATEGORIES:Kurs,Førstehjelp ved selvmordsfare,Kurslederkurs
END:VEVENT
BEGIN:VEVENT
DTSTART;VALUE=DATE:20211111
DTEND;VALUE=DATE:20211113
DTSTAMP:20260423T110427
CREATED:20210927T102908Z
LAST-MODIFIED:20210927T102908Z
UID:8184-1636588800-1636761599@vivatselvmordsforebygging.net
SUMMARY:Nannestad\, Førstehjelp ved selvmordsfare
DESCRIPTION:Nannestad kommune arrangerer kurset Førstehjelp ved selvmordsfare. \nKurset er lukket. \nKontaktpersoner er Kaja Wemberg\, epost: kaja.wemberg@nannestad.kommune.no og Mariette N. Habberstad\, epost: mariette.n.habberstad@nannestad.kommune.no \nDeltakelse på kurs forutsetter at deltakerne ikke har luftveissymptomer eller er i hjemmeisolering eller karantene. \n
URL:https://vivatselvmordsforebygging.net/event/nannestad-forstehjelp-ved-selvmordsfare/
LOCATION:Nannestad\, Trøndelag\, Norge
CATEGORIES:Kurs,Førstehjelp ved selvmordsfare,Øst,Lukket kurs
GEO:60.472024;8.468946
END:VEVENT
BEGIN:VEVENT
DTSTART;VALUE=DATE:20211111
DTEND;VALUE=DATE:20211113
DTSTAMP:20260423T110427
CREATED:20210929T104114Z
LAST-MODIFIED:20210929T104114Z
UID:8212-1636588800-1636761599@vivatselvmordsforebygging.net
SUMMARY:Bergen\, Førstehjelp ved selvmordsfare
DESCRIPTION:Mennesket i Fokus arrangerer kurset Førstehjelp ved selvmordsfare. \nKurset er åpent for alle å melde seg på. \nInvitasjon og påmelding \nKontaktperson er Randi Nordvik\, epost: post@mennesketifokus.no \nDeltakelse på kurs forutsetter at deltakerne ikke har luftveissymptomer eller er i hjemmeisolering eller karantene. \n
URL:https://vivatselvmordsforebygging.net/event/bergen-forstehjelp-ved-selvmordsfare-79/
LOCATION:Bergen\, Hordaland\, 5000\, Norge
CATEGORIES:Kurs,Førstehjelp ved selvmordsfare,Vest,Åpent/delvis åpent kurs
GEO:59.4199474;5.2725679
END:VEVENT
BEGIN:VEVENT
DTSTART;VALUE=DATE:20211111
DTEND;VALUE=DATE:20211113
DTSTAMP:20260423T110427
CREATED:20210929T133147Z
LAST-MODIFIED:20210929T133147Z
UID:8222-1636588800-1636761599@vivatselvmordsforebygging.net
SUMMARY:Bergen\, Førstehjelp ved selvmordsfare
DESCRIPTION:Bergen kommune\, etat for rus og psykisk helsehjelp\, arrangerer kurset Førstehjelp ved selvmordsfare. \nKurset er for ansatte\, og lukket for andre deltakere. \nKontaktperson er Martine Bonnier\, epost: Martine.Bonnier@bergen.kommune.no \nDeltakelse på kurs forutsetter at deltakerne ikke har luftveissymptomer eller er i hjemmeisolering eller karantene \n
URL:https://vivatselvmordsforebygging.net/event/bergen-forstehjelp-ved-selvmordsfare-83/
LOCATION:Bergen\, Hordaland\, 5000\, Norge
CATEGORIES:Kurs,Førstehjelp ved selvmordsfare,Vest,Lukket kurs
GEO:59.4199474;5.2725679
END:VEVENT
BEGIN:VEVENT
DTSTART;VALUE=DATE:20211111
DTEND;VALUE=DATE:20211113
DTSTAMP:20260423T110427
CREATED:20211020T113952Z
LAST-MODIFIED:20211020T113952Z
UID:8351-1636588800-1636761599@vivatselvmordsforebygging.net
SUMMARY:Oslo\, Førstehjelp ved selvmordsfare
DESCRIPTION:Oslo Met – Storbyuniversitetet arrangerer Førstehjelp ved selvmordsfare. \nKurset er lukket. \nKontaktperson er  Trine Staff\, epost: tstaff@oslomet.no \nDeltakelse på kurs forutsetter at deltakerne ikke har luftveissymptomer eller er i hjemmeisolering eller karantene. \n
URL:https://vivatselvmordsforebygging.net/event/oslo-forstehjelp-ved-selvmordsfare-88/
LOCATION:Trøndelag
CATEGORIES:Kurs,Førstehjelp ved selvmordsfare,Øst,Lukket kurs
END:VEVENT
END:VCALENDAR