BEGIN:VCALENDAR
VERSION:2.0
PRODID:-//vivat - ECPv4.9.14//NONSGML v1.0//EN
CALSCALE:GREGORIAN
METHOD:PUBLISH
X-WR-CALNAME:vivat
X-ORIGINAL-URL:https://vivatselvmordsforebygging.net
X-WR-CALDESC:Events for vivat
BEGIN:VTIMEZONE
TZID:Europe/Oslo
BEGIN:DAYLIGHT
TZOFFSETFROM:+0100
TZOFFSETTO:+0200
TZNAME:CEST
DTSTART:20210328T010000
END:DAYLIGHT
BEGIN:STANDARD
TZOFFSETFROM:+0200
TZOFFSETTO:+0100
TZNAME:CET
DTSTART:20211031T010000
END:STANDARD
END:VTIMEZONE
BEGIN:VEVENT
DTSTART;VALUE=DATE:20211117
DTEND;VALUE=DATE:20211119
DTSTAMP:20260423T110122
CREATED:20211005T074135Z
LAST-MODIFIED:20211005T080358Z
UID:8245-1637107200-1637279999@vivatselvmordsforebygging.net
SUMMARY:Bergen\, Førstehjelp ved selvmordsfare
DESCRIPTION:Bergen politistasjon arrangerer kurset Førstehjelp ved selvmordsfare. \nKurset er for ansatte\, og lukket for andre deltakere. \nKontaktperson er Randi Nordvik\, epost: post@mennesketifokus.no \nDeltakelse på kurs forutsetter at deltakerne ikke har luftveissymptomer eller er i hjemmeisolering eller karantene. \n
URL:https://vivatselvmordsforebygging.net/event/bergen-forstehjelp-ved-selvmordsfare-87/
LOCATION:Bergen\, Hordaland\, 5000\, Norge
CATEGORIES:Kurs,Førstehjelp ved selvmordsfare,Vest,Lukket kurs
GEO:59.4199474;5.2725679
END:VEVENT
BEGIN:VEVENT
DTSTART;VALUE=DATE:20211117
DTEND;VALUE=DATE:20211118
DTSTAMP:20260423T110122
CREATED:20211008T111414Z
LAST-MODIFIED:20211008T111414Z
UID:8277-1637107200-1637193599@vivatselvmordsforebygging.net
SUMMARY:Kolsås\, Oppmerksom på selvmordstanker
DESCRIPTION:Forsvaret arrangerer kurset Oppmerksom på selvmordstanker. \nKurset er lukket. \nKontaktperson er Lars Erichsen\, epost: laerichsen@mil.no \nDeltakelse på kurs forutsetter at deltakerne ikke har luftveissymptomer eller er i hjemmeisolering eller karantene. \n
URL:https://vivatselvmordsforebygging.net/event/kolsas-oppmerksom-pa-selvmordstanker-4/
LOCATION:Kolsås\, Hordaland\, Norge
CATEGORIES:Kurs,Oppmerksom på selvmordstanker,Øst,Lukket kurs
GEO:60.472024;8.468946
END:VEVENT
BEGIN:VEVENT
DTSTART;TZID=Europe/Oslo:20211117T090000
DTEND;TZID=Europe/Oslo:20211117T133000
DTSTAMP:20260423T110122
CREATED:20211011T105504Z
LAST-MODIFIED:20211026T091420Z
UID:8293-1637139600-1637155800@vivatselvmordsforebygging.net
SUMMARY:Fredrikstad\, Oppmerksom på selvmordstanker
DESCRIPTION:I forbindelse med Folkehelsekampanjen Øst arrangerer Leve Østfold kurset Oppmerksom på selvmordstanker. \nKurset er åpent for alle å melde seg på. \nKontaktperson er Irene Tømta\, epost: leveostfold@gmail.com \nDeltakelse på kurs forutsetter at deltakerne ikke har luftveissymptomer eller er i hjemmeisolering eller karantene. \n  \n
URL:https://vivatselvmordsforebygging.net/event/fredrikstad-oppmerksom-pa-selvmordstanker-2/
LOCATION:Fredrikstad\, Hordaland
CATEGORIES:Kurs,Oppmerksom på selvmordstanker,Øst,Åpent/delvis åpent kurs
END:VEVENT
END:VCALENDAR