BEGIN:VCALENDAR
VERSION:2.0
PRODID:-//vivat - ECPv4.9.14//NONSGML v1.0//EN
CALSCALE:GREGORIAN
METHOD:PUBLISH
X-WR-CALNAME:vivat
X-ORIGINAL-URL:https://vivatselvmordsforebygging.net
X-WR-CALDESC:Events for vivat
BEGIN:VTIMEZONE
TZID:Europe/Oslo
BEGIN:DAYLIGHT
TZOFFSETFROM:+0100
TZOFFSETTO:+0200
TZNAME:CEST
DTSTART:20210328T010000
END:DAYLIGHT
BEGIN:STANDARD
TZOFFSETFROM:+0200
TZOFFSETTO:+0100
TZNAME:CET
DTSTART:20211031T010000
END:STANDARD
END:VTIMEZONE
BEGIN:VEVENT
DTSTART;VALUE=DATE:20211130
DTEND;VALUE=DATE:20211202
DTSTAMP:20260423T094024
CREATED:20210826T081730Z
LAST-MODIFIED:20210826T081730Z
UID:8016-1638230400-1638403199@vivatselvmordsforebygging.net
SUMMARY:Øvre Eiker\, Førstehjelp ved selvmordsfare
DESCRIPTION:RVTS Sør arrangerer kurset Førstehjelp ved selvmordsfare. \nKurset er for læringsnettverk Viken\, og er lukket for andre deltakere. \nKontaktperson er Øyvind Dåsvatn\, epost: oyvind.dasvatn@rvtssor.no \nDeltakelse på kurs forutsetter at deltakerne ikke har luftveissymptomer eller er i hjemmeisolering eller karantene. \n
URL:https://vivatselvmordsforebygging.net/event/ovre-eiker-forstehjelp-ved-selvmordsfare/
LOCATION:Øvre Eiker\, Norge
CATEGORIES:Kurs,Førstehjelp ved selvmordsfare,Sør,Åpent/delvis åpent kurs
GEO:60.472024;8.468946
END:VEVENT
BEGIN:VEVENT
DTSTART;VALUE=DATE:20211201
DTEND;VALUE=DATE:20211202
DTSTAMP:20260423T094024
CREATED:20210915T115419Z
LAST-MODIFIED:20210915T115419Z
UID:8123-1638316800-1638403199@vivatselvmordsforebygging.net
SUMMARY:Tromsø\, Oppmerksom på selvmordstanker
DESCRIPTION:Tromsø kommune arrangerer kurset Oppmerksom på selvmordstanker. \nKurset er for ansatte i kommunen\, og lukket for andre deltakere. \nKontaktperson er Arja Mubanga-Bjørn\, epost: Arja.Bjorn@tromso.kommune.no \nDeltakelse på kurs forutsetter at deltakerne ikke har luftveissymptomer eller er i hjemmeisolering eller karantene. \n
URL:https://vivatselvmordsforebygging.net/event/tromso-oppmerksom-pa-selvmordstanker-19/
LOCATION:Tromsø\, Norge
CATEGORIES:Kurs,Oppmerksom på selvmordstanker,Nord,Lukket kurs
GEO:60.472024;8.468946
END:VEVENT
BEGIN:VEVENT
DTSTART;VALUE=DATE:20211201
DTEND;VALUE=DATE:20211203
DTSTAMP:20260423T094024
CREATED:20211005T073428Z
LAST-MODIFIED:20211005T073428Z
UID:8239-1638316800-1638489599@vivatselvmordsforebygging.net
SUMMARY:Haugesund\, Førstehjelp ved selvmordsfare
DESCRIPTION:Høgskolen på Vestlandet\, campus Haugesund arrangerer kurset Førstehjelp ved selvmordsfare. \nKurset er for ansatte\, og lukket for andre deltakere. \nKontaktperson er Tove V Bråten\, epost: tove@livsrom.life \nDeltakelse på kurs forutsetter at deltakerne ikke har luftveissymptomer eller er i hjemmeisolering eller karantene. \n
URL:https://vivatselvmordsforebygging.net/event/haugesund-forstehjelp-ved-selvmordsfare-4/
LOCATION:Haugesund
CATEGORIES:Kurs,Førstehjelp ved selvmordsfare,Vest,Lukket kurs
END:VEVENT
BEGIN:VEVENT
DTSTART;VALUE=DATE:20211201
DTEND;VALUE=DATE:20211203
DTSTAMP:20260423T094024
CREATED:20211108T134038Z
LAST-MODIFIED:20211108T134038Z
UID:8427-1638316800-1638489599@vivatselvmordsforebygging.net
SUMMARY:Nittedal\, Førtsehjelp ved selvmordsfare
DESCRIPTION:Nittedal kommune arrangerer kurset Førstehjelp ved selvmordsfare. \nKurset er lukket. \nKontaktperson er Hilde Engebretsen\, epost: hilde.engebretsen@nittedal.kommune.no \nDeltakelse på kurs forutsetter at deltakerne ikke har luftveissymptomer eller er i hjemmeisolering eller karantene. \n
URL:https://vivatselvmordsforebygging.net/event/nittedal-fortsehjelp-ved-selvmordsfare/
LOCATION:Nittedal\, Akershus\, 1480\, Norge
CATEGORIES:Kurs,Førstehjelp ved selvmordsfare,Øst,Lukket kurs
GEO:60.0247146;10.942563
END:VEVENT
END:VCALENDAR