BEGIN:VCALENDAR
VERSION:2.0
PRODID:-//vivat - ECPv4.9.14//NONSGML v1.0//EN
CALSCALE:GREGORIAN
METHOD:PUBLISH
X-WR-CALNAME:vivat
X-ORIGINAL-URL:https://vivatselvmordsforebygging.net
X-WR-CALDESC:Events for vivat
BEGIN:VTIMEZONE
TZID:Europe/Oslo
BEGIN:DAYLIGHT
TZOFFSETFROM:+0100
TZOFFSETTO:+0200
TZNAME:CEST
DTSTART:20210328T010000
END:DAYLIGHT
BEGIN:STANDARD
TZOFFSETFROM:+0200
TZOFFSETTO:+0100
TZNAME:CET
DTSTART:20211031T010000
END:STANDARD
END:VTIMEZONE
BEGIN:VEVENT
DTSTART;VALUE=DATE:20211208
DTEND;VALUE=DATE:20211210
DTSTAMP:20260423T094158
CREATED:20211119T122051Z
LAST-MODIFIED:20211119T122051Z
UID:8473-1638921600-1639094399@vivatselvmordsforebygging.net
SUMMARY:Frei\, Førstehjelp ved selvmordsfare
DESCRIPTION:Kristiansand kommune arrangerer kurset Førstehjelp ved selvmordsfare. \nKurset er for Barne og familieenheten i kommunen\, og lukket for andre deltakere. \nKontaktperson er Ingrid Olavsdotter Nesland\, epost: ingrid.nesland@averoy.kommune.no \nDeltakelse på kurs forutsetter at deltakerne ikke har luftveissymptomer eller er i hjemmeisolering eller karantene. \n  \n  \n
URL:https://vivatselvmordsforebygging.net/event/frei-forstehjelp-ved-selvmordsfare/
LOCATION:Frei\, Norge
CATEGORIES:Kurs,Førstehjelp ved selvmordsfare,Midt,Lukket kurs
GEO:60.472024;8.468946
END:VEVENT
BEGIN:VEVENT
DTSTART;TZID=Europe/Oslo:20211209T170000
DTEND;TZID=Europe/Oslo:20211209T210000
DTSTAMP:20260423T094158
CREATED:20211119T125930Z
LAST-MODIFIED:20211119T125930Z
UID:8476-1639069200-1639083600@vivatselvmordsforebygging.net
SUMMARY:Nittedal\, Oppmerksom på selvmordstanker
DESCRIPTION:Nittedal kommune arrangerer kurset oppmerksom på selvmordstanker. \nKurset er åpent for alle å melde seg på. \nInvitasjon \nKontaktperson er Hilde Engebretsen\, epost: hilde.engebretsen@nittedal.kommune.no \nDeltakelse på kurs forutsetter at deltakerne ikke har luftveissymptomer eller er i hjemmeisolering eller karantene. \n  \n
URL:https://vivatselvmordsforebygging.net/event/nittedal-oppmerksom-pa-selvmordstanker-4/
LOCATION:Nittedal\, Akershus\, 1480\, Norge
CATEGORIES:Kurs,Oppmerksom på selvmordstanker,Øst,Åpent/delvis åpent kurs
GEO:60.0247146;10.942563
END:VEVENT
END:VCALENDAR