BEGIN:VCALENDAR
VERSION:2.0
PRODID:-//vivat - ECPv4.9.14//NONSGML v1.0//EN
CALSCALE:GREGORIAN
METHOD:PUBLISH
X-WR-CALNAME:vivat
X-ORIGINAL-URL:https://vivatselvmordsforebygging.net
X-WR-CALDESC:Events for vivat
BEGIN:VTIMEZONE
TZID:Europe/Oslo
BEGIN:DAYLIGHT
TZOFFSETFROM:+0100
TZOFFSETTO:+0200
TZNAME:CEST
DTSTART:20220327T010000
END:DAYLIGHT
BEGIN:STANDARD
TZOFFSETFROM:+0200
TZOFFSETTO:+0100
TZNAME:CET
DTSTART:20221030T010000
END:STANDARD
END:VTIMEZONE
BEGIN:VEVENT
DTSTART;VALUE=DATE:20220202
DTEND;VALUE=DATE:20220204
DTSTAMP:20260423T064843
CREATED:20211215T123022Z
LAST-MODIFIED:20211215T123022Z
UID:8536-1643760000-1643932799@vivatselvmordsforebygging.net
SUMMARY:Hitra\, Førstehjelp ved selvmordsfare
DESCRIPTION:Hitra kommune arrangerer kurset Førstehjelp ved selvmordsfare. \nKurset er for deltakere i kriseteam\, og lukket for andre deltakere. \nKontaktperson er Eva Måsøval Antonsen\, epost: Eva.Masoval.Antonsen@hitra.kommune.no \nDeltakelse på kurs forutsetter at deltakerne ikke har luftveissymptomer eller er i hjemmeisolering eller karantene. \n
URL:https://vivatselvmordsforebygging.net/event/hitra-forstehjelp-ved-selvmordsfare/
LOCATION:Hitra\, Norge
CATEGORIES:Kurs,Førstehjelp ved selvmordsfare,Midt,Lukket kurs
END:VEVENT
BEGIN:VEVENT
DTSTART;VALUE=DATE:20220203
DTEND;VALUE=DATE:20220204
DTSTAMP:20260423T064843
CREATED:20210903T084743Z
LAST-MODIFIED:20210903T084743Z
UID:8069-1643846400-1643932799@vivatselvmordsforebygging.net
SUMMARY:Tromsø\, FriskOpp
DESCRIPTION:Universitetssykehuset Nord-Norge arrangerer kurset FriskOpp. \nKurset er for ansatte\, og lukket for andre deltakere. \nKontaktperson er Julie Nøstvold\, epost: Julie.Nostvold@unn.no \nDeltakelse på kurs forutsetter at deltakerne ikke har luftveissymptomer eller er i hjemmeisolering eller karantene. \n
URL:https://vivatselvmordsforebygging.net/event/tromso-friskopp-3/
LOCATION:Tromsø\, Norge
CATEGORIES:Kurs,FriskOpp,Nord,Lukket kurs
GEO:60.472024;8.468946
END:VEVENT
BEGIN:VEVENT
DTSTART;VALUE=DATE:20220203
DTEND;VALUE=DATE:20220205
DTSTAMP:20260423T064843
CREATED:20220110T121707Z
LAST-MODIFIED:20220110T121707Z
UID:8578-1643846400-1644019199@vivatselvmordsforebygging.net
SUMMARY:Oslo\, Førstehjelp ved selvmordsfare
DESCRIPTION:OsloMet arrangerer kurset Førstehjelp ved selvmordsfare. \nKurset er lukket. \nKontaktperson er Nina Thorvaldsen\, epost: nithor@oslomet.no \nDeltakelse på kurs forutsetter at deltakerne ikke har luftveissymptomer eller er i hjemmeisolering eller karantene. \n
URL:https://vivatselvmordsforebygging.net/event/oslo-forstehjelp-ved-selvmordsfare-89/
LOCATION:Oslo\, Norge
CATEGORIES:Kurs,Førstehjelp ved selvmordsfare,Øst,Lukket kurs
END:VEVENT
END:VCALENDAR