BEGIN:VCALENDAR
VERSION:2.0
PRODID:-//vivat - ECPv4.9.14//NONSGML v1.0//EN
CALSCALE:GREGORIAN
METHOD:PUBLISH
X-WR-CALNAME:vivat
X-ORIGINAL-URL:https://vivatselvmordsforebygging.net
X-WR-CALDESC:Events for vivat
BEGIN:VTIMEZONE
TZID:Europe/Oslo
BEGIN:DAYLIGHT
TZOFFSETFROM:+0100
TZOFFSETTO:+0200
TZNAME:CEST
DTSTART:20220327T010000
END:DAYLIGHT
BEGIN:STANDARD
TZOFFSETFROM:+0200
TZOFFSETTO:+0100
TZNAME:CET
DTSTART:20221030T010000
END:STANDARD
END:VTIMEZONE
BEGIN:VEVENT
DTSTART;VALUE=DATE:20220208
DTEND;VALUE=DATE:20220210
DTSTAMP:20260423T065743
CREATED:20211201T114412Z
LAST-MODIFIED:20211201T114440Z
UID:8510-1644278400-1644451199@vivatselvmordsforebygging.net
SUMMARY:Lillehammer\, Førstehjelp ved selvmordsfare
DESCRIPTION:Innlandet fylkeskommune arrangerer kurset Førstehjelp ved selvmordsfare. \nKurset er for alle ansatte\, og lukket for andre deltakere. \nKontaktperson Lotte Wevelstad: lotte.wevelstad@innlandet.fylkeskommune.no \nInvitasjon \nDeltakelse på kurs forutsetter at deltakerne ikke har luftveissymptomer eller er i hjemmeisolering eller karantene. \n
URL:https://vivatselvmordsforebygging.net/event/8510/
LOCATION:Lillehammer
CATEGORIES:Kurs,Førstehjelp ved selvmordsfare,Øst,Lukket kurs
END:VEVENT
BEGIN:VEVENT
DTSTART;VALUE=DATE:20220208
DTEND;VALUE=DATE:20220210
DTSTAMP:20260423T065743
CREATED:20220118T084826Z
LAST-MODIFIED:20220118T084826Z
UID:8616-1644278400-1644451199@vivatselvmordsforebygging.net
SUMMARY:Sessvollmoen\, Førstehjelp ved selvmordsfare
DESCRIPTION:Forsvaret i samarbeid med Politiet arrangerer kurset Førstehjelp ved selvmordsfare. \nKurset er lukket. \nKontaktperson er Wenche Molstad\, epost: wmolstad@mil.no \nDeltakelse på kurs forutsetter at deltakerne ikke har luftveissymptomer eller er i hjemmeisolering eller karantene. \n
URL:https://vivatselvmordsforebygging.net/event/sessvollmoen-forstehjelp-ved-selvmordsfare-5/
LOCATION:Sessvollmoen\, 2058\, Norge
CATEGORIES:Kurs,Førstehjelp ved selvmordsfare,Øst,Lukket kurs
GEO:35.0204237;-97.9727427
END:VEVENT
BEGIN:VEVENT
DTSTART;VALUE=DATE:20220208
DTEND;VALUE=DATE:20220209
DTSTAMP:20260423T065743
CREATED:20220125T093001Z
LAST-MODIFIED:20220125T093001Z
UID:8630-1644278400-1644364799@vivatselvmordsforebygging.net
SUMMARY:Trondheim\, Oppmerksom på selvmordstanker
DESCRIPTION:SiT\, NTNU arrangerer kurset Oppmerksom på selvmordstanker. \nKurset er lukket. \nKontaktperson er Rita Småvik\, epost: rita.smavik@stolav.no \nDeltakelse på kurs forutsetter at deltakerne ikke har luftveissymptomer eller er i hjemmeisolering eller karantene. \n
URL:https://vivatselvmordsforebygging.net/event/trondheim-oppmerksom-pa-selvmordstanker-29/
LOCATION:Trondheim\, Norge
CATEGORIES:Kurs,Oppmerksom på selvmordstanker,Midt,Lukket kurs
END:VEVENT
BEGIN:VEVENT
DTSTART;VALUE=DATE:20220208
DTEND;VALUE=DATE:20220209
DTSTAMP:20260423T065743
CREATED:20220201T082630Z
LAST-MODIFIED:20220201T082630Z
UID:8649-1644278400-1644364799@vivatselvmordsforebygging.net
SUMMARY:Oslo\, Oppmerksom på selvmordstanker
DESCRIPTION:Kurset Oppmerksom på selvmordstanker arrangeres hos Hans Majestet Kongens garde. \nKurset er lukket for andre deltakere. \nKontaktperson er Thomas Hansen\, epost: armyhvo@gmail.com \nDeltakelse på kurs forutsetter at deltakerne ikke har luftveissymptomer eller er i hjemmeisolering eller karantene. \n
URL:https://vivatselvmordsforebygging.net/event/oslo-oppmerksom-pa-selvmordstanker-28/
LOCATION:Oslo\, Norge
CATEGORIES:Kurs,Oppmerksom på selvmordstanker,Øst,Lukket kurs
END:VEVENT
END:VCALENDAR