BEGIN:VCALENDAR
VERSION:2.0
PRODID:-//vivat - ECPv4.9.14//NONSGML v1.0//EN
CALSCALE:GREGORIAN
METHOD:PUBLISH
X-WR-CALNAME:vivat
X-ORIGINAL-URL:https://vivatselvmordsforebygging.net
X-WR-CALDESC:Events for vivat
BEGIN:VTIMEZONE
TZID:Europe/Oslo
BEGIN:DAYLIGHT
TZOFFSETFROM:+0100
TZOFFSETTO:+0200
TZNAME:CEST
DTSTART:20220327T010000
END:DAYLIGHT
BEGIN:STANDARD
TZOFFSETFROM:+0200
TZOFFSETTO:+0100
TZNAME:CET
DTSTART:20221030T010000
END:STANDARD
END:VTIMEZONE
BEGIN:VEVENT
DTSTART;VALUE=DATE:20220223
DTEND;VALUE=DATE:20220225
DTSTAMP:20260423T070257
CREATED:20211215T121719Z
LAST-MODIFIED:20220214T100926Z
UID:8532-1645574400-1645747199@vivatselvmordsforebygging.net
SUMMARY:Bergen\, Førstehjelp ved selvmordsfare
DESCRIPTION:RVTS Vest arrangerer kurset Førstehjelp ved selvmordsfare. \nKurset er for Krisesenter i Bergen\, og lukket for andre deltakere. \nKontaktperson er Hanne Siri Austgulen\, epost: hanne.austgulen@helse-bergen.no \n  \n
URL:https://vivatselvmordsforebygging.net/event/bergen-forstehjelp-ved-selvmordsfare-88/
LOCATION:Bergen\, Hordaland\, 5000\, Norge
CATEGORIES:Kurs,Førstehjelp ved selvmordsfare,Vest,Lukket kurs
GEO:59.4199474;5.2725679
END:VEVENT
BEGIN:VEVENT
DTSTART;VALUE=DATE:20220224
DTEND;VALUE=DATE:20220226
DTSTAMP:20260423T070257
CREATED:20220110T115716Z
LAST-MODIFIED:20220214T101107Z
UID:8566-1645660800-1645833599@vivatselvmordsforebygging.net
SUMMARY:Bergen\, Førstehjelp ved selvmordsfare
DESCRIPTION:Mennesket i Fokus arrangerer kurset Førstehjelp ved selvmordsfare. \nKurset er åpent for alle å melde seg på. \nInvitasjon \nKontaktperson er Randi T. Norvik\, epost: randi@mennesketifokus.no \n  \n
URL:https://vivatselvmordsforebygging.net/event/bergen-forstehjelp-ved-selvmordsfare-89/
LOCATION:Bergen\, Hordaland\, Norge
CATEGORIES:Kurs,Førstehjelp ved selvmordsfare,Vest,Åpent/delvis åpent kurs
GEO:60.472024;8.468946
END:VEVENT
BEGIN:VEVENT
DTSTART;VALUE=DATE:20220224
DTEND;VALUE=DATE:20220226
DTSTAMP:20260423T070257
CREATED:20220131T135610Z
LAST-MODIFIED:20220214T101142Z
UID:8647-1645660800-1645833599@vivatselvmordsforebygging.net
SUMMARY:Sortland\, Førstehjelp ved selvmordsfare
DESCRIPTION:Sortland kommune arrangerer kurset Førstehjelp ved selvmordsfare. \nKurset er for ansatte\, og lukket for andre deltakere. \nKontaktperson er: Randulf Nedrum\, epost: Randulf.Nedrum@sortland.kommune.no \n  \n
URL:https://vivatselvmordsforebygging.net/event/sortland-forstehjelp-ved-selvmordsfare-8/
LOCATION:Sortland\, Hordaland\, Norge
CATEGORIES:Kurs,Førstehjelp ved selvmordsfare,Nord,Lukket kurs
END:VEVENT
BEGIN:VEVENT
DTSTART;VALUE=DATE:20220224
DTEND;VALUE=DATE:20220225
DTSTAMP:20260423T070257
CREATED:20220224T100403Z
LAST-MODIFIED:20220224T100403Z
UID:8816-1645660800-1645747199@vivatselvmordsforebygging.net
SUMMARY:Bodø\, Oppmerksom på selvmordstanker
DESCRIPTION:Bodin videregående skole arrangerer kurset Oppmerksom på selvmordstanker. \nDet holdes 2 kurs denne dagen. \nKursene er lukket. \nKontaktperson er Torunn Blokhus\, epost: torunn.blokhus@sbnett.no \n
URL:https://vivatselvmordsforebygging.net/event/bodo-oppmerksom-pa-selvmordstanker-9/
LOCATION:Bodø\, Hordaland\, Norge
CATEGORIES:Kurs,Oppmerksom på selvmordstanker,Nord,Lukket kurs
GEO:60.472024;8.468946
END:VEVENT
END:VCALENDAR