BEGIN:VCALENDAR
VERSION:2.0
PRODID:-//vivat - ECPv4.9.14//NONSGML v1.0//EN
CALSCALE:GREGORIAN
METHOD:PUBLISH
X-WR-CALNAME:vivat
X-ORIGINAL-URL:https://vivatselvmordsforebygging.net
X-WR-CALDESC:Events for vivat
BEGIN:VTIMEZONE
TZID:Europe/Oslo
BEGIN:DAYLIGHT
TZOFFSETFROM:+0100
TZOFFSETTO:+0200
TZNAME:CEST
DTSTART:20220327T010000
END:DAYLIGHT
BEGIN:STANDARD
TZOFFSETFROM:+0200
TZOFFSETTO:+0100
TZNAME:CET
DTSTART:20221030T010000
END:STANDARD
END:VTIMEZONE
BEGIN:VEVENT
DTSTART;VALUE=DATE:20220307
DTEND;VALUE=DATE:20220309
DTSTAMP:20260423T052355
CREATED:20220204T115232Z
LAST-MODIFIED:20220214T102542Z
UID:8663-1646611200-1646783999@vivatselvmordsforebygging.net
SUMMARY:Lillestrøm\, Førstehjelp ved selvmordsfare
DESCRIPTION:Kriminalomsorgens høgskole og utdanningssenter arrangerer 4 kurs i Førstehjelp ved selvmordsfare. \nKurset er for aspiranter ved utdanninga\, og er lukket for andre deltakere. \nKontaktperson er Vidar Skogvoll\, epost: vidar.skogvoll@krus.no \n\n  \n\n
URL:https://vivatselvmordsforebygging.net/event/lillestrom-forstehjelp-ved-selvmordsfare-6/
LOCATION:Lillestrøm
CATEGORIES:Kurs,Førstehjelp ved selvmordsfare,Øst,Lukket kurs
END:VEVENT
BEGIN:VEVENT
DTSTART;VALUE=DATE:20220308
DTEND;VALUE=DATE:20220309
DTSTAMP:20260423T052355
CREATED:20220112T115108Z
LAST-MODIFIED:20220214T124924Z
UID:8588-1646697600-1646783999@vivatselvmordsforebygging.net
SUMMARY:Narvik\, Oppmerksom på selvmordstanker
DESCRIPTION:Nordland fylkeskommune arrangerer kurset Oppmerksom på selvmordstanker ved Narvik videregående skole. \nDette kurset arrangeres i forbindelse med Nordland fylkeskommune sitt arbeid med Nullvisjon mot selvmord. \nKurset er lukket. \n  \n
URL:https://vivatselvmordsforebygging.net/event/narvik-oppmerksom-pa-selvmordstanker-3/
LOCATION:Narvik\, Norge
CATEGORIES:Kurs,Oppmerksom på selvmordstanker,Nord,Lukket kurs
GEO:60.472024;8.468946
END:VEVENT
BEGIN:VEVENT
DTSTART;VALUE=DATE:20220308
DTEND;VALUE=DATE:20220310
DTSTAMP:20260423T052355
CREATED:20220217T133002Z
LAST-MODIFIED:20220217T133002Z
UID:8802-1646697600-1646870399@vivatselvmordsforebygging.net
SUMMARY:Tromsø\, Førstehjelp ved selvmordsfare
DESCRIPTION:Det arrangeres to kurs for 4. års medisinerstudenter ved Universitetet i Tromsø. \nKursene er lukket. \nKontaktperson er Kari J. Lægreid\, e-post: kari.j.lagreid@uit.no \n
URL:https://vivatselvmordsforebygging.net/event/tromso-forstehjelp-ved-selvmordsfare-67/
LOCATION:Tromsø\, Norge
CATEGORIES:Kurs,Førstehjelp ved selvmordsfare,Nord,Lukket kurs
GEO:60.472024;8.468946
END:VEVENT
END:VCALENDAR