BEGIN:VCALENDAR
VERSION:2.0
PRODID:-//vivat - ECPv4.9.14//NONSGML v1.0//EN
CALSCALE:GREGORIAN
METHOD:PUBLISH
X-WR-CALNAME:vivat
X-ORIGINAL-URL:https://vivatselvmordsforebygging.net
X-WR-CALDESC:Events for vivat
BEGIN:VTIMEZONE
TZID:Europe/Oslo
BEGIN:DAYLIGHT
TZOFFSETFROM:+0100
TZOFFSETTO:+0200
TZNAME:CEST
DTSTART:20220327T010000
END:DAYLIGHT
BEGIN:STANDARD
TZOFFSETFROM:+0200
TZOFFSETTO:+0100
TZNAME:CET
DTSTART:20221030T010000
END:STANDARD
END:VTIMEZONE
BEGIN:VEVENT
DTSTART;VALUE=DATE:20220315
DTEND;VALUE=DATE:20220317
DTSTAMP:20260423T052401
CREATED:20220224T133955Z
LAST-MODIFIED:20220302T123747Z
UID:8821-1647302400-1647475199@vivatselvmordsforebygging.net
SUMMARY:Arendal\, Førstehjelp ved selvmordsfare
DESCRIPTION:RVTS Sør arrangerer kurset Førstehjelp ved selvmordsfare. \nKurset er for ansatte ved Sam Eyde videregående skole\, og lukket for andre deltakere. \nKontaktperson er Øyvind Dåsvatn\, epost: oyvind.dasvatn@rvtssor.no \n  \n
URL:https://vivatselvmordsforebygging.net/event/kristiansand-forstehjelp-ved-selvmordsfare-33/
LOCATION:Arendal\, Norge
CATEGORIES:Kurs,Førstehjelp ved selvmordsfare,Sør,Lukket kurs
GEO:60.472024;8.468946
END:VEVENT
BEGIN:VEVENT
DTSTART;VALUE=DATE:20220315
DTEND;VALUE=DATE:20220317
DTSTAMP:20260423T052401
CREATED:20220228T133408Z
LAST-MODIFIED:20220228T133408Z
UID:8833-1647302400-1647475199@vivatselvmordsforebygging.net
SUMMARY:Sarpsborg\, Førstehjelp ved selvmordsfare
DESCRIPTION:Sarpsborg kommune arrangerer kurset Førtsehjelp ved selvmordsfare. \nKurset er lukket. \nKontaktperson er Lasse Nilsen\, epost: nilsenlasse@hotmail.com \n
URL:https://vivatselvmordsforebygging.net/event/sarpsborg-forstehjelp-ved-selvmordsfare-4/
LOCATION:Sarpsborg
CATEGORIES:Kurs,Førstehjelp ved selvmordsfare,Sør,Lukket kurs
END:VEVENT
BEGIN:VEVENT
DTSTART;VALUE=DATE:20220316
DTEND;VALUE=DATE:20220318
DTSTAMP:20260423T052401
CREATED:20220210T084317Z
LAST-MODIFIED:20220214T125907Z
UID:8697-1647388800-1647561599@vivatselvmordsforebygging.net
SUMMARY:Trondheim\, Førstehjelp ved selvmordsfare
DESCRIPTION:RVTS Midt arrangerer kurset Førstehjelp ved selvmordsfare. \nKurset er åpent for alle å melde seg på. \nInvitasjon og påmelding \nKontaktperson er Rune Nilsen\, epost: runeonilsen@gmail.com \n  \n
URL:https://vivatselvmordsforebygging.net/event/trondheim-forstehjelp-ved-selvmordsfare-54/
LOCATION:Trondheim\, Norge
CATEGORIES:Kurs,Førstehjelp ved selvmordsfare,Midt,Åpent/delvis åpent kurs
END:VEVENT
END:VCALENDAR