BEGIN:VCALENDAR
VERSION:2.0
PRODID:-//vivat - ECPv4.9.14//NONSGML v1.0//EN
CALSCALE:GREGORIAN
METHOD:PUBLISH
X-WR-CALNAME:vivat
X-ORIGINAL-URL:https://vivatselvmordsforebygging.net
X-WR-CALDESC:Events for vivat
BEGIN:VTIMEZONE
TZID:Europe/Oslo
BEGIN:DAYLIGHT
TZOFFSETFROM:+0100
TZOFFSETTO:+0200
TZNAME:CEST
DTSTART:20220327T010000
END:DAYLIGHT
BEGIN:STANDARD
TZOFFSETFROM:+0200
TZOFFSETTO:+0100
TZNAME:CET
DTSTART:20221030T010000
END:STANDARD
END:VTIMEZONE
BEGIN:VEVENT
DTSTART;VALUE=DATE:20220316
DTEND;VALUE=DATE:20220318
DTSTAMP:20260423T052355
CREATED:20220210T084317Z
LAST-MODIFIED:20220214T125907Z
UID:8697-1647388800-1647561599@vivatselvmordsforebygging.net
SUMMARY:Trondheim\, Førstehjelp ved selvmordsfare
DESCRIPTION:RVTS Midt arrangerer kurset Førstehjelp ved selvmordsfare. \nKurset er åpent for alle å melde seg på. \nInvitasjon og påmelding \nKontaktperson er Rune Nilsen\, epost: runeonilsen@gmail.com \n  \n
URL:https://vivatselvmordsforebygging.net/event/trondheim-forstehjelp-ved-selvmordsfare-54/
LOCATION:Trondheim\, Norge
CATEGORIES:Kurs,Førstehjelp ved selvmordsfare,Midt,Åpent/delvis åpent kurs
END:VEVENT
BEGIN:VEVENT
DTSTART;VALUE=DATE:20220317
DTEND;VALUE=DATE:20220319
DTSTAMP:20260423T052355
CREATED:20211215T120130Z
LAST-MODIFIED:20220214T125939Z
UID:8523-1647475200-1647647999@vivatselvmordsforebygging.net
SUMMARY:Tromsø\, Førstehjelp ved selvmordsfare
DESCRIPTION:Universitetet i Tromsø arrangerer kurset Førstehjelp ved selvmordsfare. \nKurset er for psykologistudenter\, og lukket for andre deltakere. \nKontaktperson er Ingvil Nordnes Myrbakk\, epost: ingvild.n.myrbakk@uit.no \n  \n
URL:https://vivatselvmordsforebygging.net/event/tromso-forstehjelp-ved-selvmordsfare-63/
LOCATION:Tromsø\, Norge
CATEGORIES:Kurs,Førstehjelp ved selvmordsfare,Nord,Lukket kurs
GEO:60.472024;8.468946
END:VEVENT
BEGIN:VEVENT
DTSTART;VALUE=DATE:20220317
DTEND;VALUE=DATE:20220318
DTSTAMP:20260423T052355
CREATED:20220112T115417Z
LAST-MODIFIED:20220214T130010Z
UID:8595-1647475200-1647561599@vivatselvmordsforebygging.net
SUMMARY:Narvik\, Oppmerksom på selvmordstanker
DESCRIPTION:Nordland fylkeskommune arrangerer kurset Oppmerksom på selvmordstanker ved Narvik videregående skole. \nDette kurset arrangeres i forbindelse med Nordland fylkeskommune sitt arbeid med Nullvisjon mot selvmord. \nKurset er lukket. \n  \n
URL:https://vivatselvmordsforebygging.net/event/narvik-oppmerksom-pa-selvmordstanker-6/
LOCATION:Narvik\, Norge
CATEGORIES:Kurs,Oppmerksom på selvmordstanker,Nord,Lukket kurs
GEO:60.472024;8.468946
END:VEVENT
BEGIN:VEVENT
DTSTART;VALUE=DATE:20220317
DTEND;VALUE=DATE:20220319
DTSTAMP:20260423T052355
CREATED:20220202T093540Z
LAST-MODIFIED:20220214T130037Z
UID:8656-1647475200-1647647999@vivatselvmordsforebygging.net
SUMMARY:Flekkefjord\, Førstehjelp ved selvmordsfare
DESCRIPTION:Flekkefjord kommune arrangerer kurset Førstehjelp ved selvmordsfare. \nKurset er for ansatte i kommunen\, og lukket for andre deltakere. \nKontaktperson er Veronica Thele\, epost: veronica.thele@gmail.com \n  \n
URL:https://vivatselvmordsforebygging.net/event/flekkefjord-forstehjelp-ved-selvmordsfare-3/
LOCATION:Flekkefjord\, Norge
CATEGORIES:Kurs,Førstehjelp ved selvmordsfare,Sør,Lukket kurs
GEO:60.472024;8.468946
END:VEVENT
BEGIN:VEVENT
DTSTART;VALUE=DATE:20220317
DTEND;VALUE=DATE:20220319
DTSTAMP:20260423T052355
CREATED:20220302T124337Z
LAST-MODIFIED:20220302T124401Z
UID:8848-1647475200-1647647999@vivatselvmordsforebygging.net
SUMMARY:Kristiansand\, Førstehjelp ved selvmordsfare
DESCRIPTION:RVTS Sør arrangerer kurset Førstehjelp ved selvmordsfare. \nKurset er for Varodd arbeid og inkludering\, og er lukket for andre deltakere. \nKontaktperson er Øyvind Dåsvatn\, epost: oyvind.dasvatn@rvtssor.no \n
URL:https://vivatselvmordsforebygging.net/event/kristiansand-forstehjelp-ved-selvmordsfare-34/
LOCATION:Kristiansand\, Kristiansand\, Vest-Agder\, 4600\, Norge
CATEGORIES:Kurs,Førstehjelp ved selvmordsfare,Sør,Lukket kurs
GEO:58.1611426;8.0307271
END:VEVENT
END:VCALENDAR