BEGIN:VCALENDAR
VERSION:2.0
PRODID:-//vivat - ECPv4.9.14//NONSGML v1.0//EN
CALSCALE:GREGORIAN
METHOD:PUBLISH
X-WR-CALNAME:vivat
X-ORIGINAL-URL:https://vivatselvmordsforebygging.net
X-WR-CALDESC:Events for vivat
BEGIN:VTIMEZONE
TZID:Europe/Oslo
BEGIN:DAYLIGHT
TZOFFSETFROM:+0100
TZOFFSETTO:+0200
TZNAME:CEST
DTSTART:20220327T010000
END:DAYLIGHT
BEGIN:STANDARD
TZOFFSETFROM:+0200
TZOFFSETTO:+0100
TZNAME:CET
DTSTART:20221030T010000
END:STANDARD
END:VTIMEZONE
BEGIN:VEVENT
DTSTART;VALUE=DATE:20220322
DTEND;VALUE=DATE:20220324
DTSTAMP:20260423T052426
CREATED:20220303T092549Z
LAST-MODIFIED:20220303T092549Z
UID:8856-1647907200-1648079999@vivatselvmordsforebygging.net
SUMMARY:Elverum\, Førstehjelp ved selvmordsfare
DESCRIPTION:Elverum kommune og Forsvaret arrangerer kurset Førstehjelp ved selvmordsfare. \nKurset er for ansatte i Elverum kommune og Forsvaret. \nKurset er lukket for andre deltakere. \nKontaktperson er Unni Hågensen\, epost: unni.hagensen@elverum.kommune.no \n
URL:https://vivatselvmordsforebygging.net/event/elverum-forstehjelp-ved-selvmordsfare-7/
LOCATION:Elverum\, Norge
CATEGORIES:Kurs,Førstehjelp ved selvmordsfare,Øst,Lukket kurs
GEO:60.472024;8.468946
END:VEVENT
BEGIN:VEVENT
DTSTART;VALUE=DATE:20220323
DTEND;VALUE=DATE:20220325
DTSTAMP:20260423T052426
CREATED:20211215T121908Z
LAST-MODIFIED:20220214T130507Z
UID:8534-1647993600-1648166399@vivatselvmordsforebygging.net
SUMMARY:Sandnes\, Førstehjelp ved selvmordsfare
DESCRIPTION:RVTS Vest arrangerer kurset Førstehjelp ved selvmordsfare. \nKurset er for Flyktningetjenesten i Sandnes kommune\, og lukket for andre deltakere. \nKontaktperson er Hanne Siri Austgulen\, epost: hanne.austgulen@helse-bergen.no \n  \n
URL:https://vivatselvmordsforebygging.net/event/sandnes-forstehjelp-ved-selvmordsfare-5/
LOCATION:Sandnes
CATEGORIES:Kurs,Førstehjelp ved selvmordsfare,Vest,Lukket kurs
END:VEVENT
BEGIN:VEVENT
DTSTART;VALUE=DATE:20220323
DTEND;VALUE=DATE:20220325
DTSTAMP:20260423T052426
CREATED:20220112T120834Z
LAST-MODIFIED:20220214T130559Z
UID:8599-1647993600-1648166399@vivatselvmordsforebygging.net
SUMMARY:Silsand\, Førstehjelp ved selvmordsfare
DESCRIPTION:DPS Silsand arrangerer kurset Førstehjelp ved selvmordsfare.\n\nKurset er for ansatte\, og lukket for andre deltakere.\n\nKontaktperson er Trine Persen\, epost: trine.persen@outlook.com\n\n
URL:https://vivatselvmordsforebygging.net/event/silsand-forstehjelp-ved-selvmordsfare-5/
LOCATION:Silsand\, Troms\, 9303\, Norge
CATEGORIES:Kurs,Førstehjelp ved selvmordsfare,Nord,Lukket kurs
GEO:69.2683077;17.6787919
END:VEVENT
BEGIN:VEVENT
DTSTART;VALUE=DATE:20220323
DTEND;VALUE=DATE:20220324
DTSTAMP:20260423T052426
CREATED:20220210T083620Z
LAST-MODIFIED:20220214T130631Z
UID:8689-1647993600-1648079999@vivatselvmordsforebygging.net
SUMMARY:Trondheim\, Oppmerksom på selvmordstanker
DESCRIPTION:RVTS Midt arrangerer kurset Oppmerksom på selvmordstanker. \nKurset er åpent for alle å melde seg på. \nInvitasjon og påmelding \nKontaktperson er Rune Nilsen\, epost: runeonilsen@gmail.com \n  \n
URL:https://vivatselvmordsforebygging.net/event/trondheim-oppmerksom-pa-selvmordstanker-30/
LOCATION:Trondheim\, Norge
CATEGORIES:Kurs,Oppmerksom på selvmordstanker,Midt,Åpent/delvis åpent kurs
END:VEVENT
BEGIN:VEVENT
DTSTART;VALUE=DATE:20220323
DTEND;VALUE=DATE:20220324
DTSTAMP:20260423T052426
CREATED:20220228T132329Z
LAST-MODIFIED:20220228T132329Z
UID:8829-1647993600-1648079999@vivatselvmordsforebygging.net
SUMMARY:Leknes\, Oppmerksom på selvmordstanker
DESCRIPTION:I forbindelse med Nordland fylkeskommune vedtatte 0-visjon\, arrangeres kurset Oppmerksom på selvmordstanker ved Vest-Lofoten Videregående skole. \nKurset er lukket. \nKontaktperson er Elin Anita Pettersen\, epost: Elin.Anita.Pettersen@nordlandssykehuset.no \n
URL:https://vivatselvmordsforebygging.net/event/leknes-oppmerksom-pa-selvmordstanker/
LOCATION:Leknes
CATEGORIES:Kurs,Oppmerksom på selvmordstanker,Nord,Lukket kurs
END:VEVENT
END:VCALENDAR