BEGIN:VCALENDAR
VERSION:2.0
PRODID:-//vivat - ECPv4.9.14//NONSGML v1.0//EN
CALSCALE:GREGORIAN
METHOD:PUBLISH
X-WR-CALNAME:vivat
X-ORIGINAL-URL:https://vivatselvmordsforebygging.net
X-WR-CALDESC:Events for vivat
BEGIN:VTIMEZONE
TZID:Europe/Oslo
BEGIN:DAYLIGHT
TZOFFSETFROM:+0100
TZOFFSETTO:+0200
TZNAME:CEST
DTSTART:20220327T010000
END:DAYLIGHT
BEGIN:STANDARD
TZOFFSETFROM:+0200
TZOFFSETTO:+0100
TZNAME:CET
DTSTART:20221030T010000
END:STANDARD
END:VTIMEZONE
BEGIN:VEVENT
DTSTART;VALUE=DATE:20220323
DTEND;VALUE=DATE:20220325
DTSTAMP:20260423T052554
CREATED:20211215T121908Z
LAST-MODIFIED:20220214T130507Z
UID:8534-1647993600-1648166399@vivatselvmordsforebygging.net
SUMMARY:Sandnes\, Førstehjelp ved selvmordsfare
DESCRIPTION:RVTS Vest arrangerer kurset Førstehjelp ved selvmordsfare. \nKurset er for Flyktningetjenesten i Sandnes kommune\, og lukket for andre deltakere. \nKontaktperson er Hanne Siri Austgulen\, epost: hanne.austgulen@helse-bergen.no \n  \n
URL:https://vivatselvmordsforebygging.net/event/sandnes-forstehjelp-ved-selvmordsfare-5/
LOCATION:Sandnes
CATEGORIES:Kurs,Førstehjelp ved selvmordsfare,Vest,Lukket kurs
END:VEVENT
BEGIN:VEVENT
DTSTART;VALUE=DATE:20220323
DTEND;VALUE=DATE:20220325
DTSTAMP:20260423T052554
CREATED:20220112T120834Z
LAST-MODIFIED:20220214T130559Z
UID:8599-1647993600-1648166399@vivatselvmordsforebygging.net
SUMMARY:Silsand\, Førstehjelp ved selvmordsfare
DESCRIPTION:DPS Silsand arrangerer kurset Førstehjelp ved selvmordsfare.\n\nKurset er for ansatte\, og lukket for andre deltakere.\n\nKontaktperson er Trine Persen\, epost: trine.persen@outlook.com\n\n
URL:https://vivatselvmordsforebygging.net/event/silsand-forstehjelp-ved-selvmordsfare-5/
LOCATION:Silsand\, Troms\, 9303\, Norge
CATEGORIES:Kurs,Førstehjelp ved selvmordsfare,Nord,Lukket kurs
GEO:69.2683077;17.6787919
END:VEVENT
BEGIN:VEVENT
DTSTART;VALUE=DATE:20220324
DTEND;VALUE=DATE:20220326
DTSTAMP:20260423T052554
CREATED:20220207T101625Z
LAST-MODIFIED:20220214T130728Z
UID:8683-1648080000-1648252799@vivatselvmordsforebygging.net
SUMMARY:Vinstra\, Førstehjelp ved selvmordsfare
DESCRIPTION:Nord-Fron kommune arrangerer kurset Førstehjelp ved selvmordsfare. \nKurset er for ansatte i kommunale tjenester\, offentlige tjenester og FACT Sør-Gudbrandsdal. \nDet er lukket for andre deltakere. \nKontaktperson er Ragna Eide Myhre\, epost: Ragna.eide.myhre@nord-fron.kommune.no \n  \n
URL:https://vivatselvmordsforebygging.net/event/vinstra-forstehjelp-ved-selvmordsfare-2/
LOCATION:Vinstra\, Norge
CATEGORIES:Kurs,Førstehjelp ved selvmordsfare,Øst,Lukket kurs
GEO:60.472024;8.468946
END:VEVENT
BEGIN:VEVENT
DTSTART;VALUE=DATE:20220324
DTEND;VALUE=DATE:20220326
DTSTAMP:20260423T052554
CREATED:20220228T141509Z
LAST-MODIFIED:20220228T141509Z
UID:8842-1648080000-1648252799@vivatselvmordsforebygging.net
SUMMARY:Tromsø\, Førstehjelp ved selvmordsfare
DESCRIPTION:Fagforbundet arrangerer kurset Førstehjelp ved selvmordsfare. \nKurset er for medlemmer\, og lukket for andre deltakere. \n  \n
URL:https://vivatselvmordsforebygging.net/event/tromso-forstehjelp-ved-selvmordsfare-57/
LOCATION:Tromsø\, Norge
CATEGORIES:Kurs,Førstehjelp ved selvmordsfare,Nord,Lukket kurs
GEO:60.472024;8.468946
END:VEVENT
END:VCALENDAR