BEGIN:VCALENDAR
VERSION:2.0
PRODID:-//vivat - ECPv4.9.14//NONSGML v1.0//EN
CALSCALE:GREGORIAN
METHOD:PUBLISH
X-WR-CALNAME:vivat
X-ORIGINAL-URL:https://vivatselvmordsforebygging.net
X-WR-CALDESC:Events for vivat
BEGIN:VTIMEZONE
TZID:Europe/Oslo
BEGIN:DAYLIGHT
TZOFFSETFROM:+0100
TZOFFSETTO:+0200
TZNAME:CEST
DTSTART:20220327T010000
END:DAYLIGHT
BEGIN:STANDARD
TZOFFSETFROM:+0200
TZOFFSETTO:+0100
TZNAME:CET
DTSTART:20221030T010000
END:STANDARD
END:VTIMEZONE
BEGIN:VEVENT
DTSTART;VALUE=DATE:20220404
DTEND;VALUE=DATE:20220406
DTSTAMP:20260423T035223
CREATED:20220311T124859Z
LAST-MODIFIED:20220311T124859Z
UID:8890-1649030400-1649203199@vivatselvmordsforebygging.net
SUMMARY:Moss\, Førstehjelp ved selvmordsfare
DESCRIPTION:Moss kommune arrangerer kurset Førstehjelp ved selvmordsfare. \nKurset er for Avdeling rus og psykisk helse. \nKontaktperson er Magnus A. Løkkevik\, epost:  Magnus.lokkevik@moss.kommune.no \n
URL:https://vivatselvmordsforebygging.net/event/moss-forstehjelp-ved-selvmordsfare/
LOCATION:Moss\, Norge
CATEGORIES:Kurs,Førstehjelp ved selvmordsfare,Øst,Lukket kurs
GEO:60.472024;8.468946
END:VEVENT
BEGIN:VEVENT
DTSTART;VALUE=DATE:20220405
DTEND;VALUE=DATE:20220407
DTSTAMP:20260423T035223
CREATED:20220211T120145Z
LAST-MODIFIED:20220214T130901Z
UID:8709-1649116800-1649289599@vivatselvmordsforebygging.net
SUMMARY:Isdalstø\, Førstehjelp ved selvmordsfare
DESCRIPTION:Kommunene Fedje\, Austerheim og Modalen arrangerer kurset Førstehjelp ved selvmordsfare. \nKurset er for kommunalt ansatte\, og lukket for andre deltakere. \nInvitasjon og påmelding \nKontaktperson er Anita.hatlem.villanger@fedje.kommune.no \n  \n
URL:https://vivatselvmordsforebygging.net/event/isdalsto-forstehjelp-ved-selvmordsfare-2/
LOCATION:Isdalstø
CATEGORIES:Kurs,Førstehjelp ved selvmordsfare,Vest,Lukket kurs
END:VEVENT
END:VCALENDAR