BEGIN:VCALENDAR
VERSION:2.0
PRODID:-//vivat - ECPv4.9.14//NONSGML v1.0//EN
CALSCALE:GREGORIAN
METHOD:PUBLISH
X-WR-CALNAME:vivat
X-ORIGINAL-URL:https://vivatselvmordsforebygging.net
X-WR-CALDESC:Events for vivat
BEGIN:VTIMEZONE
TZID:Europe/Oslo
BEGIN:DAYLIGHT
TZOFFSETFROM:+0100
TZOFFSETTO:+0200
TZNAME:CEST
DTSTART:20220327T010000
END:DAYLIGHT
BEGIN:STANDARD
TZOFFSETFROM:+0200
TZOFFSETTO:+0100
TZNAME:CET
DTSTART:20221030T010000
END:STANDARD
END:VTIMEZONE
BEGIN:VEVENT
DTSTART;VALUE=DATE:20220419
DTEND;VALUE=DATE:20220420
DTSTAMP:20260423T035223
CREATED:20220224T100239Z
LAST-MODIFIED:20220224T100239Z
UID:8814-1650326400-1650412799@vivatselvmordsforebygging.net
SUMMARY:Sortland\, Oppmerksom på selvmordstanker
DESCRIPTION:Sortland videregående skole arrangerer kurset Oppmerksom på selvmordstanker. \nDet holdes 6 kurs denne dagen. \nKursene er lukket. \nKontaktperson er Torunn Blokhus\, epost: torunn.blokhus@sbnett.no \n
URL:https://vivatselvmordsforebygging.net/event/sortland-oppmerksom-pa-selvmordstanker-20/
LOCATION:Sortland\, Norge
CATEGORIES:Kurs,Oppmerksom på selvmordstanker,Nord,Lukket kurs
END:VEVENT
BEGIN:VEVENT
DTSTART;VALUE=DATE:20220419
DTEND;VALUE=DATE:20220420
DTSTAMP:20260423T035223
CREATED:20220228T132523Z
LAST-MODIFIED:20220228T132523Z
UID:8831-1650326400-1650412799@vivatselvmordsforebygging.net
SUMMARY:Svolvær\, Oppmerksom på selvmordstanker
DESCRIPTION:I forbindelse med Nordland fylkeskommune vedtatte 0-visjon\, arrangeres kurset Oppmerksom på selvmordstanker ved Aust-Lofoten Videregående skole. \nDet arrangeres 3 kurs denne dagen. \nKursene er lukket. \nKontaktperson er Elin Anita Pettersen\, epost: Elin.Anita.Pettersen@nordlandssykehuset.no \n
URL:https://vivatselvmordsforebygging.net/event/svolvaer-oppmerksom-pa-selvmordstanker/
LOCATION:Svolvær\, Norge
CATEGORIES:Kurs,Oppmerksom på selvmordstanker,Nord,Lukket kurs
END:VEVENT
BEGIN:VEVENT
DTSTART;VALUE=DATE:20220419
DTEND;VALUE=DATE:20220421
DTSTAMP:20260423T035223
CREATED:20220317T093027Z
LAST-MODIFIED:20220317T093027Z
UID:8904-1650326400-1650499199@vivatselvmordsforebygging.net
SUMMARY:Langhus\, Førstehjelp ved selvmordsfare
DESCRIPTION:Nordre Follo kommune arrangerer kurset Førstehjelp ved selvmordsfare. \nKurset er for helsesykepleiere\, og lukket for andre deltakere. \nKontaktperson er Turid Korsbø Undset\, epost: TuridKorsbo.Undset@nordrefollo.kommune.no \n
URL:https://vivatselvmordsforebygging.net/event/langhus-forstehjelp-ved-selvmordsfare/
LOCATION:Langhus\, Norge
CATEGORIES:Kurs,Førstehjelp ved selvmordsfare,Øst,Lukket kurs
GEO:60.472024;8.468946
END:VEVENT
END:VCALENDAR