BEGIN:VCALENDAR
VERSION:2.0
PRODID:-//vivat - ECPv4.9.14//NONSGML v1.0//EN
CALSCALE:GREGORIAN
METHOD:PUBLISH
X-WR-CALNAME:vivat
X-ORIGINAL-URL:https://vivatselvmordsforebygging.net
X-WR-CALDESC:Events for vivat
BEGIN:VTIMEZONE
TZID:Europe/Oslo
BEGIN:DAYLIGHT
TZOFFSETFROM:+0100
TZOFFSETTO:+0200
TZNAME:CEST
DTSTART:20220327T010000
END:DAYLIGHT
BEGIN:STANDARD
TZOFFSETFROM:+0200
TZOFFSETTO:+0100
TZNAME:CET
DTSTART:20221030T010000
END:STANDARD
END:VTIMEZONE
BEGIN:VEVENT
DTSTART;VALUE=DATE:20220421
DTEND;VALUE=DATE:20220423
DTSTAMP:20260423T035148
CREATED:20211215T120248Z
LAST-MODIFIED:20220214T131019Z
UID:8525-1650499200-1650671999@vivatselvmordsforebygging.net
SUMMARY:Tromsø\, Førstehjelp ved selvmordsfare
DESCRIPTION:Universitetet i Tromsø arrangerer kurset Førstehjelp ved selvmordsfare. \nKurset er for psykologistudenter\, og lukket for andre deltakere. \nKontaktperson er Ingvil Nordnes Myrbakk\, epost: ingvild.n.myrbakk@uit.no \n  \n
URL:https://vivatselvmordsforebygging.net/event/tromso-forstehjelp-ved-selvmordsfare-64/
LOCATION:Tromsø\, Norge
CATEGORIES:Kurs,Førstehjelp ved selvmordsfare,Nord,Lukket kurs
GEO:60.472024;8.468946
END:VEVENT
BEGIN:VEVENT
DTSTART;VALUE=DATE:20220421
DTEND;VALUE=DATE:20220423
DTSTAMP:20260423T035148
CREATED:20220110T121308Z
LAST-MODIFIED:20220323T135413Z
UID:8574-1650499200-1650671999@vivatselvmordsforebygging.net
SUMMARY:Alver kommune\, Førstehjelp ved selvmordsfare
DESCRIPTION:Alver kommune arrangerer kurset Førstehjelp ved selvmordsfare. \nKurset er for ansatte i kommunen\, og lukket for andre deltakere. \nKontaktperson er Linda Olsen Vågenes\, epost: linda.olsen.vagenes@alver.kommune.no \n  \n
URL:https://vivatselvmordsforebygging.net/event/alver-kommune-forstehjelp-ved-selvmordsfare/
LOCATION:Alver kommune\, Norge
CATEGORIES:Kurs,Førstehjelp ved selvmordsfare,Sør,Lukket kurs
GEO:60.472024;8.468946
END:VEVENT
BEGIN:VEVENT
DTSTART;VALUE=DATE:20220422
DTEND;VALUE=DATE:20220423
DTSTAMP:20260423T035148
CREATED:20220314T121728Z
LAST-MODIFIED:20220314T121728Z
UID:8895-1650585600-1650671999@vivatselvmordsforebygging.net
SUMMARY:Stavanger\, Oppmerksom på selvmordstanker
DESCRIPTION:Barneverntjenesten i Stavanger arrangerer kurset Oppmerksom på selvmordstanker. \nKurset er lukket. \nKontaktperson er Elaine Fagerland\, epost: elaine.fagerland@stavanger.kommune.no \n
URL:https://vivatselvmordsforebygging.net/event/stavanger-oppmerksom-pa-selvmordstanker-7/
LOCATION:Stavanger\, Norge
CATEGORIES:Kurs,Oppmerksom på selvmordstanker,Vest,Lukket kurs
GEO:60.472024;8.468946
END:VEVENT
END:VCALENDAR