BEGIN:VCALENDAR
VERSION:2.0
PRODID:-//vivat - ECPv4.9.14//NONSGML v1.0//EN
CALSCALE:GREGORIAN
METHOD:PUBLISH
X-WR-CALNAME:vivat
X-ORIGINAL-URL:https://vivatselvmordsforebygging.net
X-WR-CALDESC:Events for vivat
BEGIN:VTIMEZONE
TZID:Europe/Oslo
BEGIN:DAYLIGHT
TZOFFSETFROM:+0100
TZOFFSETTO:+0200
TZNAME:CEST
DTSTART:20220327T010000
END:DAYLIGHT
BEGIN:STANDARD
TZOFFSETFROM:+0200
TZOFFSETTO:+0100
TZNAME:CET
DTSTART:20221030T010000
END:STANDARD
END:VTIMEZONE
BEGIN:VEVENT
DTSTART;VALUE=DATE:20220504
DTEND;VALUE=DATE:20220506
DTSTAMP:20260423T022102
CREATED:20220407T120405Z
LAST-MODIFIED:20220407T120405Z
UID:8956-1651622400-1651795199@vivatselvmordsforebygging.net
SUMMARY:Trondheim\, Førstehjelp ved selvmordsfare
DESCRIPTION:Luftkrigskolen arrangerer kurset Førstehjelp ved selvmordsfare. \nKurset er for elever ved Forsvarets høgskole/luftkrigskolen\, og er lukket for andre deltakere. \nKontaktperson er: Hilde Ivarrud\, epost: hivarrud@mil.no \n  \n
URL:https://vivatselvmordsforebygging.net/event/trondheim-forstehjelp-ved-selvmordsfare-57/
LOCATION:Trondheim\, Norge
CATEGORIES:Kurs,Førstehjelp ved selvmordsfare,Midt,Lukket kurs
END:VEVENT
BEGIN:VEVENT
DTSTART;VALUE=DATE:20220505
DTEND;VALUE=DATE:20220507
DTSTAMP:20260423T022102
CREATED:20220211T141440Z
LAST-MODIFIED:20220214T131121Z
UID:8717-1651708800-1651881599@vivatselvmordsforebygging.net
SUMMARY:Drammen\, Førstehjelp ved selvmordsfare
DESCRIPTION:Drammen kommune arrangerer kurset Førstehjelp ved selvmordsfare. \nKurset er for ansatte i barnevernet\, og lukket for andre deltakere. \nKontaktperson er Linda Kristin Jakobsen\, epost: Linda.Kristin.Jakobsen@drammen.kommune.no \n  \n
URL:https://vivatselvmordsforebygging.net/event/drammen-forstehjelp-ved-selvmordsfare-12/
LOCATION:Drammen\, Norge
CATEGORIES:Kurs,Førstehjelp ved selvmordsfare,Øst,Lukket kurs
GEO:60.472024;8.468946
END:VEVENT
BEGIN:VEVENT
DTSTART;VALUE=DATE:20220505
DTEND;VALUE=DATE:20220507
DTSTAMP:20260423T022102
CREATED:20220317T090209Z
LAST-MODIFIED:20220317T090209Z
UID:8900-1651708800-1651881599@vivatselvmordsforebygging.net
SUMMARY:Bergen\, Førstehjelp ved selvmordsfare
DESCRIPTION:Mennesket i Fokus arrangerer kurset Førstehjelp ved selvmordsfare. \nKurset er åpent for alle å melde seg på. \nInvitasjon 5-6 mai Bergen \nKontaktperson er Randi T. Norvik\, epost: randi@mennesketifokus.no \n
URL:https://vivatselvmordsforebygging.net/event/bergen-forstehjelp-ved-selvmordsfare-95/
LOCATION:Bergen\, Norge
CATEGORIES:Kurs,Førstehjelp ved selvmordsfare,Vest,Åpent/delvis åpent kurs
GEO:60.472024;8.468946
END:VEVENT
BEGIN:VEVENT
DTSTART;VALUE=DATE:20220505
DTEND;VALUE=DATE:20220507
DTSTAMP:20260423T022102
CREATED:20220429T112640Z
LAST-MODIFIED:20220429T112640Z
UID:8976-1651708800-1651881599@vivatselvmordsforebygging.net
SUMMARY:Oslo\, Førstehjelp ved selvmordsfare
DESCRIPTION:Norske Kvinners sanitetsforening arrangerer kurset Førstehjelp ved selvmordsfare. \nKurset er åpent for alle å melde seg på\, deltakeravgift er 500\,-. \nKontaktperson er Goke Bressers\, tlf: 91562366 \n
URL:https://vivatselvmordsforebygging.net/event/oslo-forstehjelp-ved-selvmordsfare-94/
LOCATION:Oslo\, Norge
CATEGORIES:Kurs,Førstehjelp ved selvmordsfare,Øst,Åpent/delvis åpent kurs
END:VEVENT
END:VCALENDAR