BEGIN:VCALENDAR
VERSION:2.0
PRODID:-//vivat - ECPv4.9.14//NONSGML v1.0//EN
CALSCALE:GREGORIAN
METHOD:PUBLISH
X-WR-CALNAME:vivat
X-ORIGINAL-URL:https://vivatselvmordsforebygging.net
X-WR-CALDESC:Events for vivat
BEGIN:VTIMEZONE
TZID:Europe/Oslo
BEGIN:DAYLIGHT
TZOFFSETFROM:+0100
TZOFFSETTO:+0200
TZNAME:CEST
DTSTART:20220327T010000
END:DAYLIGHT
BEGIN:STANDARD
TZOFFSETFROM:+0200
TZOFFSETTO:+0100
TZNAME:CET
DTSTART:20221030T010000
END:STANDARD
END:VTIMEZONE
BEGIN:VEVENT
DTSTART;VALUE=DATE:20220509
DTEND;VALUE=DATE:20220511
DTSTAMP:20260423T023229
CREATED:20220111T132314Z
LAST-MODIFIED:20220214T131158Z
UID:8585-1652054400-1652227199@vivatselvmordsforebygging.net
SUMMARY:Oslo\, Førstehjelp ved selvmordsfare
DESCRIPTION:VID Oslo arrangerer kurset Førstehjelp ved selvmordsfare. \nKurset er for studenter og ansatte\, og lukket for andre deltakere. \nKontaktperson er Elisabeth Nilsen Aas\, epost: elisabeth.aas@vid.no \n  \n
URL:https://vivatselvmordsforebygging.net/event/oslo-forstehjelp-ved-selvmordsfare-91/
LOCATION:Oslo\, Norge
CATEGORIES:Kurs,Førstehjelp ved selvmordsfare,Øst,Lukket kurs
END:VEVENT
BEGIN:VEVENT
DTSTART;VALUE=DATE:20220509
DTEND;VALUE=DATE:20220511
DTSTAMP:20260423T023229
CREATED:20220217T133713Z
LAST-MODIFIED:20220217T133713Z
UID:8806-1652054400-1652227199@vivatselvmordsforebygging.net
SUMMARY:Tromsø\, Førstehjelp ved selvmordsfare
DESCRIPTION:Det arrangeres to kurs for 2. års medisinerstudenter ved Universitetet i Tromsø. \nKursene er lukket. \nKontaktperson er Kari J. Lægreid\, e-post: kari.j.lagreid@uit.no \n
URL:https://vivatselvmordsforebygging.net/event/tromso-forstehjelp-ved-selvmordsfare-69/
LOCATION:Tromsø\, Norge
CATEGORIES:Kurs,Førstehjelp ved selvmordsfare,Nord,Lukket kurs
GEO:60.472024;8.468946
END:VEVENT
BEGIN:VEVENT
DTSTART;VALUE=DATE:20220509
DTEND;VALUE=DATE:20220510
DTSTAMP:20260423T023229
CREATED:20220504T110058Z
LAST-MODIFIED:20220504T110058Z
UID:9028-1652054400-1652140799@vivatselvmordsforebygging.net
SUMMARY:Andøya\, Oppmerksom på selvmordstanker
DESCRIPTION:Forsvaret arrangerer kurset Oppmerksom på selvmordstanker på Andøya Flystasjon. \nKurset er lukket. \nKontaktperson er Hanna Sesselja Mikalsen\, epost: hanna.mikalsen@hotmail.com \n
URL:https://vivatselvmordsforebygging.net/event/andoya-oppmerksom-pa-selvmordstanker-2/
LOCATION:Andøya\, Norge
CATEGORIES:Kurs,Oppmerksom på selvmordstanker,Nord,Lukket kurs
GEO:60.472024;8.468946
END:VEVENT
END:VCALENDAR