BEGIN:VCALENDAR
VERSION:2.0
PRODID:-//vivat - ECPv4.9.14//NONSGML v1.0//EN
CALSCALE:GREGORIAN
METHOD:PUBLISH
X-WR-CALNAME:vivat
X-ORIGINAL-URL:https://vivatselvmordsforebygging.net
X-WR-CALDESC:Events for vivat
BEGIN:VTIMEZONE
TZID:Europe/Oslo
BEGIN:DAYLIGHT
TZOFFSETFROM:+0100
TZOFFSETTO:+0200
TZNAME:CEST
DTSTART:20220327T010000
END:DAYLIGHT
BEGIN:STANDARD
TZOFFSETFROM:+0200
TZOFFSETTO:+0100
TZNAME:CET
DTSTART:20221030T010000
END:STANDARD
END:VTIMEZONE
BEGIN:VEVENT
DTSTART;VALUE=DATE:20220531
DTEND;VALUE=DATE:20220601
DTSTAMP:20260423T012010
CREATED:20220421T103543Z
LAST-MODIFIED:20220429T113117Z
UID:8965-1653955200-1654041599@vivatselvmordsforebygging.net
SUMMARY:Gjøvik\, Oppmerksom på selvmordstanker
DESCRIPTION:Gjøvik International school arrangerer kurset Oppmerksom på selvmordstanker (engelsk versjon). \nKurset er lukket. \nKontaktperson er Nina Danielsen\, epost: ninadanielsen2@gmail.com \n
URL:https://vivatselvmordsforebygging.net/event/gjovik-oppmerksom-pa-selvmordstanker-3/
LOCATION:Gjøvik\, Norge
CATEGORIES:Kurs,Oppmerksom på selvmordstanker,Øst,Lukket kurs
GEO:60.472024;8.468946
END:VEVENT
BEGIN:VEVENT
DTSTART;VALUE=DATE:20220531
DTEND;VALUE=DATE:20220601
DTSTAMP:20260423T012010
CREATED:20220503T122608Z
LAST-MODIFIED:20220503T122608Z
UID:9019-1653955200-1654041599@vivatselvmordsforebygging.net
SUMMARY:Tromsø\, Oppmerksom på selvmordstanker
DESCRIPTION:Tromsø kommune arrangerer kurset Oppmerksom på selvmordstanker. \nKurset er for ansatte i kommunen og NAV\, det kan være mulig for andre å delta ved ledige plasser. \nKontaktperson er Arja Mubanga-Bjørn\, epost: Arja.Bjorn@tromso.kommune.no \n
URL:https://vivatselvmordsforebygging.net/event/tromso-oppmerksom-pa-selvmordstanker-22/
LOCATION:Tromsø\, Norge
CATEGORIES:Kurs,Oppmerksom på selvmordstanker,Nord,Åpent/delvis åpent kurs
GEO:60.472024;8.468946
END:VEVENT
BEGIN:VEVENT
DTSTART;VALUE=DATE:20220531
DTEND;VALUE=DATE:20220601
DTSTAMP:20260423T012010
CREATED:20220512T082203Z
LAST-MODIFIED:20220512T082203Z
UID:9040-1653955200-1654041599@vivatselvmordsforebygging.net
SUMMARY:Hønefoss\, Oppmerksom på selvmordstanker
DESCRIPTION:Ringerike brann- og redningstjeneste arrangerer kurset Oppmerksom på selvmordstanker. \nKurset er lukket. \nKontaktperson er Even Moan\, epost: even.moan@ringerike.kommune.no \n
URL:https://vivatselvmordsforebygging.net/event/honefoss-oppmerksom-pa-selvmordstanker/
LOCATION:Hønefoss\, Soknedalsveien 25\, Buskerud\, 3517\, Norge
CATEGORIES:Kurs,Oppmerksom på selvmordstanker,Øst,Lukket kurs
GEO:60.1712621;10.2403012
X-APPLE-STRUCTURED-LOCATION;VALUE=URI;X-ADDRESS=Hønefoss Soknedalsveien 25 Buskerud 3517 Norge;X-APPLE-RADIUS=500;X-TITLE=Soknedalsveien 25:geo:10.2403012,60.1712621
END:VEVENT
BEGIN:VEVENT
DTSTART;VALUE=DATE:20220531
DTEND;VALUE=DATE:20220602
DTSTAMP:20260423T012010
CREATED:20220518T083827Z
LAST-MODIFIED:20220518T083827Z
UID:9056-1653955200-1654127999@vivatselvmordsforebygging.net
SUMMARY:Storfjord\, Førstehjelp ved selvmordsfare
DESCRIPTION:Storfjord kommune arrangerer kurset Førstehjelp ved selvmordsfare. \nKontaktperson er Håkon Fredhammer\, epost: hakon.fredhammer@storfjord.kommune.no \n
URL:https://vivatselvmordsforebygging.net/event/storfjord-forstehjelp-ved-selvmordsfare/
LOCATION:Storfjord\, Norge
CATEGORIES:Kurs,Førstehjelp ved selvmordsfare,Nord
GEO:60.472024;8.468946
END:VEVENT
BEGIN:VEVENT
DTSTART;VALUE=DATE:20220531
DTEND;VALUE=DATE:20220601
DTSTAMP:20260423T012010
CREATED:20220525T111553Z
LAST-MODIFIED:20220525T111553Z
UID:9086-1653955200-1654041599@vivatselvmordsforebygging.net
SUMMARY:Oslo\, Oppmerksom på selvmordstanker
DESCRIPTION:VID Oslo arrangerer kurset Oppmerksom på selvmordstanker. \nKurset er lukket. \nKontaktperson er Elisabeth Nilsen Aas\, epost: elisabeth.aas@vid.no \n
URL:https://vivatselvmordsforebygging.net/event/oslo-oppmerksom-pa-selvmordstanker-35/
LOCATION:Oslo\, Norge
CATEGORIES:Kurs,Oppmerksom på selvmordstanker,Øst,Lukket kurs
GEO:60.472024;8.468946
END:VEVENT
END:VCALENDAR