BEGIN:VCALENDAR
VERSION:2.0
PRODID:-//vivat - ECPv4.9.14//NONSGML v1.0//EN
CALSCALE:GREGORIAN
METHOD:PUBLISH
X-WR-CALNAME:vivat
X-ORIGINAL-URL:https://vivatselvmordsforebygging.net
X-WR-CALDESC:Events for vivat
BEGIN:VTIMEZONE
TZID:Europe/Oslo
BEGIN:DAYLIGHT
TZOFFSETFROM:+0100
TZOFFSETTO:+0200
TZNAME:CEST
DTSTART:20220327T010000
END:DAYLIGHT
BEGIN:STANDARD
TZOFFSETFROM:+0200
TZOFFSETTO:+0100
TZNAME:CET
DTSTART:20221030T010000
END:STANDARD
END:VTIMEZONE
BEGIN:VEVENT
DTSTART;VALUE=DATE:20220609
DTEND;VALUE=DATE:20220611
DTSTAMP:20260423T012641
CREATED:20220317T093416Z
LAST-MODIFIED:20220317T093416Z
UID:8907-1654732800-1654905599@vivatselvmordsforebygging.net
SUMMARY:Nessoddtangen\, Førstehjelp ved selvmordsfare
DESCRIPTION:Sunnaas Sykehus arrangerer kurset Førstehjelp ved selvmordsfare. \nKurset er lukket. \nKontaktperson er Anne-Cathrine Kraby\, epost: AnneCathrine.Kraby@sunnaas.no \n
URL:https://vivatselvmordsforebygging.net/event/nessoddtangen-forstehjelp-ved-selvmordsfare/
LOCATION:Nessoddtangen\, Norge
CATEGORIES:Kurs,Førstehjelp ved selvmordsfare,Øst,Lukket kurs
GEO:60.472024;8.468946
END:VEVENT
BEGIN:VEVENT
DTSTART;VALUE=DATE:20220609
DTEND;VALUE=DATE:20220610
DTSTAMP:20260423T012641
CREATED:20220401T082818Z
LAST-MODIFIED:20220401T082818Z
UID:8949-1654732800-1654819199@vivatselvmordsforebygging.net
SUMMARY:Asker\, Oppmerksom på selvmordstanker
DESCRIPTION:Asker kommune arrangerer kurset Oppmerksom på selvmordstanker. \nKurset er for ansatte i kommunen\, og lukket for andre deltakere. \nKontaktperson er Vivi-Ann Arntsen Rype\, epost: Vivi-Ann.Arntsen.Rype@asker.kommune.no \n  \n
URL:https://vivatselvmordsforebygging.net/event/asker-oppmerksom-pa-selvmordstanker-5/
LOCATION:Asker\, Asker\, Akershus\, 1373\, Norge
CATEGORIES:Kurs,Oppmerksom på selvmordstanker,Øst,Lukket kurs
ORGANIZER;CN="Asker%20kommune":MAILTO:vivi-ann.rype@asker.kommune.no
GEO:59.8316353;10.4297237
END:VEVENT
BEGIN:VEVENT
DTSTART;VALUE=DATE:20220609
DTEND;VALUE=DATE:20220611
DTSTAMP:20260423T012641
CREATED:20220503T130619Z
LAST-MODIFIED:20220503T130619Z
UID:9025-1654732800-1654905599@vivatselvmordsforebygging.net
SUMMARY:Bergen\, Førstehjelp ved selvmordsfare
DESCRIPTION:Bergen kommune arrangerer kurset Førstehjelp ved selvmordsfare. \nKurset er for ansatte i kommunen\, og lukket for andre deltakere. \nKontaktperson er Kari Rimebereid\, epost: Kari.Elisabeth.Rimbereid@hvl.no \n
URL:https://vivatselvmordsforebygging.net/event/bergen-forstehjelp-ved-selvmordsfare-97/
LOCATION:Bergen\, Norge
CATEGORIES:Kurs,Førstehjelp ved selvmordsfare,Vest,Lukket kurs
GEO:60.472024;8.468946
END:VEVENT
BEGIN:VEVENT
DTSTART;VALUE=DATE:20220609
DTEND;VALUE=DATE:20220611
DTSTAMP:20260423T012641
CREATED:20220601T115007Z
LAST-MODIFIED:20220601T115007Z
UID:9098-1654732800-1654905599@vivatselvmordsforebygging.net
SUMMARY:Bjørnemyr\, Førstehjelp ved selvmordsfare
DESCRIPTION:Sunnaas sykehus arrangerer kurset Førstehjelp ved selvmordsfare. \nKurset er lukket. \nKontaktperson er Anne Cathrine Kraby\, epost: AnneCathrine.Kraby@sunnaas.no \n  \n
URL:https://vivatselvmordsforebygging.net/event/bjornemyr-forstehjelp-ved-selvmordsfare/
LOCATION:Bjørnemyr\, Norge
CATEGORIES:Kurs,Førstehjelp ved selvmordsfare,Øst,Lukket kurs
GEO:60.472024;8.468946
END:VEVENT
END:VCALENDAR