BEGIN:VCALENDAR
VERSION:2.0
PRODID:-//vivat - ECPv4.9.14//NONSGML v1.0//EN
CALSCALE:GREGORIAN
METHOD:PUBLISH
X-WR-CALNAME:vivat
X-ORIGINAL-URL:https://vivatselvmordsforebygging.net
X-WR-CALDESC:Events for vivat
BEGIN:VTIMEZONE
TZID:Europe/Oslo
BEGIN:DAYLIGHT
TZOFFSETFROM:+0100
TZOFFSETTO:+0200
TZNAME:CEST
DTSTART:20220327T010000
END:DAYLIGHT
BEGIN:STANDARD
TZOFFSETFROM:+0200
TZOFFSETTO:+0100
TZNAME:CET
DTSTART:20221030T010000
END:STANDARD
END:VTIMEZONE
BEGIN:VEVENT
DTSTART;VALUE=DATE:20220620
DTEND;VALUE=DATE:20220622
DTSTAMP:20260423T012010
CREATED:20220331T104944Z
LAST-MODIFIED:20220331T104944Z
UID:8926-1655683200-1655855999@vivatselvmordsforebygging.net
SUMMARY:Trondheim\, Førstehjelp ved selvmordsfare
DESCRIPTION:RVTS Midt arrangerer kurset Førstehjelp ved selvmordsfare. \nKurset er åpent for alle å melde seg på. \nInvitasjon og påmelding \nKontaktperson er Rune Nilsen\, epost: runeonilsen@gmail.com \n  \n
URL:https://vivatselvmordsforebygging.net/event/trondheim-forstehjelp-ved-selvmordsfare-56/
LOCATION:Trondheim\, Norge
CATEGORIES:Kurs,Førstehjelp ved selvmordsfare,Midt,Åpent/delvis åpent kurs
END:VEVENT
BEGIN:VEVENT
DTSTART;VALUE=DATE:20220620
DTEND;VALUE=DATE:20220622
DTSTAMP:20260423T012010
CREATED:20220609T083911Z
LAST-MODIFIED:20220609T083911Z
UID:9105-1655683200-1655855999@vivatselvmordsforebygging.net
SUMMARY:Karmøy\, Førstehjelp ved selvmordsfare
DESCRIPTION:Karmøy kommune arrangerer kurset Førstehjelp ved selvmordsfare. \nKurset er lukket. \nKontaktperson er Marion Stava Bjørgan\, epost: Marion.Bjorgan@bergen.kommune.no \n
URL:https://vivatselvmordsforebygging.net/event/karmoy-forstehjelp-ved-selvmordsfare-4/
LOCATION:Karmøy\, Norge
CATEGORIES:Kurs,Førstehjelp ved selvmordsfare,Vest,Lukket kurs
GEO:60.472024;8.468946
END:VEVENT
BEGIN:VEVENT
DTSTART;VALUE=DATE:20220621
DTEND;VALUE=DATE:20220623
DTSTAMP:20260423T012010
CREATED:20220503T104818Z
LAST-MODIFIED:20220503T104818Z
UID:9016-1655769600-1655942399@vivatselvmordsforebygging.net
SUMMARY:Sørreisa\, Førstehjelp ved selvmordsfare
DESCRIPTION:Sørreisa kommune arrangerer kurset Førstehjelp ved selvmordsfare. \nKurset er åpent for alle å melde seg på. \nKontaktperson er Helene Nilsen\, epost: Helene.Nilsen@sorreisa.kommune.no \n
URL:https://vivatselvmordsforebygging.net/event/sorreisa-forstehjelp-ved-selvmordsfare-2/
LOCATION:Sørreisa
CATEGORIES:Kurs,Førstehjelp ved selvmordsfare,Nord,Åpent/delvis åpent kurs
END:VEVENT
END:VCALENDAR