BEGIN:VCALENDAR
VERSION:2.0
PRODID:-//vivat - ECPv4.9.14//NONSGML v1.0//EN
CALSCALE:GREGORIAN
METHOD:PUBLISH
X-WR-CALNAME:vivat
X-ORIGINAL-URL:https://vivatselvmordsforebygging.net
X-WR-CALDESC:Events for vivat
BEGIN:VTIMEZONE
TZID:Europe/Oslo
BEGIN:DAYLIGHT
TZOFFSETFROM:+0100
TZOFFSETTO:+0200
TZNAME:CEST
DTSTART:20220327T010000
END:DAYLIGHT
BEGIN:STANDARD
TZOFFSETFROM:+0200
TZOFFSETTO:+0100
TZNAME:CET
DTSTART:20221030T010000
END:STANDARD
END:VTIMEZONE
BEGIN:VEVENT
DTSTART;VALUE=DATE:20220920
DTEND;VALUE=DATE:20220922
DTSTAMP:20260422T213944
CREATED:20220816T105129Z
LAST-MODIFIED:20220912T104231Z
UID:9229-1663632000-1663804799@vivatselvmordsforebygging.net
SUMMARY:Knarvik\, Førstehjelp ved selvmordsfare
DESCRIPTION:Masfjorden og Gulen kommune arrangerer kurset Førstehjelp ved selvmordsfare. \nKurset er lukket. \nKontaktperson er Dag Haarklau\, epost: dag.haarklau@masfjorden.kommune.no \n
URL:https://vivatselvmordsforebygging.net/event/nordhordland-forstehjelp-ved-selvmordsfare/
LOCATION:Nordhordland\, Norge
CATEGORIES:Kurs,Førstehjelp ved selvmordsfare,Vest,Lukket kurs
GEO:60.472024;8.468946
END:VEVENT
BEGIN:VEVENT
DTSTART;VALUE=DATE:20220920
DTEND;VALUE=DATE:20220922
DTSTAMP:20260422T213944
CREATED:20220829T085229Z
LAST-MODIFIED:20220829T085229Z
UID:9283-1663632000-1663804799@vivatselvmordsforebygging.net
SUMMARY:Svolvær\, Førstehjelp ved selvmordsfare
DESCRIPTION:Nordlandssykehuset\, v/Lofoten og Vesterålen DPS arrangerer kurset Førstehjelp ved selvmordsfare \nKurset er for ansatte i DPS’et og omkringliggende kommuner i Lofoten og Vesterålen. \nInvitasjon 20-21.09.22 Svolvær \nKontaktperson er Elin Anita Pettersen\, mobil: 41443839 \n
URL:https://vivatselvmordsforebygging.net/event/svolvaer-forstehjelp-ved-selvmordsfare-3/
LOCATION:Svolvær\, Norge
CATEGORIES:Kurs,Førstehjelp ved selvmordsfare,Nord,Åpent/delvis åpent kurs
END:VEVENT
BEGIN:VEVENT
DTSTART;VALUE=DATE:20220920
DTEND;VALUE=DATE:20220922
DTSTAMP:20260422T213944
CREATED:20220912T111811Z
LAST-MODIFIED:20220912T111811Z
UID:9360-1663632000-1663804799@vivatselvmordsforebygging.net
SUMMARY:Rognan\, Førstehjelp ved selvmordsfare
DESCRIPTION:Kurset Førstehjelp ved selvmordsfare arrangeres på Saltdal videregående skole. \nKurset er for ansatte ved RIBO\, Røkland\, og lukket for andre deltaker. \nKontaktperson er Lillian Haukland\, epost: Lillian.Sofie.Haukland@nordlandssykehuset.no \n
URL:https://vivatselvmordsforebygging.net/event/rognan-forstehjelp-ved-selvmordsfare/
LOCATION:Rognan\, Norge
CATEGORIES:Kurs,Førstehjelp ved selvmordsfare,Nord,Lukket kurs
GEO:60.472024;8.468946
END:VEVENT
BEGIN:VEVENT
DTSTART;VALUE=DATE:20220921
DTEND;VALUE=DATE:20220922
DTSTAMP:20260422T213944
CREATED:20220803T083654Z
LAST-MODIFIED:20220803T083654Z
UID:9155-1663718400-1663804799@vivatselvmordsforebygging.net
SUMMARY:Tromsø\, Oppmerksom på selvmordstanker
DESCRIPTION:Tromsø kommune arrangerer kurset Oppmerksom på selvmordstanker på Gyllenborg skole. \nKurset er lukket. \nKontaktperson er Arja Mubanga-Bjørn\, epost: Arja.Bjorn@tromso.kommune.no \n
URL:https://vivatselvmordsforebygging.net/event/tromso-oppmerksom-pa-selvmordstanker-29/
LOCATION:Tromsø\, Norge
CATEGORIES:Kurs,Oppmerksom på selvmordstanker,Nord,Lukket kurs
GEO:60.472024;8.468946
END:VEVENT
BEGIN:VEVENT
DTSTART;VALUE=DATE:20220921
DTEND;VALUE=DATE:20220923
DTSTAMP:20260422T213944
CREATED:20220824T105144Z
LAST-MODIFIED:20220824T105144Z
UID:9265-1663718400-1663891199@vivatselvmordsforebygging.net
SUMMARY:Molde\, Førstehjelp ved selvmordsfare
DESCRIPTION:Molde kommune arrangerer kurset Førstehjelp ved selvmordsfare. \nKurset er i utgangspunktet lukket\, men sjekk med kontaktperson om det er ledige plasser. \nKontaktperson er Anett Eidem Røsok\, epost: annett.eidem.rosok@molde.kommune.no \n
URL:https://vivatselvmordsforebygging.net/event/molde-forstehjelp-ved-selvmordsfare-13/
LOCATION:Molde\, Norge
CATEGORIES:Kurs,Førstehjelp ved selvmordsfare,Midt,Lukket kurs
GEO:60.472024;8.468946
END:VEVENT
END:VCALENDAR