BEGIN:VCALENDAR
VERSION:2.0
PRODID:-//vivat - ECPv4.9.14//NONSGML v1.0//EN
CALSCALE:GREGORIAN
METHOD:PUBLISH
X-WR-CALNAME:vivat
X-ORIGINAL-URL:https://vivatselvmordsforebygging.net
X-WR-CALDESC:Events for vivat
BEGIN:VTIMEZONE
TZID:Europe/Oslo
BEGIN:DAYLIGHT
TZOFFSETFROM:+0100
TZOFFSETTO:+0200
TZNAME:CEST
DTSTART:20220327T010000
END:DAYLIGHT
BEGIN:STANDARD
TZOFFSETFROM:+0200
TZOFFSETTO:+0100
TZNAME:CET
DTSTART:20221030T010000
END:STANDARD
END:VTIMEZONE
BEGIN:VEVENT
DTSTART;VALUE=DATE:20220921
DTEND;VALUE=DATE:20220923
DTSTAMP:20260422T213659
CREATED:20220824T105144Z
LAST-MODIFIED:20220824T105144Z
UID:9265-1663718400-1663891199@vivatselvmordsforebygging.net
SUMMARY:Molde\, Førstehjelp ved selvmordsfare
DESCRIPTION:Molde kommune arrangerer kurset Førstehjelp ved selvmordsfare. \nKurset er i utgangspunktet lukket\, men sjekk med kontaktperson om det er ledige plasser. \nKontaktperson er Anett Eidem Røsok\, epost: annett.eidem.rosok@molde.kommune.no \n
URL:https://vivatselvmordsforebygging.net/event/molde-forstehjelp-ved-selvmordsfare-13/
LOCATION:Molde\, Norge
CATEGORIES:Kurs,Førstehjelp ved selvmordsfare,Midt,Lukket kurs
GEO:60.472024;8.468946
END:VEVENT
BEGIN:VEVENT
DTSTART;VALUE=DATE:20220922
DTEND;VALUE=DATE:20220924
DTSTAMP:20260422T213659
CREATED:20220803T083816Z
LAST-MODIFIED:20220803T083816Z
UID:9157-1663804800-1663977599@vivatselvmordsforebygging.net
SUMMARY:Tromsø\, Førstehjelp ved selvmordsfare
DESCRIPTION:Tromsø kommune arrangerer kurset Førstehjelp ved selvmordsfare. \nKurset er lukket. \nKontaktperson er Arja Mubanga-Bjørn\, epost: Arja.Bjorn@tromso.kommune.no \n
URL:https://vivatselvmordsforebygging.net/event/tromso-forstehjelp-ved-selvmordsfare-72/
LOCATION:Tromsø\, Norge
CATEGORIES:Kurs,Førstehjelp ved selvmordsfare,Nord,Lukket kurs
GEO:60.472024;8.468946
END:VEVENT
BEGIN:VEVENT
DTSTART;VALUE=DATE:20220922
DTEND;VALUE=DATE:20220923
DTSTAMP:20260422T213659
CREATED:20220829T102312Z
LAST-MODIFIED:20220829T102312Z
UID:9296-1663804800-1663891199@vivatselvmordsforebygging.net
SUMMARY:Tønsberg\, Oppmerksom på selvmordstanker
DESCRIPTION:Vestfold og Telemark fylkeskommune arrangerer kurset Oppmerksom på selvmordstanker. \nKurset er lukket. \nKontaktperson er  Elin Anne Gunleiksrud\, epost: elin.gunleiksrud@vtfk.no \n
URL:https://vivatselvmordsforebygging.net/event/tonsberg-oppmerksom-pa-selvmordstanker-2/
LOCATION:Tønsberg\, Norge
CATEGORIES:Kurs,Oppmerksom på selvmordstanker,Øst,Lukket kurs
GEO:60.472024;8.468946
END:VEVENT
END:VCALENDAR