BEGIN:VCALENDAR
VERSION:2.0
PRODID:-//vivat - ECPv4.9.14//NONSGML v1.0//EN
CALSCALE:GREGORIAN
METHOD:PUBLISH
X-WR-CALNAME:vivat
X-ORIGINAL-URL:https://vivatselvmordsforebygging.net
X-WR-CALDESC:Events for vivat
BEGIN:VTIMEZONE
TZID:Europe/Oslo
BEGIN:DAYLIGHT
TZOFFSETFROM:+0100
TZOFFSETTO:+0200
TZNAME:CEST
DTSTART:20220327T010000
END:DAYLIGHT
BEGIN:STANDARD
TZOFFSETFROM:+0200
TZOFFSETTO:+0100
TZNAME:CET
DTSTART:20221030T010000
END:STANDARD
END:VTIMEZONE
BEGIN:VEVENT
DTSTART;VALUE=DATE:20220927
DTEND;VALUE=DATE:20220929
DTSTAMP:20260422T201834
CREATED:20220503T101715Z
LAST-MODIFIED:20220503T101715Z
UID:9001-1664236800-1664409599@vivatselvmordsforebygging.net
SUMMARY:Bergen\, Førstehjelp ved selvmordsfare
DESCRIPTION:Kriminalomsorgens høgskole og utdanningssenter arrangerer kurset Førstehjelp ved selvmordsfare. \nKurset er for aspiranter ved utdanninga\, og er lukket for andre deltakere. \nKontaktperson er Vidar Skogvoll\, epost: vidar.skogvoll@krus.no \n
URL:https://vivatselvmordsforebygging.net/event/bergen-forstehjelp-ved-selvmordsfare-96/
LOCATION:Bergen\, Norge
CATEGORIES:Kurs,Førstehjelp ved selvmordsfare,Vest,Lukket kurs
GEO:60.472024;8.468946
END:VEVENT
BEGIN:VEVENT
DTSTART;VALUE=DATE:20220927
DTEND;VALUE=DATE:20220929
DTSTAMP:20260422T201834
CREATED:20220916T073042Z
LAST-MODIFIED:20220916T073042Z
UID:9380-1664236800-1664409599@vivatselvmordsforebygging.net
SUMMARY:Toten\, Førstehjelp ved selvmordsfare
DESCRIPTION:RVTS Sør arrangerer kurset Førstehjelp ved selvmordsfare på Toten mottak. \nKurset er lukket. \nKontaktperson er Øyvind Dåsvatn\, epost: oyvind.dasvatn@rvtssor.no \n
URL:https://vivatselvmordsforebygging.net/event/toten-forstehjelp-ved-selvmordsfare/
LOCATION:Toten\, Norge
CATEGORIES:Kurs,Førstehjelp ved selvmordsfare,Sør,Lukket kurs
GEO:60.472024;8.468946
END:VEVENT
BEGIN:VEVENT
DTSTART;VALUE=DATE:20220928
DTEND;VALUE=DATE:20220929
DTSTAMP:20260422T201834
CREATED:20220628T111619Z
LAST-MODIFIED:20220628T111619Z
UID:9129-1664323200-1664409599@vivatselvmordsforebygging.net
SUMMARY:Mo i Rana\, Oppmerksom på selvmordstanker
DESCRIPTION:Nordland Fagskole arrangerer kurset Oppmerksom på selvmordstanker. \nKurset er lukket. \nKontaktperson er Renate Remlo\, epost: renateremlo@hotmail.com \n
URL:https://vivatselvmordsforebygging.net/event/mo-i-rana-oppmerksom-pa-selvmordstanker/
LOCATION:Mo i Rana\, Mo i Rana\, Nordland\, 8600\, Norge
CATEGORIES:Kurs,Oppmerksom på selvmordstanker,Nord,Lukket kurs
GEO:66.3138689;14.1326192
END:VEVENT
BEGIN:VEVENT
DTSTART;VALUE=DATE:20220928
DTEND;VALUE=DATE:20220929
DTSTAMP:20260422T201834
CREATED:20220803T083924Z
LAST-MODIFIED:20220803T083924Z
UID:9159-1664323200-1664409599@vivatselvmordsforebygging.net
SUMMARY:Tromsø\, Oppmerksom på selvmordstanker
DESCRIPTION:Tromsø kommune arrangerer kurset Oppmerksom på selvmordstanker på Prestvannet skole. \nKurset er lukket. \nKontaktperson er Arja Mubanga-Bjørn\, epost: Arja.Bjorn@tromso.kommune.no \n
URL:https://vivatselvmordsforebygging.net/event/tromso-oppmerksom-pa-selvmordstanker-30/
LOCATION:Tromsø\, Norge
CATEGORIES:Kurs,Oppmerksom på selvmordstanker,Nord,Lukket kurs
GEO:60.472024;8.468946
END:VEVENT
BEGIN:VEVENT
DTSTART;VALUE=DATE:20220928
DTEND;VALUE=DATE:20220929
DTSTAMP:20260422T201834
CREATED:20220803T084033Z
LAST-MODIFIED:20220803T084033Z
UID:9161-1664323200-1664409599@vivatselvmordsforebygging.net
SUMMARY:Tromsø\, Oppmerksom på selvmordstanker
DESCRIPTION:Tromsø kommune arrangerer kurset Oppmerksom på selvmordstanker på Slettaelva skole. \nKurset er lukket. \nKontaktperson er Arja Mubanga-Bjørn\, epost: Arja.Bjorn@tromso.kommune.no \n
URL:https://vivatselvmordsforebygging.net/event/tromso-oppmerksom-pa-selvmordstanker-31/
LOCATION:Tromsø\, Norge
CATEGORIES:Kurs,Oppmerksom på selvmordstanker,Nord,Lukket kurs
GEO:60.472024;8.468946
END:VEVENT
BEGIN:VEVENT
DTSTART;VALUE=DATE:20220928
DTEND;VALUE=DATE:20220930
DTSTAMP:20260422T201834
CREATED:20220815T123719Z
LAST-MODIFIED:20220815T123719Z
UID:9226-1664323200-1664495999@vivatselvmordsforebygging.net
SUMMARY:Bergen\, Førstehjelp ved selvmordsfare
DESCRIPTION:Forsvaret arrangerer kurset Førstehjelp ved selvmordsfare\, på Haakonsvern\, \nKurset er lukket. \nKontaktperson er Hans Kenneth Sundsbø\, epost: hsundsbo@mil.no \n
URL:https://vivatselvmordsforebygging.net/event/bergen-forstehjelp-ved-selvmordsfare-100/
LOCATION:Bergen\, Norge
CATEGORIES:Kurs,Førstehjelp ved selvmordsfare,Vest,Lukket kurs
GEO:60.472024;8.468946
END:VEVENT
BEGIN:VEVENT
DTSTART;VALUE=DATE:20220928
DTEND;VALUE=DATE:20220929
DTSTAMP:20260422T201834
CREATED:20220926T103431Z
LAST-MODIFIED:20220926T103431Z
UID:9440-1664323200-1664409599@vivatselvmordsforebygging.net
SUMMARY:Setermoen\, Oppmerksom på selvmordstanker
DESCRIPTION:Forsvaret arrangerer kurset Oppmerksom på selvmordstanker på Setermoen Leir. \nKurset er lukket. \nKontaktperson er Elisabeth Løvlien\, epost: elisabethlovlien@gmail.com \n
URL:https://vivatselvmordsforebygging.net/event/setermoen-oppmerksom-pa-selvmordstanker-7/
LOCATION:Setermoen
CATEGORIES:Kurs,Oppmerksom på selvmordstanker,Nord,Lukket kurs
END:VEVENT
END:VCALENDAR