BEGIN:VCALENDAR
VERSION:2.0
PRODID:-//vivat - ECPv4.9.14//NONSGML v1.0//EN
CALSCALE:GREGORIAN
METHOD:PUBLISH
X-WR-CALNAME:vivat
X-ORIGINAL-URL:https://vivatselvmordsforebygging.net
X-WR-CALDESC:Events for vivat
BEGIN:VTIMEZONE
TZID:Europe/Oslo
BEGIN:DAYLIGHT
TZOFFSETFROM:+0100
TZOFFSETTO:+0200
TZNAME:CEST
DTSTART:20220327T010000
END:DAYLIGHT
BEGIN:STANDARD
TZOFFSETFROM:+0200
TZOFFSETTO:+0100
TZNAME:CET
DTSTART:20221030T010000
END:STANDARD
END:VTIMEZONE
BEGIN:VEVENT
DTSTART;VALUE=DATE:20221010
DTEND;VALUE=DATE:20221012
DTSTAMP:20260422T201624
CREATED:20220819T093507Z
LAST-MODIFIED:20220819T093507Z
UID:9245-1665360000-1665532799@vivatselvmordsforebygging.net
SUMMARY:Ålesund\, Førstehjelp ved selvmordsfare
DESCRIPTION:Helse Møre og Romsdal\, prehospital avdeling arrangerer kurset Førstehjelp ved selvmordsfare. \nKurset er delvis åpent\, eksterne deltakere kan ta kontakt for å høre om ledige plasser. \nKursinvitasjon 10-11.10.22 Ålesund \nKontaktperson er Bård Tokle\, mobil: 99699680\, epost: Bard.Tokle@helse-mr.no \n  \n  \n
URL:https://vivatselvmordsforebygging.net/event/alesund-forstehjelp-ved-selvmordsfare-11/
LOCATION:Ålesund\, Norge
CATEGORIES:Kurs,Førstehjelp ved selvmordsfare,Midt,Åpent/delvis åpent kurs
GEO:60.472024;8.468946
END:VEVENT
BEGIN:VEVENT
DTSTART;VALUE=DATE:20221011
DTEND;VALUE=DATE:20221013
DTSTAMP:20260422T201624
CREATED:20220913T104233Z
LAST-MODIFIED:20220923T072335Z
UID:9369-1665446400-1665619199@vivatselvmordsforebygging.net
SUMMARY:Asker\, Førstehjelp ved selvmordsfare
DESCRIPTION:Asker kommune arrangerer kurset Førstehjelp ved selvmordsfare. \nKurset er lukket. \nKontaktperson er Synøve Tronvik\, epost: Synove.Bjoroy.Tronvik@asker.kommune.no \n
URL:https://vivatselvmordsforebygging.net/event/asker-forstehjelp-ved-selvmordsfare-9/
LOCATION:Asker\, Asker\, Akershus\, 1373\, Norge
CATEGORIES:Kurs,Førstehjelp ved selvmordsfare,Øst,Åpent/delvis åpent kurs,Lukket kurs
GEO:59.8316353;10.4297237
END:VEVENT
BEGIN:VEVENT
DTSTART;VALUE=DATE:20221011
DTEND;VALUE=DATE:20221012
DTSTAMP:20260422T201624
CREATED:20220921T103155Z
LAST-MODIFIED:20220921T103155Z
UID:9420-1665446400-1665532799@vivatselvmordsforebygging.net
SUMMARY:Harstad\, Oppmerksom på selvmordstanker
DESCRIPTION:Harstad kommune arrangerer kurset Oppmerksom på selvmordstanker. \nKurset er for PPT\, og lukket for andre deltakere. \nKontaktperson er Herdis Tobiassen\, epost: herdis@tobiassen@harstad.kommune.no \n
URL:https://vivatselvmordsforebygging.net/event/harstad-oppmerksom-pa-selvmordstanker-5/
LOCATION:Harstad\, Norge
CATEGORIES:Kurs,Oppmerksom på selvmordstanker,Nord,Lukket kurs
GEO:60.472024;8.468946
END:VEVENT
BEGIN:VEVENT
DTSTART;TZID=Europe/Oslo:20221011T160000
DTEND;TZID=Europe/Oslo:20221011T200000
DTSTAMP:20260422T201624
CREATED:20220912T105311Z
LAST-MODIFIED:20220912T105311Z
UID:9353-1665504000-1665518400@vivatselvmordsforebygging.net
SUMMARY:Nittedal\, Oppmerksom på selvmordstanker
DESCRIPTION:I anledning Verdensdagen for Psykisk Helse\, arrangerer Nittedal kommune kurset Oppmerksom på selvmordstanker. \nKurset er åpent for alle å medlem seg på. Påmeldingsfrist er 26.09.22 \nInvitasjon 11.10.22 \nKontaktperson er Hilde Engebretsen\, epost: Hilde.Engebretsen@nittedal.kommune.no \n
URL:https://vivatselvmordsforebygging.net/event/nittedal-oppmerksom-pa-selvmordstanker-5/
LOCATION:Nittedal\, Akershus\, 1480\, Norge
CATEGORIES:Kurs,Oppmerksom på selvmordstanker,Øst,Åpent/delvis åpent kurs
GEO:60.0247146;10.942563
END:VEVENT
END:VCALENDAR