BEGIN:VCALENDAR
VERSION:2.0
PRODID:-//vivat - ECPv4.9.14//NONSGML v1.0//EN
CALSCALE:GREGORIAN
METHOD:PUBLISH
X-WR-CALNAME:vivat
X-ORIGINAL-URL:https://vivatselvmordsforebygging.net
X-WR-CALDESC:Events for vivat
BEGIN:VTIMEZONE
TZID:Europe/Oslo
BEGIN:DAYLIGHT
TZOFFSETFROM:+0100
TZOFFSETTO:+0200
TZNAME:CEST
DTSTART:20220327T010000
END:DAYLIGHT
BEGIN:STANDARD
TZOFFSETFROM:+0200
TZOFFSETTO:+0100
TZNAME:CET
DTSTART:20221030T010000
END:STANDARD
END:VTIMEZONE
BEGIN:VEVENT
DTSTART;VALUE=DATE:20221012
DTEND;VALUE=DATE:20221014
DTSTAMP:20260422T201747
CREATED:20220819T093647Z
LAST-MODIFIED:20220819T093647Z
UID:9250-1665532800-1665705599@vivatselvmordsforebygging.net
SUMMARY:Molde\, Førstehjelp ved selvmordsfare
DESCRIPTION:Helse Møre og Romsdal\, prehospital avdeling arrangerer kurset Førstehjelp ved selvmordsfare. \nKurset er delvis åpent\, eksterne deltakere kan ta kontakt for å høre om ledige plasser. \nKursinvitasjon 12-13.10.22 Molde \nKontaktperson er Bård Tokle\, mobil: 99699680\, epost: Bard.Tokle@helse-mr.no \n
URL:https://vivatselvmordsforebygging.net/event/molde-forstehjelp-ved-selvmordsfare-11/
LOCATION:Molde\, Molde\, Molde\, 6400\, Norge
CATEGORIES:Kurs,Førstehjelp ved selvmordsfare,Midt,Åpent/delvis åpent kurs
GEO:62.7484101;7.1268681
END:VEVENT
BEGIN:VEVENT
DTSTART;VALUE=DATE:20221012
DTEND;VALUE=DATE:20221014
DTSTAMP:20260422T201747
CREATED:20220831T084628Z
LAST-MODIFIED:20220831T084628Z
UID:9324-1665532800-1665705599@vivatselvmordsforebygging.net
SUMMARY:Harstad\, Førstehjelp ved selvmordsfare
DESCRIPTION:Harstad kommune arrangerer kurset Førstehjelp ved selvmordsfare. \nKurset er lukket. \nInvitasjon Harstad \nKontaktperson er Anja Sandvik\, epost: anja.sandvik@harstad.kommune.no \n
URL:https://vivatselvmordsforebygging.net/event/harstad-forstehjelp-ved-selvmordsfare-13/
LOCATION:Harstad\, Molde\, Norge
CATEGORIES:Kurs,Førstehjelp ved selvmordsfare,Nord,Lukket kurs
GEO:60.472024;8.468946
END:VEVENT
BEGIN:VEVENT
DTSTART;VALUE=DATE:20221012
DTEND;VALUE=DATE:20221014
DTSTAMP:20260422T201747
CREATED:20220928T120439Z
LAST-MODIFIED:20220928T120439Z
UID:9452-1665532800-1665705599@vivatselvmordsforebygging.net
SUMMARY:Bergen\, Førstehjelp ved selvmordsfare
DESCRIPTION:RVTS Vest arrangerer kurset Førstehjelp ved selvmordsfare. \nKurset er en del av kompetansehevingsprogrammet for ansatte i Bergen Røde Kors\, og er lukket for andre deltakere. \nKontaktperson er Hilde Sagstad\, epost: hildesagstad1@gmail.com \n
URL:https://vivatselvmordsforebygging.net/event/bergen-forstehjelp-ved-selvmordsfare-104/
LOCATION:Bergen\, Molde\, Norge
CATEGORIES:Kurs,Førstehjelp ved selvmordsfare,Vest,Lukket kurs
GEO:60.472024;8.468946
END:VEVENT
BEGIN:VEVENT
DTSTART;VALUE=DATE:20221013
DTEND;VALUE=DATE:20221015
DTSTAMP:20260422T201747
CREATED:20221004T075348Z
LAST-MODIFIED:20221004T075348Z
UID:9469-1665619200-1665791999@vivatselvmordsforebygging.net
SUMMARY:Oslo\, Førstehjelp ved selvmordsfare
DESCRIPTION:VID Oslo arrangerer kurset Førtsehjelp ved selvmordsfare. \nKurset er lukket. \nKontaktperson er Elisabeth Nilsen Aas\, epost: elisabeth.aas@vid.no \n
URL:https://vivatselvmordsforebygging.net/event/oslo-forstehjelp-ved-selvmordsfare-100/
LOCATION:Oslo\, Molde\, Norge
CATEGORIES:Kurs,Førstehjelp ved selvmordsfare,Øst,Lukket kurs
GEO:60.472024;8.468946
END:VEVENT
BEGIN:VEVENT
DTSTART;TZID=Europe/Oslo:20221013T083000
DTEND;TZID=Europe/Oslo:20221013T123000
DTSTAMP:20260422T201747
CREATED:20220928T074450Z
LAST-MODIFIED:20220928T074450Z
UID:9444-1665649800-1665664200@vivatselvmordsforebygging.net
SUMMARY:Trondheim\, Oppmerksom på selvmordstanker
DESCRIPTION:Voll Gårdsbarnehage arrangerer kurset Oppmerksom på selvmordstanker. \nKurset er lukket. \nKontaktperson er Lisbeth Størseth\, epost: lisbeth@vollgardsbarnehage.com \n
URL:https://vivatselvmordsforebygging.net/event/trondheim-oppmerksom-pa-selvmordstanker-34/
LOCATION:Trondheim\, Molde\, Norge
CATEGORIES:Kurs,Oppmerksom på selvmordstanker,Midt,Lukket kurs
GEO:60.472024;8.468946
END:VEVENT
END:VCALENDAR