BEGIN:VCALENDAR
VERSION:2.0
PRODID:-//vivat - ECPv4.9.14//NONSGML v1.0//EN
CALSCALE:GREGORIAN
METHOD:PUBLISH
X-WR-CALNAME:vivat
X-ORIGINAL-URL:https://vivatselvmordsforebygging.net
X-WR-CALDESC:Events for vivat
BEGIN:VTIMEZONE
TZID:Europe/Oslo
BEGIN:DAYLIGHT
TZOFFSETFROM:+0100
TZOFFSETTO:+0200
TZNAME:CEST
DTSTART:20220327T010000
END:DAYLIGHT
BEGIN:STANDARD
TZOFFSETFROM:+0200
TZOFFSETTO:+0100
TZNAME:CET
DTSTART:20221030T010000
END:STANDARD
END:VTIMEZONE
BEGIN:VEVENT
DTSTART;VALUE=DATE:20221020
DTEND;VALUE=DATE:20221022
DTSTAMP:20260422T201911
CREATED:20220803T084422Z
LAST-MODIFIED:20220803T084422Z
UID:9168-1666224000-1666396799@vivatselvmordsforebygging.net
SUMMARY:Tromsø\, Førstehjelp ved selvmordsfare
DESCRIPTION:Tromsø kommune arrangerer kurset Førstehjelp ved selvmordsfare. \nKurset er lukket. \nKontaktperson er Arja Mubanga-Bjørn\, epost: Arja.Bjorn@tromso.kommune.no \n
URL:https://vivatselvmordsforebygging.net/event/tromso-forstehjelp-ved-selvmordsfare-73/
LOCATION:Tromsø\, Norge
CATEGORIES:Kurs,Førstehjelp ved selvmordsfare,Nord,Lukket kurs
GEO:60.472024;8.468946
END:VEVENT
BEGIN:VEVENT
DTSTART;VALUE=DATE:20221020
DTEND;VALUE=DATE:20221022
DTSTAMP:20260422T201911
CREATED:20220815T121943Z
LAST-MODIFIED:20220815T121943Z
UID:9222-1666224000-1666396799@vivatselvmordsforebygging.net
SUMMARY:Trondheim\, Førstehjelp ved selvmordsfare
DESCRIPTION:AMK/Ambulansen ved St. Olavs Hospital arrangerer kurset Førstehjelp ved selvmordsfare. \nKurset er internt\, og lukket for andre deltakere. \nKontaktperson er Kristin Dragsten\, epost: KristinDragsten@hotmail.com \n
URL:https://vivatselvmordsforebygging.net/event/trondheim-forstehjelp-ved-selvmordsfare-62/
LOCATION:Trondheim\, Norge
CATEGORIES:Kurs,Førstehjelp ved selvmordsfare,Midt,Lukket kurs
END:VEVENT
BEGIN:VEVENT
DTSTART;VALUE=DATE:20221021
DTEND;VALUE=DATE:20221022
DTSTAMP:20260422T201911
CREATED:20220829T084204Z
LAST-MODIFIED:20220829T084204Z
UID:9280-1666310400-1666396799@vivatselvmordsforebygging.net
SUMMARY:Evenes\, Oppmerksom på selvmordstanker
DESCRIPTION:Forsvaret arrangerer kurset Oppmerksom på selvmordstanker. \nKurset er lukket. \nKontaktperson er Hanna Mikalsen\, epost: hanna.mikalsen@hotmail.com \n
URL:https://vivatselvmordsforebygging.net/event/evenes-oppmerksom-pa-selvmordstanker-6/
LOCATION:Evenes Flystasjon\, Norge
CATEGORIES:Kurs,Oppmerksom på selvmordstanker,Nord,Lukket kurs
GEO:60.472024;8.468946
END:VEVENT
END:VCALENDAR