BEGIN:VCALENDAR
VERSION:2.0
PRODID:-//vivat - ECPv4.9.14//NONSGML v1.0//EN
CALSCALE:GREGORIAN
METHOD:PUBLISH
X-WR-CALNAME:vivat
X-ORIGINAL-URL:https://vivatselvmordsforebygging.net
X-WR-CALDESC:Events for vivat
BEGIN:VTIMEZONE
TZID:Europe/Oslo
BEGIN:DAYLIGHT
TZOFFSETFROM:+0100
TZOFFSETTO:+0200
TZNAME:CEST
DTSTART:20220327T010000
END:DAYLIGHT
BEGIN:STANDARD
TZOFFSETFROM:+0200
TZOFFSETTO:+0100
TZNAME:CET
DTSTART:20221030T010000
END:STANDARD
END:VTIMEZONE
BEGIN:VEVENT
DTSTART;VALUE=DATE:20221024
DTEND;VALUE=DATE:20221026
DTSTAMP:20260422T201737
CREATED:20220818T105120Z
LAST-MODIFIED:20220818T105120Z
UID:9239-1666569600-1666742399@vivatselvmordsforebygging.net
SUMMARY:Karmøy\, Førstehjelp ved selvmordsfare
DESCRIPTION:Karmøy kommune arrangerer kurset Førstehjelp ved selvmordsfare. \nKurset er lukket. \nKontaktperson er Marion Bjørgan\, epost: Marion.Bjorgan@bergen.kommune.no \n
URL:https://vivatselvmordsforebygging.net/event/karmoy-forstehjelp-ved-selvmordsfare-5/
LOCATION:Karmøy\, Norge
CATEGORIES:Kurs,Førstehjelp ved selvmordsfare,Vest,Lukket kurs
GEO:60.472024;8.468946
END:VEVENT
BEGIN:VEVENT
DTSTART;VALUE=DATE:20221025
DTEND;VALUE=DATE:20221027
DTSTAMP:20260422T201737
CREATED:20220803T113913Z
LAST-MODIFIED:20220803T113913Z
UID:9192-1666656000-1666828799@vivatselvmordsforebygging.net
SUMMARY:Trondheim\, Førstehjelp ved selvmordsfare
DESCRIPTION:Blå Kors Lade behandlingssenter arrangerer kurset Førstehjelp ved selvmordsfare. \nKurset er lukket. \nKontaktperson er June Almli\, epost: June.Almli@blakors.no \n
URL:https://vivatselvmordsforebygging.net/event/trondheim-forstehjelp-ved-selvmordsfare-59/
LOCATION:Trondheim\, Norge
CATEGORIES:Kurs,Førstehjelp ved selvmordsfare,Midt,Lukket kurs
END:VEVENT
BEGIN:VEVENT
DTSTART;VALUE=DATE:20221025
DTEND;VALUE=DATE:20221026
DTSTAMP:20260422T201737
CREATED:20220919T084148Z
LAST-MODIFIED:20220919T084148Z
UID:9403-1666656000-1666742399@vivatselvmordsforebygging.net
SUMMARY:Steinkjer\, Oppmerksom på selvmordstanker
DESCRIPTION:Trøndelag fylkeskommune arrangerer kurset Oppmerksom på selvmordstanker. \nKurset er lukket. \nKontaktperson er Rita Småvik\, epost: Rita.Smavik@stolav.no \n
URL:https://vivatselvmordsforebygging.net/event/steinkjer-oppmerksom-pa-selvmordstanker/
LOCATION:Steinkjer\, Norge
CATEGORIES:Kurs,Oppmerksom på selvmordstanker,Midt,Lukket kurs
GEO:60.472024;8.468946
END:VEVENT
BEGIN:VEVENT
DTSTART;VALUE=DATE:20221025
DTEND;VALUE=DATE:20221027
DTSTAMP:20260422T201737
CREATED:20220919T103140Z
LAST-MODIFIED:20220919T103140Z
UID:9407-1666656000-1666828799@vivatselvmordsforebygging.net
SUMMARY:Sandvika\, Førstehjelp ved selvmordsfare
DESCRIPTION:Bærum kommune arrangerer kurset Førstehjelp ved selvmordsfare. \nKurset er lukket. \nKontaktperson er Camilla Weedon\, epost: camilla.weedon@gmail.com \n  \n
URL:https://vivatselvmordsforebygging.net/event/sandvika-forstehjelp-ved-selvmordsfare-10/
LOCATION:Sandvika\, Norge
CATEGORIES:Kurs,Førstehjelp ved selvmordsfare,Øst,Lukket kurs
GEO:60.472024;8.468946
END:VEVENT
BEGIN:VEVENT
DTSTART;VALUE=DATE:20221025
DTEND;VALUE=DATE:20221027
DTSTAMP:20260422T201737
CREATED:20221004T092922Z
LAST-MODIFIED:20221004T092922Z
UID:9472-1666656000-1666828799@vivatselvmordsforebygging.net
SUMMARY:Sandvika\, Førstehjelp ved selvmordsfare
DESCRIPTION:Bærum kommune arrangerer kurset Førstehjelp ved selvmordsfare. \nKurset er lukket. \nKontaktperson er Camilla Weedon\, epost: camilla.weedon@gmail.com \n
URL:https://vivatselvmordsforebygging.net/event/sandvika-forstehjelp-ved-selvmordsfare-11/
LOCATION:Sandvika\, Norge
CATEGORIES:Kurs,Førstehjelp ved selvmordsfare,Øst,Lukket kurs
GEO:60.472024;8.468946
END:VEVENT
END:VCALENDAR