BEGIN:VCALENDAR
VERSION:2.0
PRODID:-//vivat - ECPv4.9.14//NONSGML v1.0//EN
CALSCALE:GREGORIAN
METHOD:PUBLISH
X-WR-CALNAME:vivat
X-ORIGINAL-URL:https://vivatselvmordsforebygging.net
X-WR-CALDESC:Events for vivat
BEGIN:VTIMEZONE
TZID:Europe/Oslo
BEGIN:DAYLIGHT
TZOFFSETFROM:+0100
TZOFFSETTO:+0200
TZNAME:CEST
DTSTART:20220327T010000
END:DAYLIGHT
BEGIN:STANDARD
TZOFFSETFROM:+0200
TZOFFSETTO:+0100
TZNAME:CET
DTSTART:20221030T010000
END:STANDARD
END:VTIMEZONE
BEGIN:VEVENT
DTSTART;VALUE=DATE:20221026
DTEND;VALUE=DATE:20221028
DTSTAMP:20260422T201710
CREATED:20220912T092045Z
LAST-MODIFIED:20220912T092045Z
UID:9347-1666742400-1666915199@vivatselvmordsforebygging.net
SUMMARY:Sandefjord\, Førstehjelp ved selvmordsfare
DESCRIPTION:Sandefjord Kirkelige Fellesråd arrangerer kurset Førstehjelp ved selvmordsfare. \nKurset er for ansatte i kirka\, og lukket for andre deltakere. \nKontaktperson er Kjell Atle Kjønnø\, epost: kjatle@sandefjordbredband.net \n
URL:https://vivatselvmordsforebygging.net/event/sandefjord-forstehjelp-ved-selvmordsfare-16/
LOCATION:Sandefjord\, Storgata 20\, Sandefjord\, Vestfold\, 3210\, Norge
CATEGORIES:Kurs,Førstehjelp ved selvmordsfare,Sør,Lukket kurs
GEO:59.1260689;10.221326
X-APPLE-STRUCTURED-LOCATION;VALUE=URI;X-ADDRESS=Sandefjord Storgata 20 Sandefjord Vestfold 3210 Norge;X-APPLE-RADIUS=500;X-TITLE=Storgata 20:geo:10.221326,59.1260689
END:VEVENT
BEGIN:VEVENT
DTSTART;VALUE=DATE:20221027
DTEND;VALUE=DATE:20221029
DTSTAMP:20260422T201710
CREATED:20220826T104155Z
LAST-MODIFIED:20220826T104155Z
UID:9269-1666828800-1667001599@vivatselvmordsforebygging.net
SUMMARY:Eidsvoll\, Førstehjelp ved selvmordsfare
DESCRIPTION:Eidsvoll kommune arrangerer kurset Førstehjelp ved selvmordsfare. \nKurset er for kommunens ansatte innen fysioterapi\, ergoterapi\, friskliv og mestring\, psykisk helse og rus\, aktivitetssenter for eldre. Det er lukket for andre deltakere. \nKontaktperson er Vera Hild\, epost: vera.hild@eidsvoll.kommune.no \n
URL:https://vivatselvmordsforebygging.net/event/eidsvoll-forstehjelp-ved-selvmordsfare/
LOCATION:Eidsvoll\, Vestfold\, Norge
CATEGORIES:Kurs,Førstehjelp ved selvmordsfare,Øst,Lukket kurs
GEO:60.472024;8.468946
END:VEVENT
BEGIN:VEVENT
DTSTART;VALUE=DATE:20221027
DTEND;VALUE=DATE:20221029
DTSTAMP:20260422T201710
CREATED:20220916T074423Z
LAST-MODIFIED:20220916T074423Z
UID:9383-1666828800-1667001599@vivatselvmordsforebygging.net
SUMMARY:Isdalstø\, Førstehjelp ved selvmordsfare
DESCRIPTION:Fedje\, Austrheim og Modalen kommune arrangerer kurset Førstehjelp ved selvmordsfare. \nInvitasjon 27-28.10.22 \nKurset er lukket\, ved ledig kapasitet kan andre delta. \nKontaktperson er Anita Hatlem Villanger\, epost: anita.hatlem.villanger@fedje.kommune.no \n
URL:https://vivatselvmordsforebygging.net/event/isdalsto-forstehjelp-ved-selvmordsfare-3/
LOCATION:Isdalstø\, Vestfold
CATEGORIES:Kurs,Førstehjelp ved selvmordsfare,Vest
END:VEVENT
BEGIN:VEVENT
DTSTART;VALUE=DATE:20221027
DTEND;VALUE=DATE:20221028
DTSTAMP:20260422T201710
CREATED:20220919T082323Z
LAST-MODIFIED:20220919T084416Z
UID:9390-1666828800-1666915199@vivatselvmordsforebygging.net
SUMMARY:Herøy\, Oppmerksom på selvmordstanker
DESCRIPTION:Den Norske Kyrkja arrangerer kurset Oppmerksom på selvmordstanker. \nKurset er åpent for alle å melde seg på. \nKontaktperson er Ragnhild Danbolt Øygård\, tlf: 41860784 \n
URL:https://vivatselvmordsforebygging.net/event/heroy-oppmerksom-pa-selvmordstanker/
LOCATION:Herøy\, Møre og Romsdal\, 6090\, Norge
CATEGORIES:Kurs,Oppmerksom på selvmordstanker,Midt,Lukket kurs
GEO:62.3398553;5.6234416
END:VEVENT
END:VCALENDAR