BEGIN:VCALENDAR
VERSION:2.0
PRODID:-//vivat - ECPv4.9.14//NONSGML v1.0//EN
CALSCALE:GREGORIAN
METHOD:PUBLISH
X-WR-CALNAME:vivat
X-ORIGINAL-URL:https://vivatselvmordsforebygging.net
X-WR-CALDESC:Events for vivat
BEGIN:VTIMEZONE
TZID:Europe/Oslo
BEGIN:DAYLIGHT
TZOFFSETFROM:+0100
TZOFFSETTO:+0200
TZNAME:CEST
DTSTART:20220327T010000
END:DAYLIGHT
BEGIN:STANDARD
TZOFFSETFROM:+0200
TZOFFSETTO:+0100
TZNAME:CET
DTSTART:20221030T010000
END:STANDARD
END:VTIMEZONE
BEGIN:VEVENT
DTSTART;VALUE=DATE:20221029
DTEND;VALUE=DATE:20221030
DTSTAMP:20260422T201451
CREATED:20220912T072421Z
LAST-MODIFIED:20220912T072421Z
UID:9336-1667001600-1667087999@vivatselvmordsforebygging.net
SUMMARY:Sandefjord\, Oppmerksom på selvmordstanker
DESCRIPTION:Bugården menighet og Sandefjord kommune arrangerer kurset Oppmerksom på selvmordstanker. \nKurset er for ansatte og frivillige i kirken. Åpent for andre ved ledige plasser. \nKontaktperson er Gunnbjørg Furuset\, epost: furuset@online.no \n  \n
URL:https://vivatselvmordsforebygging.net/event/sandefjord-oppmerksom-pa-selvmordstanker-4/
LOCATION:Sandefjord\, Storgata 20\, Sandefjord\, Vestfold\, 3210\, Norge
CATEGORIES:Kurs,Oppmerksom på selvmordstanker,Sør,Åpent/delvis åpent kurs
GEO:59.1260689;10.221326
X-APPLE-STRUCTURED-LOCATION;VALUE=URI;X-ADDRESS=Sandefjord Storgata 20 Sandefjord Vestfold 3210 Norge;X-APPLE-RADIUS=500;X-TITLE=Storgata 20:geo:10.221326,59.1260689
END:VEVENT
BEGIN:VEVENT
DTSTART;TZID=Europe/Oslo:20221029T090000
DTEND;TZID=Europe/Oslo:20221030T163000
DTSTAMP:20260422T201451
CREATED:20220804T081645Z
LAST-MODIFIED:20220810T103238Z
UID:9195-1667034000-1667147400@vivatselvmordsforebygging.net
SUMMARY:Oslo\, Førstehjelp ved selvmordsfare
DESCRIPTION:Skeiv Ungdom arrangerer kurset Førstehjelp ved selvmordsfare. \nKurset er åpent for alle å melde seg på. \nKontaktperson er Nina Danielsen\, epost: ninadanielsen2@gmail.com \n
URL:https://vivatselvmordsforebygging.net/event/oslo-forstehjelp-ved-selvmordsfare-95/
LOCATION:Oslo\, Vestfold\, Norge
CATEGORIES:Kurs,Førstehjelp ved selvmordsfare,Øst
GEO:60.472024;8.468946
END:VEVENT
END:VCALENDAR