BEGIN:VCALENDAR
VERSION:2.0
PRODID:-//vivat - ECPv4.9.14//NONSGML v1.0//EN
CALSCALE:GREGORIAN
METHOD:PUBLISH
X-WR-CALNAME:vivat
X-ORIGINAL-URL:https://vivatselvmordsforebygging.net
X-WR-CALDESC:Events for vivat
BEGIN:VTIMEZONE
TZID:Europe/Oslo
BEGIN:DAYLIGHT
TZOFFSETFROM:+0100
TZOFFSETTO:+0200
TZNAME:CEST
DTSTART:20220327T010000
END:DAYLIGHT
BEGIN:STANDARD
TZOFFSETFROM:+0200
TZOFFSETTO:+0100
TZNAME:CET
DTSTART:20221030T010000
END:STANDARD
END:VTIMEZONE
BEGIN:VEVENT
DTSTART;VALUE=DATE:20221031
DTEND;VALUE=DATE:20221105
DTSTAMP:20260422T184526
CREATED:20220817T130308Z
LAST-MODIFIED:20220817T130414Z
UID:9236-1667174400-1667606399@vivatselvmordsforebygging.net
SUMMARY:Hell\, Kurslederkurs Førstehjelp ved selvmordsfare
DESCRIPTION:Se https://vivatselvmordsforebygging.net/kurslederkurs-forstehjelpskurset/ \nSøknadsfrist: 04.09.22 \n
URL:https://vivatselvmordsforebygging.net/event/hell-kurslederkurs-forstehjelp-ved-selvmordsfare/
LOCATION:Hell\, Trøndelag\, Norge
CATEGORIES:Kurs,Førstehjelp ved selvmordsfare,Kurslederkurs
END:VEVENT
BEGIN:VEVENT
DTSTART;VALUE=DATE:20221101
DTEND;VALUE=DATE:20221103
DTSTAMP:20260422T184526
CREATED:20220503T102252Z
LAST-MODIFIED:20220503T102252Z
UID:9014-1667260800-1667433599@vivatselvmordsforebygging.net
SUMMARY:Lillestrøm\, Førstehjelp ved selvmordsfare
DESCRIPTION:Kriminalomsorgens høgskole og utdanningssenter arrangerer kurset Førstehjelp ved selvmordsfare. \nKurset er for aspiranter ved utdanninga\, og er lukket for andre deltakere. \nKontaktperson er Vidar Skogvoll\, epost: vidar.skogvoll@krus.no \n
URL:https://vivatselvmordsforebygging.net/event/lillestrom-forstehjelp-ved-selvmordsfare-10/
LOCATION:Lillestrøm\, Trøndelag
CATEGORIES:Kurs,Førstehjelp ved selvmordsfare,Øst,Lukket kurs
END:VEVENT
BEGIN:VEVENT
DTSTART;VALUE=DATE:20221102
DTEND;VALUE=DATE:20221103
DTSTAMP:20260422T184526
CREATED:20220331T111042Z
LAST-MODIFIED:20220331T111042Z
UID:8938-1667347200-1667433599@vivatselvmordsforebygging.net
SUMMARY:Oslo\, Oppmerksom på selvmordstanker
DESCRIPTION:VID Oslo arrangerer kurset Oppmerksom på selvmordstanker. \nKurset er for studenter ved deltid sosialt arbeid\, og lukket for andre deltakere. \nKontaktperson er Elisabeth Nilsen Aas\, epost: elisabeth.aas@vid.no \n  \n
URL:https://vivatselvmordsforebygging.net/event/oslo-oppmerksom-pa-selvmordstanker-30/
LOCATION:Oslo\, Trøndelag\, Norge
CATEGORIES:Kurs,Oppmerksom på selvmordstanker,Øst,Lukket kurs
GEO:60.472024;8.468946
END:VEVENT
BEGIN:VEVENT
DTSTART;VALUE=DATE:20221102
DTEND;VALUE=DATE:20221103
DTSTAMP:20260422T184526
CREATED:20220803T084645Z
LAST-MODIFIED:20220803T084645Z
UID:9172-1667347200-1667433599@vivatselvmordsforebygging.net
SUMMARY:Tromsø\, Oppmerksom på selvmordstanker
DESCRIPTION:Tromsø kommune arrangerer kurset Oppmerksom på selvmordstanker på Skjelnan skole. \nKurset er lukket. \nKontaktperson er Arja Mubanga-Bjørn\, epost: Arja.Bjorn@tromso.kommune.no \n
URL:https://vivatselvmordsforebygging.net/event/tromso-oppmerksom-pa-selvmordstanker-35/
LOCATION:Tromsø\, Trøndelag\, Norge
CATEGORIES:Kurs,Oppmerksom på selvmordstanker,Nord,Lukket kurs
GEO:60.472024;8.468946
END:VEVENT
BEGIN:VEVENT
DTSTART;VALUE=DATE:20221102
DTEND;VALUE=DATE:20221103
DTSTAMP:20260422T184526
CREATED:20220803T084756Z
LAST-MODIFIED:20220803T084756Z
UID:9174-1667347200-1667433599@vivatselvmordsforebygging.net
SUMMARY:Tromsø\, Oppmerksom på selvmordstanker
DESCRIPTION:Tromsø kommune arrangerer kurset Oppmerksom på selvmordstanker på Bjerkaker skole. \nKurset er lukket. \nKontaktperson er Arja Mubanga-Bjørn\, epost: Arja.Bjorn@tromso.kommune.no \n
URL:https://vivatselvmordsforebygging.net/event/tromso-oppmerksom-pa-selvmordstanker-36/
LOCATION:Tromsø\, Trøndelag\, Norge
CATEGORIES:Kurs,Oppmerksom på selvmordstanker,Nord,Lukket kurs
GEO:60.472024;8.468946
END:VEVENT
END:VCALENDAR