BEGIN:VCALENDAR
VERSION:2.0
PRODID:-//vivat - ECPv4.9.14//NONSGML v1.0//EN
CALSCALE:GREGORIAN
METHOD:PUBLISH
X-WR-CALNAME:vivat
X-ORIGINAL-URL:https://vivatselvmordsforebygging.net
X-WR-CALDESC:Events for vivat
BEGIN:VTIMEZONE
TZID:Europe/Oslo
BEGIN:DAYLIGHT
TZOFFSETFROM:+0100
TZOFFSETTO:+0200
TZNAME:CEST
DTSTART:20220327T010000
END:DAYLIGHT
BEGIN:STANDARD
TZOFFSETFROM:+0200
TZOFFSETTO:+0100
TZNAME:CET
DTSTART:20221030T010000
END:STANDARD
END:VTIMEZONE
BEGIN:VEVENT
DTSTART;VALUE=DATE:20221115
DTEND;VALUE=DATE:20221117
DTSTAMP:20260422T184408
CREATED:20221021T115609Z
LAST-MODIFIED:20221021T115609Z
UID:9517-1668470400-1668643199@vivatselvmordsforebygging.net
SUMMARY:Froland\, Førstehjelp ved selvmordsfare
DESCRIPTION:Kriminalomsorgens høgskole og utdanningssenter KRUS arrangerer kurset Førstehjelp ved selvmordsfare. \nKurset er for ansatte ved Agder Fengsel\, avd. Froland. \nKontaktperson er Anne Natrud\, epost: anne.elisabeth.natrud@krus.no \n
URL:https://vivatselvmordsforebygging.net/event/froland-forstehjelp-ved-selvmordsfare/
LOCATION:Froland\, Norge
CATEGORIES:Kurs,Førstehjelp ved selvmordsfare,Sør,Lukket kurs
GEO:60.472024;8.468946
END:VEVENT
BEGIN:VEVENT
DTSTART;VALUE=DATE:20221116
DTEND;VALUE=DATE:20221117
DTSTAMP:20260422T184408
CREATED:20220803T085408Z
LAST-MODIFIED:20220803T085408Z
UID:9184-1668556800-1668643199@vivatselvmordsforebygging.net
SUMMARY:Tromsø\, Oppmerksom på selvmordstanker
DESCRIPTION:Tromsø kommune arrangerer kurset Oppmerksom på selvmordstanker på Tromstun skole. \nKurset er lukket. \nKontaktperson er Arja Mubanga-Bjørn\, epost: Arja.Bjorn@tromso.kommune.no \n
URL:https://vivatselvmordsforebygging.net/event/tromso-oppmerksom-pa-selvmordstanker-41/
LOCATION:Tromsø\, Norge
CATEGORIES:Kurs,Oppmerksom på selvmordstanker,Nord,Lukket kurs
GEO:60.472024;8.468946
END:VEVENT
BEGIN:VEVENT
DTSTART;VALUE=DATE:20221116
DTEND;VALUE=DATE:20221118
DTSTAMP:20260422T184408
CREATED:20220915T073048Z
LAST-MODIFIED:20220915T073048Z
UID:9374-1668556800-1668729599@vivatselvmordsforebygging.net
SUMMARY:Eiken\, Førstehjelp ved selvmordsfare
DESCRIPTION:Sørlandets rehabiliteringssenter arrangerer kurset Førstehjelp ved selvmordsfare. \nKurset er lukket. \nKontaktperson er Gro Boge Aasheim\, epost: gro.aasheim@sorrehab.no \n
URL:https://vivatselvmordsforebygging.net/event/eiken-forstehjelp-ved-selvmordsfare-5/
LOCATION:Eiken
CATEGORIES:Kurs,Førstehjelp ved selvmordsfare,Sør
END:VEVENT
BEGIN:VEVENT
DTSTART;VALUE=DATE:20221116
DTEND;VALUE=DATE:20221117
DTSTAMP:20260422T184408
CREATED:20221110T140313Z
LAST-MODIFIED:20221110T140313Z
UID:9577-1668556800-1668643199@vivatselvmordsforebygging.net
SUMMARY:Bodø\, Oppmerksom på selvmordstanker
DESCRIPTION:Stormen bibliotek arrangerer kurset Oppmerksom på selvmordstanker. \nKurset er lukket. \nKontaktperson er Torunn Blokhus\, epost: torunn.blokhus@sbnett.no \n
URL:https://vivatselvmordsforebygging.net/event/bodo-oppmerksom-pa-selvmordstanker-13/
LOCATION:Bodø\, Norge
CATEGORIES:Kurs,Oppmerksom på selvmordstanker,Nord,Lukket kurs
GEO:60.472024;8.468946
END:VEVENT
END:VCALENDAR