BEGIN:VCALENDAR
VERSION:2.0
PRODID:-//vivat - ECPv4.9.14//NONSGML v1.0//EN
CALSCALE:GREGORIAN
METHOD:PUBLISH
X-WR-CALNAME:vivat
X-ORIGINAL-URL:https://vivatselvmordsforebygging.net
X-WR-CALDESC:Events for vivat
BEGIN:VTIMEZONE
TZID:Europe/Oslo
BEGIN:DAYLIGHT
TZOFFSETFROM:+0100
TZOFFSETTO:+0200
TZNAME:CEST
DTSTART:20220327T010000
END:DAYLIGHT
BEGIN:STANDARD
TZOFFSETFROM:+0200
TZOFFSETTO:+0100
TZNAME:CET
DTSTART:20221030T010000
END:STANDARD
END:VTIMEZONE
BEGIN:VEVENT
DTSTART;VALUE=DATE:20221121
DTEND;VALUE=DATE:20221123
DTSTAMP:20260422T184526
CREATED:20221115T160917Z
LAST-MODIFIED:20221115T160917Z
UID:9593-1668988800-1669161599@vivatselvmordsforebygging.net
SUMMARY:Fjaler\, Førstehjelp ved selvmordsfare
DESCRIPTION:Askvoll og Fjaler kommune arrangerer kurset Førstehjelp ved selvmordsfare. \nKurset er for ansatte i kommunen\, og lukket for andre deltakere. \nKontaktperson er Jenny Kjøsnes\, epost: jenny_kjo@hotmail.com \n  \n
URL:https://vivatselvmordsforebygging.net/event/fjaler-forstehjelp-ved-selvmordsfare/
LOCATION:Fjaler\, Norge
CATEGORIES:Kurs,Førstehjelp ved selvmordsfare,Vest,Lukket kurs
GEO:60.472024;8.468946
END:VEVENT
BEGIN:VEVENT
DTSTART;TZID=Europe/Oslo:20221121T163000
DTEND;TZID=Europe/Oslo:20221121T203000
DTSTAMP:20260422T184526
CREATED:20221005T122408Z
LAST-MODIFIED:20221027T114532Z
UID:9482-1669048200-1669062600@vivatselvmordsforebygging.net
SUMMARY:Meløy\, Oppmerksom på selvmordstanker
DESCRIPTION:Meløy kommune arrangerer kurset Oppmerksom på selvmordstanker\, i forbindelse med Verdensdagen for psykisk helse. \nKurset er åpent for alle å melde seg på. \nKontaktpersoner er Maritha Johnsen Birkelund (kursleder): marithajb_89@hotmail.com og Marlene Blomstereng Karlsen (hovedarrangør for kommunen): marlene.blomstereng.karlsen@meloy.kommune.no \n
URL:https://vivatselvmordsforebygging.net/event/meloy-oppmerksom-pa-selvmordstanker-5/
LOCATION:Halsa skole\, Norge
CATEGORIES:Kurs,Oppmerksom på selvmordstanker,Nord,Åpent/delvis åpent kurs
GEO:60.472024;8.468946
END:VEVENT
END:VCALENDAR