BEGIN:VCALENDAR
VERSION:2.0
PRODID:-//vivat - ECPv4.9.14//NONSGML v1.0//EN
CALSCALE:GREGORIAN
METHOD:PUBLISH
X-WR-CALNAME:vivat
X-ORIGINAL-URL:https://vivatselvmordsforebygging.net
X-WR-CALDESC:Events for vivat
BEGIN:VTIMEZONE
TZID:Europe/Oslo
BEGIN:DAYLIGHT
TZOFFSETFROM:+0100
TZOFFSETTO:+0200
TZNAME:CEST
DTSTART:20220327T010000
END:DAYLIGHT
BEGIN:STANDARD
TZOFFSETFROM:+0200
TZOFFSETTO:+0100
TZNAME:CET
DTSTART:20221030T010000
END:STANDARD
END:VTIMEZONE
BEGIN:VEVENT
DTSTART;VALUE=DATE:20221129
DTEND;VALUE=DATE:20221201
DTSTAMP:20260422T184337
CREATED:20221012T090750Z
LAST-MODIFIED:20221012T091146Z
UID:9491-1669680000-1669852799@vivatselvmordsforebygging.net
SUMMARY:Bergen\, Førstehjelp ved selvmordsfare
DESCRIPTION:KRUS arrangerer kurset Førstehjelp ved selvmordsfare. \nKurset er for ansatte i kriminalomsorgen\, og lukket for andre deltakere. \nKontaktperson er Thomas W. Johannesen\, epost: thomas.johannesen@kriminalomsorg.no \n
URL:https://vivatselvmordsforebygging.net/event/bergen-forstehjelp-ved-selvmordsfare-107/
LOCATION:Bergen\, Norge
CATEGORIES:Kurs,Førstehjelp ved selvmordsfare,Vest,Lukket kurs
GEO:60.472024;8.468946
END:VEVENT
BEGIN:VEVENT
DTSTART;VALUE=DATE:20221130
DTEND;VALUE=DATE:20221201
DTSTAMP:20260422T184337
CREATED:20220829T102528Z
LAST-MODIFIED:20220829T102528Z
UID:9301-1669766400-1669852799@vivatselvmordsforebygging.net
SUMMARY:Tønsberg\, Oppmerksom på selvmordstanker
DESCRIPTION:Vestfold og Telemark fylkeskommune arrangerer kurset Oppmerksom på selvmordstanker. \nKurset er lukket. \nKontaktperson er  Elin Anne Gunleiksrud\, epost: elin.gunleiksrud@vtfk.no \n
URL:https://vivatselvmordsforebygging.net/event/tonsberg-oppmerksom-pa-selvmordstanker-3/
LOCATION:Tønsberg\, Norge
CATEGORIES:Kurs,Oppmerksom på selvmordstanker,Øst,Lukket kurs
GEO:60.472024;8.468946
END:VEVENT
BEGIN:VEVENT
DTSTART;VALUE=DATE:20221130
DTEND;VALUE=DATE:20221201
DTSTAMP:20260422T184337
CREATED:20221111T124243Z
LAST-MODIFIED:20221111T124243Z
UID:9587-1669766400-1669852799@vivatselvmordsforebygging.net
SUMMARY:Oslo\, Oppmerksom på selvmordstanker
DESCRIPTION:VID arrangerer kurset Oppmerksom på selvmordstanker. \nKurset er for bachelor i sykepleie\, og er lukket for andre deltakere. \nKontaktperson er Elisabeth Nilsen Aas\, epost: elisabeth.aas@vid.no \n
URL:https://vivatselvmordsforebygging.net/event/oslo-oppmerksom-pa-selvmordstanker-41/
LOCATION:Oslo\, Norge
CATEGORIES:Kurs,Oppmerksom på selvmordstanker,Øst,Lukket kurs
GEO:60.472024;8.468946
END:VEVENT
END:VCALENDAR